{"text_format":"1","workbook":"xlsx","n_sheets":6,"sheets":["OpenFile","TopSheet","Timedata","WorkRest","Score","WRforGraph"],"not_rendered":{"charts":8,"images":3,"macros":1,"external_links":0,"defined_names":17,"comments":0,"pivot_tables":0},"unopened":[],"bounds":{"document_bytes":16777216,"sheet_cells":100000,"rows_first":2000,"rows_last":500,"rows_between":2000,"halvings":0,"cell_chars":16384,"cell_head_chars":4096},"cells_cut":0,"cells_raw":0,"read":"whole","date_system":"1900"}

{"sheet":"OpenFile","index":0,"n_rows":2,"n_cols":1,"rows_kept":2,"cut":false,"hidden":false,"merged":[]}
["Past Here!"]
["Open Time data(csv), and copy all data, Past data here!"]

{"sheet":"TopSheet","index":1,"n_rows":21,"n_cols":12,"rows_kept":21,"cut":false,"hidden":false,"merged":[[5,11,6,11],[7,11,10,11]]}
[]
[]
[null,null,null,null,null,null,null,null,null,null,null,"Last update 2006/7/13"]
[]
[]
[null,null,null,null,null,null,null,null,null,null,null,"comments of the game\nand Date"]
[null,null,null,null,null,"Player's Name(s)",null,"Country"]
[null,null,null,null,null,null,null,null,null,null,null,{"$f":"OpenFile!L2","v":0}]
[null,null,null,null,1,{"$f":"OpenFile!C2","v":0},null,{"$f":"OpenFile!D2","v":0}]
[]
[null,null,null,null,2,{"$f":"OpenFile!E2","v":0},null,{"$f":"OpenFile!F2","v":0}]
[]
[]
[null,null,null,null,null,null,null,null,null,null,null,"Date of Analysis"]
[null,null,null,null,null,null,null,null,null,null,null,{"$f":"OpenFile!K2","v":"00:00:00"}]
[]
[null,null,null,null,null,"Player's Name(s)",null,"Country"]
[null,null,null,null,null,null,null,null,null,null,null,"Analysis by"]
[null,null,null,null,1,{"$f":"OpenFile!G2","v":0},null,{"$f":"OpenFile!H2","v":0},null,null,null,{"$f":"OpenFile!M2","v":0}]
[]
[null,null,null,null,2,{"$f":"OpenFile!I2","v":0},null,{"$f":"OpenFile!J2","v":0}]

{"sheet":"Timedata","index":2,"n_rows":263,"n_cols":21,"rows_kept":263,"cut":false,"hidden":false,"merged":[[9,14,9,16],[9,19,9,20],[11,11,11,12],[75,17,75,18],[7,9,7,10],[8,9,8,10]]}
["時間分析用データシート"]
["Sheet for Timedata"]
[]
[null,null,null,null,null,null,null,null,null,null,null,null,"winner",null,14,4,null,"now row",{"$f":"B8+13","v":13},"<-",13]
[null,null,null,null,null,null,null,null,null,null,null,null,"working P",null,14,2,null,"now col",1]
[null,null,null,null,null,null,null,null,null,null,null,null,"Resting P",null,14,3,null,"server","here"]
[null,null,null,null,null,null,null,null,null,null,null,null,"num of strokes",null,14,5,null,"points",null,"-"]
["イニング数",{"$f":"COUNT(B14:B263)","v":0},null,null,null,null,null,"A","Player's Name",{"$f":"TopSheet!F9&\"/\"&TopSheet!F11","v":"0/0"},null,null,null,null,null,null,2,null,1,"game"]
[null,"Working P.","Resting P.",null,"Num of Strokes",null,null,"B","Player's Name",{"$f":"TopSheet!F19&\"/\"&TopSheet!F21","v":"0/0"},null,null,null,null,"frequency"]
["合計",{"$f":"SUM(B14:B263)","v":0},{"$f":"SUM(C14:C263)","v":0},null,{"$f":"SUM(E14:E263)","v":0},null,null,null,null,null,null,null,null,null,"Working P",null,null,null,null,"Resting P"]
["平均",{"$f":"B10/B8","v":{"$error":"#DIV/0!"}},{"$f":"C10/(B8-U13)","v":{"$error":"#DIV/0!"}},null,{"$f":"E10/B8","v":{"$error":"#DIV/0!"}},null,null,null,null,null,null,null,null,null,null,null,"Winner",null,"Winner"]
[null,null,null,null,null,null,null,"Sorted Data","この欄にデータをコピーし、winnerでソートする",null,null,"Round",null,null,"Time(s)","sum of frequency"," / ","sum of frequency"," / ","sum of Frequency","frequency"]
["Inning No.","Working P.","Resting P.","winner","Num of Strokes","Result",null,"Working P.","Resting P.","winner","Num of Strokes","Working P.(unit 1sec)","Resting Period.(Unit 1sec)",null,0,{"$f":"COUNTIF(winner1work,\"<=\"&O13)","v":0},{"$f":"P13","v":0},{"$f":"COUNTIF(winner2work,\"<=\"&O13)","v":0},{"$f":"R13","v":0},{"$f":"COUNTIF(rest,\"<=\"&O13)","v":0},{"$f":"T13","v":0}]
[1,{"$f":"IF(OpenFile!H3=\"\",\"\",OpenFile!H3)","v":""},{"$f":"IF(OpenFile!I3=\"\",\"\",OpenFile!I3)","v":""},{"$f":"IF(OpenFile!D3=\"\",\"\",OpenFile!D3)","v":""},{"$f":"IF(OpenFile!G3=\"\",\"\",OpenFile!G3)","v":""},{"$f":"IF(OpenFile!E3=\"\",\"\",OpenFile!E3)","v":""},null,null,null,null,null,{"$f":"ROUND(H14,0)","v":0},{"$f":"ROUND(I14,0)","v":0},null,1,{"$f":"COUNTIF(winner1work,\"<\"&O14)","v":0},{"$f":"P14-P13","v":0},{"$f":"COUNTIF(winner2work,\"<\"&O14)","v":0},{"$f":"R14-R13","v":0},{"$f":"COUNTIF(rest,\"<\"&O14)","v":0},{"$f":"T14-T13","v":0}]
[2,{"$f":"IF(OpenFile!H4=\"\",\"\",OpenFile!H4)","v":""},{"$f":"IF(OpenFile!I4=\"\",\"\",OpenFile!I4)","v":""},{"$f":"IF(OpenFile!D4=\"\",\"\",OpenFile!D4)","v":""},{"$f":"IF(OpenFile!G4=\"\",\"\",OpenFile!G4)","v":""},{"$f":"IF(OpenFile!E4=\"\",\"\",OpenFile!E4)","v":""},null,null,null,null,null,{"$f":"ROUND(H15,0)","v":0},0,null,2,{"$f":"COUNTIF(winner1work,\"<\"&O15)","v":0},{"$f":"P15-P14","v":0},0,{"$f":"R15-R14","v":0},0,{"$f":"T15-T14","v":0}]
[3,{"$f":"IF(OpenFile!H5=\"\",\"\",OpenFile!H5)","v":""},{"$f":"IF(OpenFile!I5=\"\",\"\",OpenFile!I5)","v":""},{"$f":"IF(OpenFile!D5=\"\",\"\",OpenFile!D5)","v":""},{"$f":"IF(OpenFile!G5=\"\",\"\",OpenFile!G5)","v":""},{"$f":"IF(OpenFile!E5=\"\",\"\",OpenFile!E5)","v":""},null,null,null,null,null,0,0,null,3,0,{"$f":"P16-P15","v":0},0,0,0,0]
[4,{"$f":"IF(OpenFile!H6=\"\",\"\",OpenFile!H6)","v":""},{"$f":"IF(OpenFile!I6=\"\",\"\",OpenFile!I6)","v":""},{"$f":"IF(OpenFile!D6=\"\",\"\",OpenFile!D6)","v":""},{"$f":"IF(OpenFile!G6=\"\",\"\",OpenFile!G6)","v":""},{"$f":"IF(OpenFile!E6=\"\",\"\",OpenFile!E6)","v":""},null,null,null,null,null,0,0,null,4,0,0,0,0,0,0]
[5,{"$f":"IF(OpenFile!H7=\"\",\"\",OpenFile!H7)","v":""},{"$f":"IF(OpenFile!I7=\"\",\"\",OpenFile!I7)","v":""},{"$f":"IF(OpenFile!D7=\"\",\"\",OpenFile!D7)","v":""},{"$f":"IF(OpenFile!G7=\"\",\"\",OpenFile!G7)","v":""},{"$f":"IF(OpenFile!E7=\"\",\"\",OpenFile!E7)","v":""},null,null,null,null,null,0,0,null,5,0,0,0,0,0,0]
[6,{"$f":"IF(OpenFile!H8=\"\",\"\",OpenFile!H8)","v":""},{"$f":"IF(OpenFile!I8=\"\",\"\",OpenFile!I8)","v":""},{"$f":"IF(OpenFile!D8=\"\",\"\",OpenFile!D8)","v":""},{"$f":"IF(OpenFile!G8=\"\",\"\",OpenFile!G8)","v":""},{"$f":"IF(OpenFile!E8=\"\",\"\",OpenFile!E8)","v":""},null,null,null,null,null,0,0,null,6,0,0,0,0,0,0]
[7,{"$f":"IF(OpenFile!H9=\"\",\"\",OpenFile!H9)","v":""},{"$f":"IF(OpenFile!I9=\"\",\"\",OpenFile!I9)","v":""},{"$f":"IF(OpenFile!D9=\"\",\"\",OpenFile!D9)","v":""},{"$f":"IF(OpenFile!G9=\"\",\"\",OpenFile!G9)","v":""},{"$f":"IF(OpenFile!E9=\"\",\"\",OpenFile!E9)","v":""},null,null,null,null,null,0,0,null,7,0,0,0,0,0,0]
[8,{"$f":"IF(OpenFile!H10=\"\",\"\",OpenFile!H10)","v":""},{"$f":"IF(OpenFile!I10=\"\",\"\",OpenFile!I10)","v":""},{"$f":"IF(OpenFile!D10=\"\",\"\",OpenFile!D10)","v":""},{"$f":"IF(OpenFile!G10=\"\",\"\",OpenFile!G10)","v":""},{"$f":"IF(OpenFile!E10=\"\",\"\",OpenFile!E10)","v":""},null,null,null,null,null,0,0,null,8,0,0,0,0,0,0]
[9,{"$f":"IF(OpenFile!H11=\"\",\"\",OpenFile!H11)","v":""},{"$f":"IF(OpenFile!I11=\"\",\"\",OpenFile!I11)","v":""},{"$f":"IF(OpenFile!D11=\"\",\"\",OpenFile!D11)","v":""},{"$f":"IF(OpenFile!G11=\"\",\"\",OpenFile!G11)","v":""},{"$f":"IF(OpenFile!E11=\"\",\"\",OpenFile!E11)","v":""},null,null,null,null,null,0,0,null,9,0,0,0,0,0,0]
[10,{"$f":"IF(OpenFile!H12=\"\",\"\",OpenFile!H12)","v":""},{"$f":"IF(OpenFile!I12=\"\",\"\",OpenFile!I12)","v":""},{"$f":"IF(OpenFile!D12=\"\",\"\",OpenFile!D12)","v":""},{"$f":"IF(OpenFile!G12=\"\",\"\",OpenFile!G12)","v":""},{"$f":"IF(OpenFile!E12=\"\",\"\",OpenFile!E12)","v":""},null,null,null,null,null,0,0,null,10,0,0,0,0,0,0]
[11,{"$f":"IF(OpenFile!H13=\"\",\"\",OpenFile!H13)","v":""},{"$f":"IF(OpenFile!I13=\"\",\"\",OpenFile!I13)","v":""},{"$f":"IF(OpenFile!D13=\"\",\"\",OpenFile!D13)","v":""},{"$f":"IF(OpenFile!G13=\"\",\"\",OpenFile!G13)","v":""},{"$f":"IF(OpenFile!E13=\"\",\"\",OpenFile!E13)","v":""},null,null,null,null,null,0,0,null,11,0,0,0,0,0,0]
[12,{"$f":"IF(OpenFile!H14=\"\",\"\",OpenFile!H14)","v":""},{"$f":"IF(OpenFile!I14=\"\",\"\",OpenFile!I14)","v":""},{"$f":"IF(OpenFile!D14=\"\",\"\",OpenFile!D14)","v":""},{"$f":"IF(OpenFile!G14=\"\",\"\",OpenFile!G14)","v":""},{"$f":"IF(OpenFile!E14=\"\",\"\",OpenFile!E14)","v":""},null,null,null,null,null,0,0,null,12,0,0,0,0,0,0]
[13,{"$f":"IF(OpenFile!H15=\"\",\"\",OpenFile!H15)","v":""},{"$f":"IF(OpenFile!I15=\"\",\"\",OpenFile!I15)","v":""},{"$f":"IF(OpenFile!D15=\"\",\"\",OpenFile!D15)","v":""},{"$f":"IF(OpenFile!G15=\"\",\"\",OpenFile!G15)","v":""},{"$f":"IF(OpenFile!E15=\"\",\"\",OpenFile!E15)","v":""},null,null,null,null,null,0,0,null,13,0,0,0,0,0,0]
[14,{"$f":"IF(OpenFile!H16=\"\",\"\",OpenFile!H16)","v":""},{"$f":"IF(OpenFile!I16=\"\",\"\",OpenFile!I16)","v":""},{"$f":"IF(OpenFile!D16=\"\",\"\",OpenFile!D16)","v":""},{"$f":"IF(OpenFile!G16=\"\",\"\",OpenFile!G16)","v":""},{"$f":"IF(OpenFile!E16=\"\",\"\",OpenFile!E16)","v":""},null,null,null,null,null,0,0,null,14,0,0,0,0,0,0]
[15,{"$f":"IF(OpenFile!H17=\"\",\"\",OpenFile!H17)","v":""},{"$f":"IF(OpenFile!I17=\"\",\"\",OpenFile!I17)","v":""},{"$f":"IF(OpenFile!D17=\"\",\"\",OpenFile!D17)","v":""},{"$f":"IF(OpenFile!G17=\"\",\"\",OpenFile!G17)","v":""},{"$f":"IF(OpenFile!E17=\"\",\"\",OpenFile!E17)","v":""},null,null,null,null,null,0,0,null,15,0,0,0,0,0,0]
[16,{"$f":"IF(OpenFile!H18=\"\",\"\",OpenFile!H18)","v":""},{"$f":"IF(OpenFile!I18=\"\",\"\",OpenFile!I18)","v":""},{"$f":"IF(OpenFile!D18=\"\",\"\",OpenFile!D18)","v":""},{"$f":"IF(OpenFile!G18=\"\",\"\",OpenFile!G18)","v":""},{"$f":"IF(OpenFile!E18=\"\",\"\",OpenFile!E18)","v":""},null,null,null,null,null,0,0,null,16,0,0,0,0,0,0]
[17,{"$f":"IF(OpenFile!H19=\"\",\"\",OpenFile!H19)","v":""},{"$f":"IF(OpenFile!I19=\"\",\"\",OpenFile!I19)","v":""},{"$f":"IF(OpenFile!D19=\"\",\"\",OpenFile!D19)","v":""},{"$f":"IF(OpenFile!G19=\"\",\"\",OpenFile!G19)","v":""},{"$f":"IF(OpenFile!E19=\"\",\"\",OpenFile!E19)","v":""},null,null,null,null,null,0,0,null,17,0,0,0,0,0,0]
[18,{"$f":"IF(OpenFile!H20=\"\",\"\",OpenFile!H20)","v":""},{"$f":"IF(OpenFile!I20=\"\",\"\",OpenFile!I20)","v":""},{"$f":"IF(OpenFile!D20=\"\",\"\",OpenFile!D20)","v":""},{"$f":"IF(OpenFile!G20=\"\",\"\",OpenFile!G20)","v":""},{"$f":"IF(OpenFile!E20=\"\",\"\",OpenFile!E20)","v":""},null,null,null,null,null,0,0,null,18,0,0,0,0,0,0]
[19,{"$f":"IF(OpenFile!H21=\"\",\"\",OpenFile!H21)","v":""},{"$f":"IF(OpenFile!I21=\"\",\"\",OpenFile!I21)","v":""},{"$f":"IF(OpenFile!D21=\"\",\"\",OpenFile!D21)","v":""},{"$f":"IF(OpenFile!G21=\"\",\"\",OpenFile!G21)","v":""},{"$f":"IF(OpenFile!E21=\"\",\"\",OpenFile!E21)","v":""},null,null,null,null,null,0,0,null,19,0,{"$f":"P32-P31","v":0},0,0,0,0]
[20,{"$f":"IF(OpenFile!H22=\"\",\"\",OpenFile!H22)","v":""},{"$f":"IF(OpenFile!I22=\"\",\"\",OpenFile!I22)","v":""},{"$f":"IF(OpenFile!D22=\"\",\"\",OpenFile!D22)","v":""},{"$f":"IF(OpenFile!G22=\"\",\"\",OpenFile!G22)","v":""},{"$f":"IF(OpenFile!E22=\"\",\"\",OpenFile!E22)","v":""},null,null,null,null,null,0,0,null,20,0,0,0,0,0,0]
[21,{"$f":"IF(OpenFile!H23=\"\",\"\",OpenFile!H23)","v":""},{"$f":"IF(OpenFile!I23=\"\",\"\",OpenFile!I23)","v":""},{"$f":"IF(OpenFile!D23=\"\",\"\",OpenFile!D23)","v":""},{"$f":"IF(OpenFile!G23=\"\",\"\",OpenFile!G23)","v":""},{"$f":"IF(OpenFile!E23=\"\",\"\",OpenFile!E23)","v":""},null,null,null,null,null,0,0,null,21,0,0,0,0,0,0]
[22,{"$f":"IF(OpenFile!H24=\"\",\"\",OpenFile!H24)","v":""},{"$f":"IF(OpenFile!I24=\"\",\"\",OpenFile!I24)","v":""},{"$f":"IF(OpenFile!D24=\"\",\"\",OpenFile!D24)","v":""},{"$f":"IF(OpenFile!G24=\"\",\"\",OpenFile!G24)","v":""},{"$f":"IF(OpenFile!E24=\"\",\"\",OpenFile!E24)","v":""},null,null,null,null,null,0,0,null,22,0,0,0,0,0,0]
[23,{"$f":"IF(OpenFile!H25=\"\",\"\",OpenFile!H25)","v":""},{"$f":"IF(OpenFile!I25=\"\",\"\",OpenFile!I25)","v":""},{"$f":"IF(OpenFile!D25=\"\",\"\",OpenFile!D25)","v":""},{"$f":"IF(OpenFile!G25=\"\",\"\",OpenFile!G25)","v":""},{"$f":"IF(OpenFile!E25=\"\",\"\",OpenFile!E25)","v":""},null,null,null,null,null,0,0,null,23,0,0,0,0,0,0]
[24,{"$f":"IF(OpenFile!H26=\"\",\"\",OpenFile!H26)","v":""},{"$f":"IF(OpenFile!I26=\"\",\"\",OpenFile!I26)","v":""},{"$f":"IF(OpenFile!D26=\"\",\"\",OpenFile!D26)","v":""},{"$f":"IF(OpenFile!G26=\"\",\"\",OpenFile!G26)","v":""},{"$f":"IF(OpenFile!E26=\"\",\"\",OpenFile!E26)","v":""},null,null,null,null,null,0,0,null,24,0,0,0,0,0,0]
[25,{"$f":"IF(OpenFile!H27=\"\",\"\",OpenFile!H27)","v":""},{"$f":"IF(OpenFile!I27=\"\",\"\",OpenFile!I27)","v":""},{"$f":"IF(OpenFile!D27=\"\",\"\",OpenFile!D27)","v":""},{"$f":"IF(OpenFile!G27=\"\",\"\",OpenFile!G27)","v":""},{"$f":"IF(OpenFile!E27=\"\",\"\",OpenFile!E27)","v":""},null,null,null,null,null,0,0,null,25,0,0,0,0,0,0]
[26,{"$f":"IF(OpenFile!H28=\"\",\"\",OpenFile!H28)","v":""},{"$f":"IF(OpenFile!I28=\"\",\"\",OpenFile!I28)","v":""},{"$f":"IF(OpenFile!D28=\"\",\"\",OpenFile!D28)","v":""},{"$f":"IF(OpenFile!G28=\"\",\"\",OpenFile!G28)","v":""},{"$f":"IF(OpenFile!E28=\"\",\"\",OpenFile!E28)","v":""},null,null,null,null,null,0,0,null,26,0,0,0,0,0,0]
[27,{"$f":"IF(OpenFile!H29=\"\",\"\",OpenFile!H29)","v":""},{"$f":"IF(OpenFile!I29=\"\",\"\",OpenFile!I29)","v":""},{"$f":"IF(OpenFile!D29=\"\",\"\",OpenFile!D29)","v":""},{"$f":"IF(OpenFile!G29=\"\",\"\",OpenFile!G29)","v":""},{"$f":"IF(OpenFile!E29=\"\",\"\",OpenFile!E29)","v":""},null,null,null,null,null,0,0,null,27,0,0,0,0,0,0]
[28,{"$f":"IF(OpenFile!H30=\"\",\"\",OpenFile!H30)","v":""},{"$f":"IF(OpenFile!I30=\"\",\"\",OpenFile!I30)","v":""},{"$f":"IF(OpenFile!D30=\"\",\"\",OpenFile!D30)","v":""},{"$f":"IF(OpenFile!G30=\"\",\"\",OpenFile!G30)","v":""},{"$f":"IF(OpenFile!E30=\"\",\"\",OpenFile!E30)","v":""},null,null,null,null,null,0,0,null,28,0,0,0,0,0,0]
[29,{"$f":"IF(OpenFile!H31=\"\",\"\",OpenFile!H31)","v":""},{"$f":"IF(OpenFile!I31=\"\",\"\",OpenFile!I31)","v":""},{"$f":"IF(OpenFile!D31=\"\",\"\",OpenFile!D31)","v":""},{"$f":"IF(OpenFile!G31=\"\",\"\",OpenFile!G31)","v":""},{"$f":"IF(OpenFile!E31=\"\",\"\",OpenFile!E31)","v":""},null,null,null,null,null,0,0,null,29,0,0,0,0,0,0]
[30,{"$f":"IF(OpenFile!H32=\"\",\"\",OpenFile!H32)","v":""},{"$f":"IF(OpenFile!I32=\"\",\"\",OpenFile!I32)","v":""},{"$f":"IF(OpenFile!D32=\"\",\"\",OpenFile!D32)","v":""},{"$f":"IF(OpenFile!G32=\"\",\"\",OpenFile!G32)","v":""},{"$f":"IF(OpenFile!E32=\"\",\"\",OpenFile!E32)","v":""},null,null,null,null,null,0,0,null,30,0,0,0,0,0,0]
[31,{"$f":"IF(OpenFile!H33=\"\",\"\",OpenFile!H33)","v":""},{"$f":"IF(OpenFile!I33=\"\",\"\",OpenFile!I33)","v":""},{"$f":"IF(OpenFile!D33=\"\",\"\",OpenFile!D33)","v":""},{"$f":"IF(OpenFile!G33=\"\",\"\",OpenFile!G33)","v":""},{"$f":"IF(OpenFile!E33=\"\",\"\",OpenFile!E33)","v":""},null,null,null,null,null,0,0,null,31,0,0,0,0,0,0]
[32,{"$f":"IF(OpenFile!H34=\"\",\"\",OpenFile!H34)","v":""},{"$f":"IF(OpenFile!I34=\"\",\"\",OpenFile!I34)","v":""},{"$f":"IF(OpenFile!D34=\"\",\"\",OpenFile!D34)","v":""},{"$f":"IF(OpenFile!G34=\"\",\"\",OpenFile!G34)","v":""},{"$f":"IF(OpenFile!E34=\"\",\"\",OpenFile!E34)","v":""},null,null,null,null,null,0,0,null,32,0,0,0,0,0,0]
[33,{"$f":"IF(OpenFile!H35=\"\",\"\",OpenFile!H35)","v":""},{"$f":"IF(OpenFile!I35=\"\",\"\",OpenFile!I35)","v":""},{"$f":"IF(OpenFile!D35=\"\",\"\",OpenFile!D35)","v":""},{"$f":"IF(OpenFile!G35=\"\",\"\",OpenFile!G35)","v":""},{"$f":"IF(OpenFile!E35=\"\",\"\",OpenFile!E35)","v":""},null,null,null,null,null,0,0,null,33,0,0,0,0,0,0]
[34,{"$f":"IF(OpenFile!H36=\"\",\"\",OpenFile!H36)","v":""},{"$f":"IF(OpenFile!I36=\"\",\"\",OpenFile!I36)","v":""},{"$f":"IF(OpenFile!D36=\"\",\"\",OpenFile!D36)","v":""},{"$f":"IF(OpenFile!G36=\"\",\"\",OpenFile!G36)","v":""},{"$f":"IF(OpenFile!E36=\"\",\"\",OpenFile!E36)","v":""},null,null,null,null,null,0,0,null,34,0,0,0,0,0,0]
[35,{"$f":"IF(OpenFile!H37=\"\",\"\",OpenFile!H37)","v":""},{"$f":"IF(OpenFile!I37=\"\",\"\",OpenFile!I37)","v":""},{"$f":"IF(OpenFile!D37=\"\",\"\",OpenFile!D37)","v":""},{"$f":"IF(OpenFile!G37=\"\",\"\",OpenFile!G37)","v":""},{"$f":"IF(OpenFile!E37=\"\",\"\",OpenFile!E37)","v":""},null,null,null,null,null,0,0,null,35,0,{"$f":"P48-P47","v":0},0,0,0,0]
[36,{"$f":"IF(OpenFile!H38=\"\",\"\",OpenFile!H38)","v":""},{"$f":"IF(OpenFile!I38=\"\",\"\",OpenFile!I38)","v":""},{"$f":"IF(OpenFile!D38=\"\",\"\",OpenFile!D38)","v":""},{"$f":"IF(OpenFile!G38=\"\",\"\",OpenFile!G38)","v":""},{"$f":"IF(OpenFile!E38=\"\",\"\",OpenFile!E38)","v":""},null,null,null,null,null,0,0,null,36,0,0,0,0,0,0]
[37,{"$f":"IF(OpenFile!H39=\"\",\"\",OpenFile!H39)","v":""},{"$f":"IF(OpenFile!I39=\"\",\"\",OpenFile!I39)","v":""},{"$f":"IF(OpenFile!D39=\"\",\"\",OpenFile!D39)","v":""},{"$f":"IF(OpenFile!G39=\"\",\"\",OpenFile!G39)","v":""},{"$f":"IF(OpenFile!E39=\"\",\"\",OpenFile!E39)","v":""},null,null,null,null,null,0,0,null,37,0,0,0,0,0,0]
[38,{"$f":"IF(OpenFile!H40=\"\",\"\",OpenFile!H40)","v":""},{"$f":"IF(OpenFile!I40=\"\",\"\",OpenFile!I40)","v":""},{"$f":"IF(OpenFile!D40=\"\",\"\",OpenFile!D40)","v":""},{"$f":"IF(OpenFile!G40=\"\",\"\",OpenFile!G40)","v":""},{"$f":"IF(OpenFile!E40=\"\",\"\",OpenFile!E40)","v":""},null,null,null,null,null,0,0,null,38,0,0,0,0,0,0]
[39,{"$f":"IF(OpenFile!H41=\"\",\"\",OpenFile!H41)","v":""},{"$f":"IF(OpenFile!I41=\"\",\"\",OpenFile!I41)","v":""},{"$f":"IF(OpenFile!D41=\"\",\"\",OpenFile!D41)","v":""},{"$f":"IF(OpenFile!G41=\"\",\"\",OpenFile!G41)","v":""},{"$f":"IF(OpenFile!E41=\"\",\"\",OpenFile!E41)","v":""},null,null,null,null,null,0,0,null,39,0,0,0,0,0,0]
[40,{"$f":"IF(OpenFile!H42=\"\",\"\",OpenFile!H42)","v":""},{"$f":"IF(OpenFile!I42=\"\",\"\",OpenFile!I42)","v":""},{"$f":"IF(OpenFile!D42=\"\",\"\",OpenFile!D42)","v":""},{"$f":"IF(OpenFile!G42=\"\",\"\",OpenFile!G42)","v":""},{"$f":"IF(OpenFile!E42=\"\",\"\",OpenFile!E42)","v":""},null,null,null,null,null,0,0,null,40,0,0,0,0,0,0]
[41,{"$f":"IF(OpenFile!H43=\"\",\"\",OpenFile!H43)","v":""},{"$f":"IF(OpenFile!I43=\"\",\"\",OpenFile!I43)","v":""},{"$f":"IF(OpenFile!D43=\"\",\"\",OpenFile!D43)","v":""},{"$f":"IF(OpenFile!G43=\"\",\"\",OpenFile!G43)","v":""},{"$f":"IF(OpenFile!E43=\"\",\"\",OpenFile!E43)","v":""},null,null,null,null,null,0,0,null,41,0,0,0,0,0,0]
[42,{"$f":"IF(OpenFile!H44=\"\",\"\",OpenFile!H44)","v":""},{"$f":"IF(OpenFile!I44=\"\",\"\",OpenFile!I44)","v":""},{"$f":"IF(OpenFile!D44=\"\",\"\",OpenFile!D44)","v":""},{"$f":"IF(OpenFile!G44=\"\",\"\",OpenFile!G44)","v":""},{"$f":"IF(OpenFile!E44=\"\",\"\",OpenFile!E44)","v":""},null,null,null,null,null,0,0,null,42,0,0,0,0,0,0]
[43,{"$f":"IF(OpenFile!H45=\"\",\"\",OpenFile!H45)","v":""},{"$f":"IF(OpenFile!I45=\"\",\"\",OpenFile!I45)","v":""},{"$f":"IF(OpenFile!D45=\"\",\"\",OpenFile!D45)","v":""},{"$f":"IF(OpenFile!G45=\"\",\"\",OpenFile!G45)","v":""},{"$f":"IF(OpenFile!E45=\"\",\"\",OpenFile!E45)","v":""},null,null,null,null,null,0,0,null,43,0,0,0,0,0,0]
[44,{"$f":"IF(OpenFile!H46=\"\",\"\",OpenFile!H46)","v":""},{"$f":"IF(OpenFile!I46=\"\",\"\",OpenFile!I46)","v":""},{"$f":"IF(OpenFile!D46=\"\",\"\",OpenFile!D46)","v":""},{"$f":"IF(OpenFile!G46=\"\",\"\",OpenFile!G46)","v":""},{"$f":"IF(OpenFile!E46=\"\",\"\",OpenFile!E46)","v":""},null,null,null,null,null,0,0,null,44,0,0,0,0,0,0]
[45,{"$f":"IF(OpenFile!H47=\"\",\"\",OpenFile!H47)","v":""},{"$f":"IF(OpenFile!I47=\"\",\"\",OpenFile!I47)","v":""},{"$f":"IF(OpenFile!D47=\"\",\"\",OpenFile!D47)","v":""},{"$f":"IF(OpenFile!G47=\"\",\"\",OpenFile!G47)","v":""},{"$f":"IF(OpenFile!E47=\"\",\"\",OpenFile!E47)","v":""},null,null,null,null,null,0,0,null,45,0,0,0,0,0,0]
[46,{"$f":"IF(OpenFile!H48=\"\",\"\",OpenFile!H48)","v":""},{"$f":"IF(OpenFile!I48=\"\",\"\",OpenFile!I48)","v":""},{"$f":"IF(OpenFile!D48=\"\",\"\",OpenFile!D48)","v":""},{"$f":"IF(OpenFile!G48=\"\",\"\",OpenFile!G48)","v":""},{"$f":"IF(OpenFile!E48=\"\",\"\",OpenFile!E48)","v":""},null,null,null,null,null,0,0,null,46,0,0,0,0,0,0]
[47,{"$f":"IF(OpenFile!H49=\"\",\"\",OpenFile!H49)","v":""},{"$f":"IF(OpenFile!I49=\"\",\"\",OpenFile!I49)","v":""},{"$f":"IF(OpenFile!D49=\"\",\"\",OpenFile!D49)","v":""},{"$f":"IF(OpenFile!G49=\"\",\"\",OpenFile!G49)","v":""},{"$f":"IF(OpenFile!E49=\"\",\"\",OpenFile!E49)","v":""},null,null,null,null,null,0,0,null,47,0,0,0,0,0,0]
[48,{"$f":"IF(OpenFile!H50=\"\",\"\",OpenFile!H50)","v":""},{"$f":"IF(OpenFile!I50=\"\",\"\",OpenFile!I50)","v":""},{"$f":"IF(OpenFile!D50=\"\",\"\",OpenFile!D50)","v":""},{"$f":"IF(OpenFile!G50=\"\",\"\",OpenFile!G50)","v":""},{"$f":"IF(OpenFile!E50=\"\",\"\",OpenFile!E50)","v":""},null,null,null,null,null,0,0,null,48,0,0,0,0,0,0]
[49,{"$f":"IF(OpenFile!H51=\"\",\"\",OpenFile!H51)","v":""},{"$f":"IF(OpenFile!I51=\"\",\"\",OpenFile!I51)","v":""},{"$f":"IF(OpenFile!D51=\"\",\"\",OpenFile!D51)","v":""},{"$f":"IF(OpenFile!G51=\"\",\"\",OpenFile!G51)","v":""},{"$f":"IF(OpenFile!E51=\"\",\"\",OpenFile!E51)","v":""},null,null,null,null,null,0,0,null,49,0,0,0,0,0,0]
[50,{"$f":"IF(OpenFile!H52=\"\",\"\",OpenFile!H52)","v":""},{"$f":"IF(OpenFile!I52=\"\",\"\",OpenFile!I52)","v":""},{"$f":"IF(OpenFile!D52=\"\",\"\",OpenFile!D52)","v":""},{"$f":"IF(OpenFile!G52=\"\",\"\",OpenFile!G52)","v":""},{"$f":"IF(OpenFile!E52=\"\",\"\",OpenFile!E52)","v":""},null,null,null,null,null,0,0,null,50,0,0,0,0,0,0]
[51,{"$f":"IF(OpenFile!H53=\"\",\"\",OpenFile!H53)","v":""},{"$f":"IF(OpenFile!I53=\"\",\"\",OpenFile!I53)","v":""},{"$f":"IF(OpenFile!D53=\"\",\"\",OpenFile!D53)","v":""},{"$f":"IF(OpenFile!G53=\"\",\"\",OpenFile!G53)","v":""},{"$f":"IF(OpenFile!E53=\"\",\"\",OpenFile!E53)","v":""},null,null,null,null,null,0,0,null,51,0,{"$f":"P64-P63","v":0},0,0,0,0]
[52,{"$f":"IF(OpenFile!H54=\"\",\"\",OpenFile!H54)","v":""},{"$f":"IF(OpenFile!I54=\"\",\"\",OpenFile!I54)","v":""},{"$f":"IF(OpenFile!D54=\"\",\"\",OpenFile!D54)","v":""},{"$f":"IF(OpenFile!G54=\"\",\"\",OpenFile!G54)","v":""},{"$f":"IF(OpenFile!E54=\"\",\"\",OpenFile!E54)","v":""},null,null,null,null,null,0,0,null,52,0,0,0,0,0,0]
[53,{"$f":"IF(OpenFile!H55=\"\",\"\",OpenFile!H55)","v":""},{"$f":"IF(OpenFile!I55=\"\",\"\",OpenFile!I55)","v":""},{"$f":"IF(OpenFile!D55=\"\",\"\",OpenFile!D55)","v":""},{"$f":"IF(OpenFile!G55=\"\",\"\",OpenFile!G55)","v":""},{"$f":"IF(OpenFile!E55=\"\",\"\",OpenFile!E55)","v":""},null,null,null,null,null,0,0,null,53,0,0,0,0,0,0]
[54,{"$f":"IF(OpenFile!H56=\"\",\"\",OpenFile!H56)","v":""},{"$f":"IF(OpenFile!I56=\"\",\"\",OpenFile!I56)","v":""},{"$f":"IF(OpenFile!D56=\"\",\"\",OpenFile!D56)","v":""},{"$f":"IF(OpenFile!G56=\"\",\"\",OpenFile!G56)","v":""},{"$f":"IF(OpenFile!E56=\"\",\"\",OpenFile!E56)","v":""},null,null,null,null,null,0,0,null,54,0,0,0,0,0,0]
[55,{"$f":"IF(OpenFile!H57=\"\",\"\",OpenFile!H57)","v":""},{"$f":"IF(OpenFile!I57=\"\",\"\",OpenFile!I57)","v":""},{"$f":"IF(OpenFile!D57=\"\",\"\",OpenFile!D57)","v":""},{"$f":"IF(OpenFile!G57=\"\",\"\",OpenFile!G57)","v":""},{"$f":"IF(OpenFile!E57=\"\",\"\",OpenFile!E57)","v":""},null,null,null,null,null,0,0,null,55,0,0,0,0,0,0]
[56,{"$f":"IF(OpenFile!H58=\"\",\"\",OpenFile!H58)","v":""},{"$f":"IF(OpenFile!I58=\"\",\"\",OpenFile!I58)","v":""},{"$f":"IF(OpenFile!D58=\"\",\"\",OpenFile!D58)","v":""},{"$f":"IF(OpenFile!G58=\"\",\"\",OpenFile!G58)","v":""},{"$f":"IF(OpenFile!E58=\"\",\"\",OpenFile!E58)","v":""},null,null,null,null,null,0,0,null,56,0,0,0,0,0,0]
[57,{"$f":"IF(OpenFile!H59=\"\",\"\",OpenFile!H59)","v":""},{"$f":"IF(OpenFile!I59=\"\",\"\",OpenFile!I59)","v":""},{"$f":"IF(OpenFile!D59=\"\",\"\",OpenFile!D59)","v":""},{"$f":"IF(OpenFile!G59=\"\",\"\",OpenFile!G59)","v":""},{"$f":"IF(OpenFile!E59=\"\",\"\",OpenFile!E59)","v":""},null,null,null,null,null,0,0,null,57,0,0,0,0,0,0]
[58,{"$f":"IF(OpenFile!H60=\"\",\"\",OpenFile!H60)","v":""},{"$f":"IF(OpenFile!I60=\"\",\"\",OpenFile!I60)","v":""},{"$f":"IF(OpenFile!D60=\"\",\"\",OpenFile!D60)","v":""},{"$f":"IF(OpenFile!G60=\"\",\"\",OpenFile!G60)","v":""},{"$f":"IF(OpenFile!E60=\"\",\"\",OpenFile!E60)","v":""},null,null,null,null,null,0,0,null,58,0,0,0,0,0,0]
[59,{"$f":"IF(OpenFile!H61=\"\",\"\",OpenFile!H61)","v":""},{"$f":"IF(OpenFile!I61=\"\",\"\",OpenFile!I61)","v":""},{"$f":"IF(OpenFile!D61=\"\",\"\",OpenFile!D61)","v":""},{"$f":"IF(OpenFile!G61=\"\",\"\",OpenFile!G61)","v":""},{"$f":"IF(OpenFile!E61=\"\",\"\",OpenFile!E61)","v":""},null,null,null,null,null,0,0,null,59,0,0,0,0,0,0]
[60,{"$f":"IF(OpenFile!H62=\"\",\"\",OpenFile!H62)","v":""},{"$f":"IF(OpenFile!I62=\"\",\"\",OpenFile!I62)","v":""},{"$f":"IF(OpenFile!D62=\"\",\"\",OpenFile!D62)","v":""},{"$f":"IF(OpenFile!G62=\"\",\"\",OpenFile!G62)","v":""},{"$f":"IF(OpenFile!E62=\"\",\"\",OpenFile!E62)","v":""},null,null,null,null,null,0,0,null,60,{"$f":"COUNTIF(winner1work,\">=\"&O72)+P72","v":0},0,{"$f":"COUNTIF(winner2work,\">=\"&O73)+R72","v":0},0,{"$f":"COUNTIF(rest,\">=\"&O73)+T72","v":0},0]
[61,{"$f":"IF(OpenFile!H63=\"\",\"\",OpenFile!H63)","v":""},{"$f":"IF(OpenFile!I63=\"\",\"\",OpenFile!I63)","v":""},{"$f":"IF(OpenFile!D63=\"\",\"\",OpenFile!D63)","v":""},{"$f":"IF(OpenFile!G63=\"\",\"\",OpenFile!G63)","v":""},{"$f":"IF(OpenFile!E63=\"\",\"\",OpenFile!E63)","v":""},null,null,null,null,null,0,0]
[62,{"$f":"IF(OpenFile!H64=\"\",\"\",OpenFile!H64)","v":""},{"$f":"IF(OpenFile!I64=\"\",\"\",OpenFile!I64)","v":""},{"$f":"IF(OpenFile!D64=\"\",\"\",OpenFile!D64)","v":""},{"$f":"IF(OpenFile!G64=\"\",\"\",OpenFile!G64)","v":""},{"$f":"IF(OpenFile!E64=\"\",\"\",OpenFile!E64)","v":""},null,null,null,null,null,0,0]
[63,{"$f":"IF(OpenFile!H65=\"\",\"\",OpenFile!H65)","v":""},{"$f":"IF(OpenFile!I65=\"\",\"\",OpenFile!I65)","v":""},{"$f":"IF(OpenFile!D65=\"\",\"\",OpenFile!D65)","v":""},{"$f":"IF(OpenFile!G65=\"\",\"\",OpenFile!G65)","v":""},{"$f":"IF(OpenFile!E65=\"\",\"\",OpenFile!E65)","v":""},null,null,null,null,null,0,0]
[64,{"$f":"IF(OpenFile!H66=\"\",\"\",OpenFile!H66)","v":""},{"$f":"IF(OpenFile!I66=\"\",\"\",OpenFile!I66)","v":""},{"$f":"IF(OpenFile!D66=\"\",\"\",OpenFile!D66)","v":""},{"$f":"IF(OpenFile!G66=\"\",\"\",OpenFile!G66)","v":""},{"$f":"IF(OpenFile!E66=\"\",\"\",OpenFile!E66)","v":""},null,null,null,null,null,0,0]
[65,{"$f":"IF(OpenFile!H67=\"\",\"\",OpenFile!H67)","v":""},{"$f":"IF(OpenFile!I67=\"\",\"\",OpenFile!I67)","v":""},{"$f":"IF(OpenFile!D67=\"\",\"\",OpenFile!D67)","v":""},{"$f":"IF(OpenFile!G67=\"\",\"\",OpenFile!G67)","v":""},{"$f":"IF(OpenFile!E67=\"\",\"\",OpenFile!E67)","v":""},null,null,null,null,null,0,0]
[66,{"$f":"IF(OpenFile!H68=\"\",\"\",OpenFile!H68)","v":""},{"$f":"IF(OpenFile!I68=\"\",\"\",OpenFile!I68)","v":""},{"$f":"IF(OpenFile!D68=\"\",\"\",OpenFile!D68)","v":""},{"$f":"IF(OpenFile!G68=\"\",\"\",OpenFile!G68)","v":""},{"$f":"IF(OpenFile!E68=\"\",\"\",OpenFile!E68)","v":""},null,null,null,null,null,{"$f":"ROUND(H79,0)","v":0},0]
[67,{"$f":"IF(OpenFile!H69=\"\",\"\",OpenFile!H69)","v":""},{"$f":"IF(OpenFile!I69=\"\",\"\",OpenFile!I69)","v":""},{"$f":"IF(OpenFile!D69=\"\",\"\",OpenFile!D69)","v":""},{"$f":"IF(OpenFile!G69=\"\",\"\",OpenFile!G69)","v":""},{"$f":"IF(OpenFile!E69=\"\",\"\",OpenFile!E69)","v":""},null,null,null,null,null,0,0]
[68,{"$f":"IF(OpenFile!H70=\"\",\"\",OpenFile!H70)","v":""},{"$f":"IF(OpenFile!I70=\"\",\"\",OpenFile!I70)","v":""},{"$f":"IF(OpenFile!D70=\"\",\"\",OpenFile!D70)","v":""},{"$f":"IF(OpenFile!G70=\"\",\"\",OpenFile!G70)","v":""},{"$f":"IF(OpenFile!E70=\"\",\"\",OpenFile!E70)","v":""},null,null,null,null,null,0,0]
[69,{"$f":"IF(OpenFile!H71=\"\",\"\",OpenFile!H71)","v":""},{"$f":"IF(OpenFile!I71=\"\",\"\",OpenFile!I71)","v":""},{"$f":"IF(OpenFile!D71=\"\",\"\",OpenFile!D71)","v":""},{"$f":"IF(OpenFile!G71=\"\",\"\",OpenFile!G71)","v":""},{"$f":"IF(OpenFile!E71=\"\",\"\",OpenFile!E71)","v":""},null,null,null,null,null,0,0]
[70,{"$f":"IF(OpenFile!H72=\"\",\"\",OpenFile!H72)","v":""},{"$f":"IF(OpenFile!I72=\"\",\"\",OpenFile!I72)","v":""},{"$f":"IF(OpenFile!D72=\"\",\"\",OpenFile!D72)","v":""},{"$f":"IF(OpenFile!G72=\"\",\"\",OpenFile!G72)","v":""},{"$f":"IF(OpenFile!E72=\"\",\"\",OpenFile!E72)","v":""},null,null,null,null,null,0,0]
[71,{"$f":"IF(OpenFile!H73=\"\",\"\",OpenFile!H73)","v":""},{"$f":"IF(OpenFile!I73=\"\",\"\",OpenFile!I73)","v":""},{"$f":"IF(OpenFile!D73=\"\",\"\",OpenFile!D73)","v":""},{"$f":"IF(OpenFile!G73=\"\",\"\",OpenFile!G73)","v":""},{"$f":"IF(OpenFile!E73=\"\",\"\",OpenFile!E73)","v":""},null,null,null,null,null,0,0]
[72,{"$f":"IF(OpenFile!H74=\"\",\"\",OpenFile!H74)","v":""},{"$f":"IF(OpenFile!I74=\"\",\"\",OpenFile!I74)","v":""},{"$f":"IF(OpenFile!D74=\"\",\"\",OpenFile!D74)","v":""},{"$f":"IF(OpenFile!G74=\"\",\"\",OpenFile!G74)","v":""},{"$f":"IF(OpenFile!E74=\"\",\"\",OpenFile!E74)","v":""},null,null,null,null,null,0,0]
[73,{"$f":"IF(OpenFile!H75=\"\",\"\",OpenFile!H75)","v":""},{"$f":"IF(OpenFile!I75=\"\",\"\",OpenFile!I75)","v":""},{"$f":"IF(OpenFile!D75=\"\",\"\",OpenFile!D75)","v":""},{"$f":"IF(OpenFile!G75=\"\",\"\",OpenFile!G75)","v":""},{"$f":"IF(OpenFile!E75=\"\",\"\",OpenFile!E75)","v":""},null,null,null,null,null,0,0]
[74,{"$f":"IF(OpenFile!H76=\"\",\"\",OpenFile!H76)","v":""},{"$f":"IF(OpenFile!I76=\"\",\"\",OpenFile!I76)","v":""},{"$f":"IF(OpenFile!D76=\"\",\"\",OpenFile!D76)","v":""},{"$f":"IF(OpenFile!G76=\"\",\"\",OpenFile!G76)","v":""},{"$f":"IF(OpenFile!E76=\"\",\"\",OpenFile!E76)","v":""},null,null,null,null,null,0,0]
[75,{"$f":"IF(OpenFile!H77=\"\",\"\",OpenFile!H77)","v":""},{"$f":"IF(OpenFile!I77=\"\",\"\",OpenFile!I77)","v":""},{"$f":"IF(OpenFile!D77=\"\",\"\",OpenFile!D77)","v":""},{"$f":"IF(OpenFile!G77=\"\",\"\",OpenFile!G77)","v":""},{"$f":"IF(OpenFile!E77=\"\",\"\",OpenFile!E77)","v":""},null,null,null,null,null,0,0]
[76,{"$f":"IF(OpenFile!H78=\"\",\"\",OpenFile!H78)","v":""},{"$f":"IF(OpenFile!I78=\"\",\"\",OpenFile!I78)","v":""},{"$f":"IF(OpenFile!D78=\"\",\"\",OpenFile!D78)","v":""},{"$f":"IF(OpenFile!G78=\"\",\"\",OpenFile!G78)","v":""},{"$f":"IF(OpenFile!E78=\"\",\"\",OpenFile!E78)","v":""},null,null,null,null,null,0,0]
[77,{"$f":"IF(OpenFile!H79=\"\",\"\",OpenFile!H79)","v":""},{"$f":"IF(OpenFile!I79=\"\",\"\",OpenFile!I79)","v":""},{"$f":"IF(OpenFile!D79=\"\",\"\",OpenFile!D79)","v":""},{"$f":"IF(OpenFile!G79=\"\",\"\",OpenFile!G79)","v":""},{"$f":"IF(OpenFile!E79=\"\",\"\",OpenFile!E79)","v":""},null,null,null,null,null,0,0]
[78,{"$f":"IF(OpenFile!H80=\"\",\"\",OpenFile!H80)","v":""},{"$f":"IF(OpenFile!I80=\"\",\"\",OpenFile!I80)","v":""},{"$f":"IF(OpenFile!D80=\"\",\"\",OpenFile!D80)","v":""},{"$f":"IF(OpenFile!G80=\"\",\"\",OpenFile!G80)","v":""},{"$f":"IF(OpenFile!E80=\"\",\"\",OpenFile!E80)","v":""},null,null,null,null,null,0,0]
[79,{"$f":"IF(OpenFile!H81=\"\",\"\",OpenFile!H81)","v":""},{"$f":"IF(OpenFile!I81=\"\",\"\",OpenFile!I81)","v":""},{"$f":"IF(OpenFile!D81=\"\",\"\",OpenFile!D81)","v":""},{"$f":"IF(OpenFile!G81=\"\",\"\",OpenFile!G81)","v":""},{"$f":"IF(OpenFile!E81=\"\",\"\",OpenFile!E81)","v":""},null,null,null,null,null,0,0]
[80,{"$f":"IF(OpenFile!H82=\"\",\"\",OpenFile!H82)","v":""},{"$f":"IF(OpenFile!I82=\"\",\"\",OpenFile!I82)","v":""},{"$f":"IF(OpenFile!D82=\"\",\"\",OpenFile!D82)","v":""},{"$f":"IF(OpenFile!G82=\"\",\"\",OpenFile!G82)","v":""},{"$f":"IF(OpenFile!E82=\"\",\"\",OpenFile!E82)","v":""},null,null,null,null,null,0,0]
[81,{"$f":"IF(OpenFile!H83=\"\",\"\",OpenFile!H83)","v":""},{"$f":"IF(OpenFile!I83=\"\",\"\",OpenFile!I83)","v":""},{"$f":"IF(OpenFile!D83=\"\",\"\",OpenFile!D83)","v":""},{"$f":"IF(OpenFile!G83=\"\",\"\",OpenFile!G83)","v":""},{"$f":"IF(OpenFile!E83=\"\",\"\",OpenFile!E83)","v":""},null,null,null,null,null,0,0]
[82,{"$f":"IF(OpenFile!H84=\"\",\"\",OpenFile!H84)","v":""},{"$f":"IF(OpenFile!I84=\"\",\"\",OpenFile!I84)","v":""},{"$f":"IF(OpenFile!D84=\"\",\"\",OpenFile!D84)","v":""},{"$f":"IF(OpenFile!G84=\"\",\"\",OpenFile!G84)","v":""},{"$f":"IF(OpenFile!E84=\"\",\"\",OpenFile!E84)","v":""},null,null,null,null,null,{"$f":"ROUND(H95,0)","v":0},0]
[83,{"$f":"IF(OpenFile!H85=\"\",\"\",OpenFile!H85)","v":""},{"$f":"IF(OpenFile!I85=\"\",\"\",OpenFile!I85)","v":""},{"$f":"IF(OpenFile!D85=\"\",\"\",OpenFile!D85)","v":""},{"$f":"IF(OpenFile!G85=\"\",\"\",OpenFile!G85)","v":""},{"$f":"IF(OpenFile!E85=\"\",\"\",OpenFile!E85)","v":""},null,null,null,null,null,0,0]
[84,{"$f":"IF(OpenFile!H86=\"\",\"\",OpenFile!H86)","v":""},{"$f":"IF(OpenFile!I86=\"\",\"\",OpenFile!I86)","v":""},{"$f":"IF(OpenFile!D86=\"\",\"\",OpenFile!D86)","v":""},{"$f":"IF(OpenFile!G86=\"\",\"\",OpenFile!G86)","v":""},{"$f":"IF(OpenFile!E86=\"\",\"\",OpenFile!E86)","v":""},null,null,null,null,null,0,0]
[85,{"$f":"IF(OpenFile!H87=\"\",\"\",OpenFile!H87)","v":""},{"$f":"IF(OpenFile!I87=\"\",\"\",OpenFile!I87)","v":""},{"$f":"IF(OpenFile!D87=\"\",\"\",OpenFile!D87)","v":""},{"$f":"IF(OpenFile!G87=\"\",\"\",OpenFile!G87)","v":""},{"$f":"IF(OpenFile!E87=\"\",\"\",OpenFile!E87)","v":""},null,null,null,null,null,0,0]
[86,{"$f":"IF(OpenFile!H88=\"\",\"\",OpenFile!H88)","v":""},{"$f":"IF(OpenFile!I88=\"\",\"\",OpenFile!I88)","v":""},{"$f":"IF(OpenFile!D88=\"\",\"\",OpenFile!D88)","v":""},{"$f":"IF(OpenFile!G88=\"\",\"\",OpenFile!G88)","v":""},{"$f":"IF(OpenFile!E88=\"\",\"\",OpenFile!E88)","v":""},null,null,null,null,null,0,0]
[87,{"$f":"IF(OpenFile!H89=\"\",\"\",OpenFile!H89)","v":""},{"$f":"IF(OpenFile!I89=\"\",\"\",OpenFile!I89)","v":""},{"$f":"IF(OpenFile!D89=\"\",\"\",OpenFile!D89)","v":""},{"$f":"IF(OpenFile!G89=\"\",\"\",OpenFile!G89)","v":""},{"$f":"IF(OpenFile!E89=\"\",\"\",OpenFile!E89)","v":""},null,null,null,null,null,0,0]
[88,{"$f":"IF(OpenFile!H90=\"\",\"\",OpenFile!H90)","v":""},{"$f":"IF(OpenFile!I90=\"\",\"\",OpenFile!I90)","v":""},{"$f":"IF(OpenFile!D90=\"\",\"\",OpenFile!D90)","v":""},{"$f":"IF(OpenFile!G90=\"\",\"\",OpenFile!G90)","v":""},{"$f":"IF(OpenFile!E90=\"\",\"\",OpenFile!E90)","v":""},null,null,null,null,null,0,0]
[89,{"$f":"IF(OpenFile!H91=\"\",\"\",OpenFile!H91)","v":""},{"$f":"IF(OpenFile!I91=\"\",\"\",OpenFile!I91)","v":""},{"$f":"IF(OpenFile!D91=\"\",\"\",OpenFile!D91)","v":""},{"$f":"IF(OpenFile!G91=\"\",\"\",OpenFile!G91)","v":""},{"$f":"IF(OpenFile!E91=\"\",\"\",OpenFile!E91)","v":""},null,null,null,null,null,0,0]
[90,{"$f":"IF(OpenFile!H92=\"\",\"\",OpenFile!H92)","v":""},{"$f":"IF(OpenFile!I92=\"\",\"\",OpenFile!I92)","v":""},{"$f":"IF(OpenFile!D92=\"\",\"\",OpenFile!D92)","v":""},{"$f":"IF(OpenFile!G92=\"\",\"\",OpenFile!G92)","v":""},{"$f":"IF(OpenFile!E92=\"\",\"\",OpenFile!E92)","v":""},null,null,null,null,null,0,0]
[91,{"$f":"IF(OpenFile!H93=\"\",\"\",OpenFile!H93)","v":""},{"$f":"IF(OpenFile!I93=\"\",\"\",OpenFile!I93)","v":""},{"$f":"IF(OpenFile!D93=\"\",\"\",OpenFile!D93)","v":""},{"$f":"IF(OpenFile!G93=\"\",\"\",OpenFile!G93)","v":""},{"$f":"IF(OpenFile!E93=\"\",\"\",OpenFile!E93)","v":""},null,null,null,null,null,0,0]
[92,{"$f":"IF(OpenFile!H94=\"\",\"\",OpenFile!H94)","v":""},{"$f":"IF(OpenFile!I94=\"\",\"\",OpenFile!I94)","v":""},{"$f":"IF(OpenFile!D94=\"\",\"\",OpenFile!D94)","v":""},{"$f":"IF(OpenFile!G94=\"\",\"\",OpenFile!G94)","v":""},{"$f":"IF(OpenFile!E94=\"\",\"\",OpenFile!E94)","v":""},null,null,null,null,null,0,0]
[93,{"$f":"IF(OpenFile!H95=\"\",\"\",OpenFile!H95)","v":""},{"$f":"IF(OpenFile!I95=\"\",\"\",OpenFile!I95)","v":""},{"$f":"IF(OpenFile!D95=\"\",\"\",OpenFile!D95)","v":""},{"$f":"IF(OpenFile!G95=\"\",\"\",OpenFile!G95)","v":""},{"$f":"IF(OpenFile!E95=\"\",\"\",OpenFile!E95)","v":""},null,null,null,null,null,0,0]
[94,{"$f":"IF(OpenFile!H96=\"\",\"\",OpenFile!H96)","v":""},{"$f":"IF(OpenFile!I96=\"\",\"\",OpenFile!I96)","v":""},{"$f":"IF(OpenFile!D96=\"\",\"\",OpenFile!D96)","v":""},{"$f":"IF(OpenFile!G96=\"\",\"\",OpenFile!G96)","v":""},{"$f":"IF(OpenFile!E96=\"\",\"\",OpenFile!E96)","v":""},null,null,null,null,null,0,0]
[95,{"$f":"IF(OpenFile!H97=\"\",\"\",OpenFile!H97)","v":""},{"$f":"IF(OpenFile!I97=\"\",\"\",OpenFile!I97)","v":""},{"$f":"IF(OpenFile!D97=\"\",\"\",OpenFile!D97)","v":""},{"$f":"IF(OpenFile!G97=\"\",\"\",OpenFile!G97)","v":""},{"$f":"IF(OpenFile!E97=\"\",\"\",OpenFile!E97)","v":""},null,null,null,null,null,0,0]
[96,{"$f":"IF(OpenFile!H98=\"\",\"\",OpenFile!H98)","v":""},{"$f":"IF(OpenFile!I98=\"\",\"\",OpenFile!I98)","v":""},{"$f":"IF(OpenFile!D98=\"\",\"\",OpenFile!D98)","v":""},{"$f":"IF(OpenFile!G98=\"\",\"\",OpenFile!G98)","v":""},{"$f":"IF(OpenFile!E98=\"\",\"\",OpenFile!E98)","v":""},null,null,null,null,null,0,0]
[97,{"$f":"IF(OpenFile!H99=\"\",\"\",OpenFile!H99)","v":""},{"$f":"IF(OpenFile!I99=\"\",\"\",OpenFile!I99)","v":""},{"$f":"IF(OpenFile!D99=\"\",\"\",OpenFile!D99)","v":""},{"$f":"IF(OpenFile!G99=\"\",\"\",OpenFile!G99)","v":""},{"$f":"IF(OpenFile!E99=\"\",\"\",OpenFile!E99)","v":""},null,null,null,null,null,0,0]
[98,{"$f":"IF(OpenFile!H100=\"\",\"\",OpenFile!H100)","v":""},{"$f":"IF(OpenFile!I100=\"\",\"\",OpenFile!I100)","v":""},{"$f":"IF(OpenFile!D100=\"\",\"\",OpenFile!D100)","v":""},{"$f":"IF(OpenFile!G100=\"\",\"\",OpenFile!G100)","v":""},{"$f":"IF(OpenFile!E100=\"\",\"\",OpenFile!E100)","v":""},null,null,null,null,null,0,0]
[99,{"$f":"IF(OpenFile!H101=\"\",\"\",OpenFile!H101)","v":""},{"$f":"IF(OpenFile!I101=\"\",\"\",OpenFile!I101)","v":""},{"$f":"IF(OpenFile!D101=\"\",\"\",OpenFile!D101)","v":""},{"$f":"IF(OpenFile!G101=\"\",\"\",OpenFile!G101)","v":""},{"$f":"IF(OpenFile!E101=\"\",\"\",OpenFile!E101)","v":""},null,null,null,null,null,0,0]
[100,{"$f":"IF(OpenFile!H102=\"\",\"\",OpenFile!H102)","v":""},{"$f":"IF(OpenFile!I102=\"\",\"\",OpenFile!I102)","v":""},{"$f":"IF(OpenFile!D102=\"\",\"\",OpenFile!D102)","v":""},{"$f":"IF(OpenFile!G102=\"\",\"\",OpenFile!G102)","v":""},{"$f":"IF(OpenFile!E102=\"\",\"\",OpenFile!E102)","v":""},null,null,null,null,null,0,0]
[101,{"$f":"IF(OpenFile!H103=\"\",\"\",OpenFile!H103)","v":""},{"$f":"IF(OpenFile!I103=\"\",\"\",OpenFile!I103)","v":""},{"$f":"IF(OpenFile!D103=\"\",\"\",OpenFile!D103)","v":""},{"$f":"IF(OpenFile!G103=\"\",\"\",OpenFile!G103)","v":""},{"$f":"IF(OpenFile!E103=\"\",\"\",OpenFile!E103)","v":""},null,null,null,null,null,0,0]
[102,{"$f":"IF(OpenFile!H104=\"\",\"\",OpenFile!H104)","v":""},{"$f":"IF(OpenFile!I104=\"\",\"\",OpenFile!I104)","v":""},{"$f":"IF(OpenFile!D104=\"\",\"\",OpenFile!D104)","v":""},{"$f":"IF(OpenFile!G104=\"\",\"\",OpenFile!G104)","v":""},{"$f":"IF(OpenFile!E104=\"\",\"\",OpenFile!E104)","v":""},null,null,null,null,null,0,0]
[103,{"$f":"IF(OpenFile!H105=\"\",\"\",OpenFile!H105)","v":""},{"$f":"IF(OpenFile!I105=\"\",\"\",OpenFile!I105)","v":""},{"$f":"IF(OpenFile!D105=\"\",\"\",OpenFile!D105)","v":""},{"$f":"IF(OpenFile!G105=\"\",\"\",OpenFile!G105)","v":""},{"$f":"IF(OpenFile!E105=\"\",\"\",OpenFile!E105)","v":""},null,null,null,null,null,0,0]
[104,{"$f":"IF(OpenFile!H106=\"\",\"\",OpenFile!H106)","v":""},{"$f":"IF(OpenFile!I106=\"\",\"\",OpenFile!I106)","v":""},{"$f":"IF(OpenFile!D106=\"\",\"\",OpenFile!D106)","v":""},{"$f":"IF(OpenFile!G106=\"\",\"\",OpenFile!G106)","v":""},{"$f":"IF(OpenFile!E106=\"\",\"\",OpenFile!E106)","v":""},null,null,null,null,null,0,0]
[105,{"$f":"IF(OpenFile!H107=\"\",\"\",OpenFile!H107)","v":""},{"$f":"IF(OpenFile!I107=\"\",\"\",OpenFile!I107)","v":""},{"$f":"IF(OpenFile!D107=\"\",\"\",OpenFile!D107)","v":""},{"$f":"IF(OpenFile!G107=\"\",\"\",OpenFile!G107)","v":""},{"$f":"IF(OpenFile!E107=\"\",\"\",OpenFile!E107)","v":""},null,null,null,null,null,0,0]
[106,{"$f":"IF(OpenFile!H108=\"\",\"\",OpenFile!H108)","v":""},{"$f":"IF(OpenFile!I108=\"\",\"\",OpenFile!I108)","v":""},{"$f":"IF(OpenFile!D108=\"\",\"\",OpenFile!D108)","v":""},{"$f":"IF(OpenFile!G108=\"\",\"\",OpenFile!G108)","v":""},{"$f":"IF(OpenFile!E108=\"\",\"\",OpenFile!E108)","v":""},null,null,null,null,null,0,0]
[107,{"$f":"IF(OpenFile!H109=\"\",\"\",OpenFile!H109)","v":""},{"$f":"IF(OpenFile!I109=\"\",\"\",OpenFile!I109)","v":""},{"$f":"IF(OpenFile!D109=\"\",\"\",OpenFile!D109)","v":""},{"$f":"IF(OpenFile!G109=\"\",\"\",OpenFile!G109)","v":""},{"$f":"IF(OpenFile!E109=\"\",\"\",OpenFile!E109)","v":""},null,null,null,null,null,0,0]
[108,{"$f":"IF(OpenFile!H110=\"\",\"\",OpenFile!H110)","v":""},{"$f":"IF(OpenFile!I110=\"\",\"\",OpenFile!I110)","v":""},{"$f":"IF(OpenFile!D110=\"\",\"\",OpenFile!D110)","v":""},{"$f":"IF(OpenFile!G110=\"\",\"\",OpenFile!G110)","v":""},{"$f":"IF(OpenFile!E110=\"\",\"\",OpenFile!E110)","v":""},null,null,null,null,null,0,0]
[109,{"$f":"IF(OpenFile!H111=\"\",\"\",OpenFile!H111)","v":""},{"$f":"IF(OpenFile!I111=\"\",\"\",OpenFile!I111)","v":""},{"$f":"IF(OpenFile!D111=\"\",\"\",OpenFile!D111)","v":""},{"$f":"IF(OpenFile!G111=\"\",\"\",OpenFile!G111)","v":""},{"$f":"IF(OpenFile!E111=\"\",\"\",OpenFile!E111)","v":""},null,null,null,null,null,0,0]
[110,{"$f":"IF(OpenFile!H112=\"\",\"\",OpenFile!H112)","v":""},{"$f":"IF(OpenFile!I112=\"\",\"\",OpenFile!I112)","v":""},{"$f":"IF(OpenFile!D112=\"\",\"\",OpenFile!D112)","v":""},{"$f":"IF(OpenFile!G112=\"\",\"\",OpenFile!G112)","v":""},{"$f":"IF(OpenFile!E112=\"\",\"\",OpenFile!E112)","v":""},null,null,null,null,null,0,0]
[111,{"$f":"IF(OpenFile!H113=\"\",\"\",OpenFile!H113)","v":""},{"$f":"IF(OpenFile!I113=\"\",\"\",OpenFile!I113)","v":""},{"$f":"IF(OpenFile!D113=\"\",\"\",OpenFile!D113)","v":""},{"$f":"IF(OpenFile!G113=\"\",\"\",OpenFile!G113)","v":""},{"$f":"IF(OpenFile!E113=\"\",\"\",OpenFile!E113)","v":""},null,null,null,null,null,0,0]
[112,{"$f":"IF(OpenFile!H114=\"\",\"\",OpenFile!H114)","v":""},{"$f":"IF(OpenFile!I114=\"\",\"\",OpenFile!I114)","v":""},{"$f":"IF(OpenFile!D114=\"\",\"\",OpenFile!D114)","v":""},{"$f":"IF(OpenFile!G114=\"\",\"\",OpenFile!G114)","v":""},{"$f":"IF(OpenFile!E114=\"\",\"\",OpenFile!E114)","v":""},null,null,null,null,null,0,0]
[113,{"$f":"IF(OpenFile!H115=\"\",\"\",OpenFile!H115)","v":""},{"$f":"IF(OpenFile!I115=\"\",\"\",OpenFile!I115)","v":""},{"$f":"IF(OpenFile!D115=\"\",\"\",OpenFile!D115)","v":""},{"$f":"IF(OpenFile!G115=\"\",\"\",OpenFile!G115)","v":""},{"$f":"IF(OpenFile!E115=\"\",\"\",OpenFile!E115)","v":""},null,null,null,null,null,0,0]
[114,{"$f":"IF(OpenFile!H116=\"\",\"\",OpenFile!H116)","v":""},{"$f":"IF(OpenFile!I116=\"\",\"\",OpenFile!I116)","v":""},{"$f":"IF(OpenFile!D116=\"\",\"\",OpenFile!D116)","v":""},{"$f":"IF(OpenFile!G116=\"\",\"\",OpenFile!G116)","v":""},{"$f":"IF(OpenFile!E116=\"\",\"\",OpenFile!E116)","v":""},null,null,null,null,null,0,0]
[115,{"$f":"IF(OpenFile!H117=\"\",\"\",OpenFile!H117)","v":""},{"$f":"IF(OpenFile!I117=\"\",\"\",OpenFile!I117)","v":""},{"$f":"IF(OpenFile!D117=\"\",\"\",OpenFile!D117)","v":""},{"$f":"IF(OpenFile!G117=\"\",\"\",OpenFile!G117)","v":""},{"$f":"IF(OpenFile!E117=\"\",\"\",OpenFile!E117)","v":""},null,null,null,null,null,0,0]
[116,{"$f":"IF(OpenFile!H118=\"\",\"\",OpenFile!H118)","v":""},{"$f":"IF(OpenFile!I118=\"\",\"\",OpenFile!I118)","v":""},{"$f":"IF(OpenFile!D118=\"\",\"\",OpenFile!D118)","v":""},{"$f":"IF(OpenFile!G118=\"\",\"\",OpenFile!G118)","v":""},{"$f":"IF(OpenFile!E118=\"\",\"\",OpenFile!E118)","v":""},null,null,null,null,null,0,0]
[117,{"$f":"IF(OpenFile!H119=\"\",\"\",OpenFile!H119)","v":""},{"$f":"IF(OpenFile!I119=\"\",\"\",OpenFile!I119)","v":""},{"$f":"IF(OpenFile!D119=\"\",\"\",OpenFile!D119)","v":""},{"$f":"IF(OpenFile!G119=\"\",\"\",OpenFile!G119)","v":""},{"$f":"IF(OpenFile!E119=\"\",\"\",OpenFile!E119)","v":""},null,null,null,null,null,0,0]
[118,{"$f":"IF(OpenFile!H120=\"\",\"\",OpenFile!H120)","v":""},{"$f":"IF(OpenFile!I120=\"\",\"\",OpenFile!I120)","v":""},{"$f":"IF(OpenFile!D120=\"\",\"\",OpenFile!D120)","v":""},{"$f":"IF(OpenFile!G120=\"\",\"\",OpenFile!G120)","v":""},{"$f":"IF(OpenFile!E120=\"\",\"\",OpenFile!E120)","v":""},null,null,null,null,null,0,0]
[119,{"$f":"IF(OpenFile!H121=\"\",\"\",OpenFile!H121)","v":""},{"$f":"IF(OpenFile!I121=\"\",\"\",OpenFile!I121)","v":""},{"$f":"IF(OpenFile!D121=\"\",\"\",OpenFile!D121)","v":""},{"$f":"IF(OpenFile!G121=\"\",\"\",OpenFile!G121)","v":""},{"$f":"IF(OpenFile!E121=\"\",\"\",OpenFile!E121)","v":""},null,null,null,null,null,0,0]
[120,{"$f":"IF(OpenFile!H122=\"\",\"\",OpenFile!H122)","v":""},{"$f":"IF(OpenFile!I122=\"\",\"\",OpenFile!I122)","v":""},{"$f":"IF(OpenFile!D122=\"\",\"\",OpenFile!D122)","v":""},{"$f":"IF(OpenFile!G122=\"\",\"\",OpenFile!G122)","v":""},{"$f":"IF(OpenFile!E122=\"\",\"\",OpenFile!E122)","v":""},null,null,null,null,null,0,0]
[121,{"$f":"IF(OpenFile!H123=\"\",\"\",OpenFile!H123)","v":""},{"$f":"IF(OpenFile!I123=\"\",\"\",OpenFile!I123)","v":""},{"$f":"IF(OpenFile!D123=\"\",\"\",OpenFile!D123)","v":""},{"$f":"IF(OpenFile!G123=\"\",\"\",OpenFile!G123)","v":""},{"$f":"IF(OpenFile!E123=\"\",\"\",OpenFile!E123)","v":""},null,null,null,null,null,0,0]
[122,{"$f":"IF(OpenFile!H124=\"\",\"\",OpenFile!H124)","v":""},{"$f":"IF(OpenFile!I124=\"\",\"\",OpenFile!I124)","v":""},{"$f":"IF(OpenFile!D124=\"\",\"\",OpenFile!D124)","v":""},{"$f":"IF(OpenFile!G124=\"\",\"\",OpenFile!G124)","v":""},{"$f":"IF(OpenFile!E124=\"\",\"\",OpenFile!E124)","v":""},null,null,null,null,null,0,0]
[123,{"$f":"IF(OpenFile!H125=\"\",\"\",OpenFile!H125)","v":""},{"$f":"IF(OpenFile!I125=\"\",\"\",OpenFile!I125)","v":""},{"$f":"IF(OpenFile!D125=\"\",\"\",OpenFile!D125)","v":""},{"$f":"IF(OpenFile!G125=\"\",\"\",OpenFile!G125)","v":""},{"$f":"IF(OpenFile!E125=\"\",\"\",OpenFile!E125)","v":""},null,null,null,null,null,0,0]
[124,{"$f":"IF(OpenFile!H126=\"\",\"\",OpenFile!H126)","v":""},{"$f":"IF(OpenFile!I126=\"\",\"\",OpenFile!I126)","v":""},{"$f":"IF(OpenFile!D126=\"\",\"\",OpenFile!D126)","v":""},{"$f":"IF(OpenFile!G126=\"\",\"\",OpenFile!G126)","v":""},{"$f":"IF(OpenFile!E126=\"\",\"\",OpenFile!E126)","v":""},null,null,null,null,null,0,0]
[125,{"$f":"IF(OpenFile!H127=\"\",\"\",OpenFile!H127)","v":""},{"$f":"IF(OpenFile!I127=\"\",\"\",OpenFile!I127)","v":""},{"$f":"IF(OpenFile!D127=\"\",\"\",OpenFile!D127)","v":""},{"$f":"IF(OpenFile!G127=\"\",\"\",OpenFile!G127)","v":""},{"$f":"IF(OpenFile!E127=\"\",\"\",OpenFile!E127)","v":""},null,null,null,null,null,{"$f":"ROUND(H138,0)","v":0},0]
[126,{"$f":"IF(OpenFile!H128=\"\",\"\",OpenFile!H128)","v":""},{"$f":"IF(OpenFile!I128=\"\",\"\",OpenFile!I128)","v":""},{"$f":"IF(OpenFile!D128=\"\",\"\",OpenFile!D128)","v":""},{"$f":"IF(OpenFile!G128=\"\",\"\",OpenFile!G128)","v":""},{"$f":"IF(OpenFile!E128=\"\",\"\",OpenFile!E128)","v":""},null,null,null,null,null,0,0]
[127,{"$f":"IF(OpenFile!H129=\"\",\"\",OpenFile!H129)","v":""},{"$f":"IF(OpenFile!I129=\"\",\"\",OpenFile!I129)","v":""},{"$f":"IF(OpenFile!D129=\"\",\"\",OpenFile!D129)","v":""},{"$f":"IF(OpenFile!G129=\"\",\"\",OpenFile!G129)","v":""},{"$f":"IF(OpenFile!E129=\"\",\"\",OpenFile!E129)","v":""},null,null,null,null,null,0,0]
[128,{"$f":"IF(OpenFile!H130=\"\",\"\",OpenFile!H130)","v":""},{"$f":"IF(OpenFile!I130=\"\",\"\",OpenFile!I130)","v":""},{"$f":"IF(OpenFile!D130=\"\",\"\",OpenFile!D130)","v":""},{"$f":"IF(OpenFile!G130=\"\",\"\",OpenFile!G130)","v":""},{"$f":"IF(OpenFile!E130=\"\",\"\",OpenFile!E130)","v":""},null,null,null,null,null,0,0]
[129,{"$f":"IF(OpenFile!H131=\"\",\"\",OpenFile!H131)","v":""},{"$f":"IF(OpenFile!I131=\"\",\"\",OpenFile!I131)","v":""},{"$f":"IF(OpenFile!D131=\"\",\"\",OpenFile!D131)","v":""},{"$f":"IF(OpenFile!G131=\"\",\"\",OpenFile!G131)","v":""},{"$f":"IF(OpenFile!E131=\"\",\"\",OpenFile!E131)","v":""},null,null,null,null,null,0,0]
[130,{"$f":"IF(OpenFile!H132=\"\",\"\",OpenFile!H132)","v":""},{"$f":"IF(OpenFile!I132=\"\",\"\",OpenFile!I132)","v":""},{"$f":"IF(OpenFile!D132=\"\",\"\",OpenFile!D132)","v":""},{"$f":"IF(OpenFile!G132=\"\",\"\",OpenFile!G132)","v":""},{"$f":"IF(OpenFile!E132=\"\",\"\",OpenFile!E132)","v":""},null,null,null,null,null,0,0]
[131,{"$f":"IF(OpenFile!H133=\"\",\"\",OpenFile!H133)","v":""},{"$f":"IF(OpenFile!I133=\"\",\"\",OpenFile!I133)","v":""},{"$f":"IF(OpenFile!D133=\"\",\"\",OpenFile!D133)","v":""},{"$f":"IF(OpenFile!G133=\"\",\"\",OpenFile!G133)","v":""},{"$f":"IF(OpenFile!E133=\"\",\"\",OpenFile!E133)","v":""},null,null,null,null,null,0,0]
[132,{"$f":"IF(OpenFile!H134=\"\",\"\",OpenFile!H134)","v":""},{"$f":"IF(OpenFile!I134=\"\",\"\",OpenFile!I134)","v":""},{"$f":"IF(OpenFile!D134=\"\",\"\",OpenFile!D134)","v":""},{"$f":"IF(OpenFile!G134=\"\",\"\",OpenFile!G134)","v":""},{"$f":"IF(OpenFile!E134=\"\",\"\",OpenFile!E134)","v":""},null,null,null,null,null,0,0]
[133,{"$f":"IF(OpenFile!H135=\"\",\"\",OpenFile!H135)","v":""},{"$f":"IF(OpenFile!I135=\"\",\"\",OpenFile!I135)","v":""},{"$f":"IF(OpenFile!D135=\"\",\"\",OpenFile!D135)","v":""},{"$f":"IF(OpenFile!G135=\"\",\"\",OpenFile!G135)","v":""},{"$f":"IF(OpenFile!E135=\"\",\"\",OpenFile!E135)","v":""},null,null,null,null,null,0,0]
[134,{"$f":"IF(OpenFile!H136=\"\",\"\",OpenFile!H136)","v":""},{"$f":"IF(OpenFile!I136=\"\",\"\",OpenFile!I136)","v":""},{"$f":"IF(OpenFile!D136=\"\",\"\",OpenFile!D136)","v":""},{"$f":"IF(OpenFile!G136=\"\",\"\",OpenFile!G136)","v":""},{"$f":"IF(OpenFile!E136=\"\",\"\",OpenFile!E136)","v":""},null,null,null,null,null,0,0]
[135,{"$f":"IF(OpenFile!H137=\"\",\"\",OpenFile!H137)","v":""},{"$f":"IF(OpenFile!I137=\"\",\"\",OpenFile!I137)","v":""},{"$f":"IF(OpenFile!D137=\"\",\"\",OpenFile!D137)","v":""},{"$f":"IF(OpenFile!G137=\"\",\"\",OpenFile!G137)","v":""},{"$f":"IF(OpenFile!E137=\"\",\"\",OpenFile!E137)","v":""},null,null,null,null,null,0,0]
[136,{"$f":"IF(OpenFile!H138=\"\",\"\",OpenFile!H138)","v":""},{"$f":"IF(OpenFile!I138=\"\",\"\",OpenFile!I138)","v":""},{"$f":"IF(OpenFile!D138=\"\",\"\",OpenFile!D138)","v":""},{"$f":"IF(OpenFile!G138=\"\",\"\",OpenFile!G138)","v":""},{"$f":"IF(OpenFile!E138=\"\",\"\",OpenFile!E138)","v":""},null,null,null,null,null,0,0]
[137,{"$f":"IF(OpenFile!H139=\"\",\"\",OpenFile!H139)","v":""},{"$f":"IF(OpenFile!I139=\"\",\"\",OpenFile!I139)","v":""},{"$f":"IF(OpenFile!D139=\"\",\"\",OpenFile!D139)","v":""},{"$f":"IF(OpenFile!G139=\"\",\"\",OpenFile!G139)","v":""},{"$f":"IF(OpenFile!E139=\"\",\"\",OpenFile!E139)","v":""},null,null,null,null,null,0,0]
[138,{"$f":"IF(OpenFile!H140=\"\",\"\",OpenFile!H140)","v":""},{"$f":"IF(OpenFile!I140=\"\",\"\",OpenFile!I140)","v":""},{"$f":"IF(OpenFile!D140=\"\",\"\",OpenFile!D140)","v":""},{"$f":"IF(OpenFile!G140=\"\",\"\",OpenFile!G140)","v":""},{"$f":"IF(OpenFile!E140=\"\",\"\",OpenFile!E140)","v":""},null,null,null,null,null,0,0]
[139,{"$f":"IF(OpenFile!H141=\"\",\"\",OpenFile!H141)","v":""},{"$f":"IF(OpenFile!I141=\"\",\"\",OpenFile!I141)","v":""},{"$f":"IF(OpenFile!D141=\"\",\"\",OpenFile!D141)","v":""},{"$f":"IF(OpenFile!G141=\"\",\"\",OpenFile!G141)","v":""},{"$f":"IF(OpenFile!E141=\"\",\"\",OpenFile!E141)","v":""},null,null,null,null,null,0,0]
[140,{"$f":"IF(OpenFile!H142=\"\",\"\",OpenFile!H142)","v":""},{"$f":"IF(OpenFile!I142=\"\",\"\",OpenFile!I142)","v":""},{"$f":"IF(OpenFile!D142=\"\",\"\",OpenFile!D142)","v":""},{"$f":"IF(OpenFile!G142=\"\",\"\",OpenFile!G142)","v":""},{"$f":"IF(OpenFile!E142=\"\",\"\",OpenFile!E142)","v":""},null,null,null,null,null,0,0]
[141,{"$f":"IF(OpenFile!H143=\"\",\"\",OpenFile!H143)","v":""},{"$f":"IF(OpenFile!I143=\"\",\"\",OpenFile!I143)","v":""},{"$f":"IF(OpenFile!D143=\"\",\"\",OpenFile!D143)","v":""},{"$f":"IF(OpenFile!G143=\"\",\"\",OpenFile!G143)","v":""},{"$f":"IF(OpenFile!E143=\"\",\"\",OpenFile!E143)","v":""},null,null,null,null,null,0,0]
[142,{"$f":"IF(OpenFile!H144=\"\",\"\",OpenFile!H144)","v":""},{"$f":"IF(OpenFile!I144=\"\",\"\",OpenFile!I144)","v":""},{"$f":"IF(OpenFile!D144=\"\",\"\",OpenFile!D144)","v":""},{"$f":"IF(OpenFile!G144=\"\",\"\",OpenFile!G144)","v":""},{"$f":"IF(OpenFile!E144=\"\",\"\",OpenFile!E144)","v":""},null,null,null,null,null,0,0]
[143,{"$f":"IF(OpenFile!H145=\"\",\"\",OpenFile!H145)","v":""},{"$f":"IF(OpenFile!I145=\"\",\"\",OpenFile!I145)","v":""},{"$f":"IF(OpenFile!D145=\"\",\"\",OpenFile!D145)","v":""},{"$f":"IF(OpenFile!G145=\"\",\"\",OpenFile!G145)","v":""},{"$f":"IF(OpenFile!E145=\"\",\"\",OpenFile!E145)","v":""},null,null,null,null,null,0,0]
[144,{"$f":"IF(OpenFile!H146=\"\",\"\",OpenFile!H146)","v":""},{"$f":"IF(OpenFile!I146=\"\",\"\",OpenFile!I146)","v":""},{"$f":"IF(OpenFile!D146=\"\",\"\",OpenFile!D146)","v":""},{"$f":"IF(OpenFile!G146=\"\",\"\",OpenFile!G146)","v":""},{"$f":"IF(OpenFile!E146=\"\",\"\",OpenFile!E146)","v":""},null,null,null,null,null,0,0]
[145,{"$f":"IF(OpenFile!H147=\"\",\"\",OpenFile!H147)","v":""},{"$f":"IF(OpenFile!I147=\"\",\"\",OpenFile!I147)","v":""},{"$f":"IF(OpenFile!D147=\"\",\"\",OpenFile!D147)","v":""},{"$f":"IF(OpenFile!G147=\"\",\"\",OpenFile!G147)","v":""},{"$f":"IF(OpenFile!E147=\"\",\"\",OpenFile!E147)","v":""},null,null,null,null,null,0,0]
[146,{"$f":"IF(OpenFile!H148=\"\",\"\",OpenFile!H148)","v":""},{"$f":"IF(OpenFile!I148=\"\",\"\",OpenFile!I148)","v":""},{"$f":"IF(OpenFile!D148=\"\",\"\",OpenFile!D148)","v":""},{"$f":"IF(OpenFile!G148=\"\",\"\",OpenFile!G148)","v":""},{"$f":"IF(OpenFile!E148=\"\",\"\",OpenFile!E148)","v":""},null,null,null,null,null,0,0]
[147,{"$f":"IF(OpenFile!H149=\"\",\"\",OpenFile!H149)","v":""},{"$f":"IF(OpenFile!I149=\"\",\"\",OpenFile!I149)","v":""},{"$f":"IF(OpenFile!D149=\"\",\"\",OpenFile!D149)","v":""},{"$f":"IF(OpenFile!G149=\"\",\"\",OpenFile!G149)","v":""},{"$f":"IF(OpenFile!E149=\"\",\"\",OpenFile!E149)","v":""},null,null,null,null,null,0,0]
[148,{"$f":"IF(OpenFile!H150=\"\",\"\",OpenFile!H150)","v":""},{"$f":"IF(OpenFile!I150=\"\",\"\",OpenFile!I150)","v":""},{"$f":"IF(OpenFile!D150=\"\",\"\",OpenFile!D150)","v":""},{"$f":"IF(OpenFile!G150=\"\",\"\",OpenFile!G150)","v":""},{"$f":"IF(OpenFile!E150=\"\",\"\",OpenFile!E150)","v":""},null,null,null,null,null,0,0]
[149,{"$f":"IF(OpenFile!H151=\"\",\"\",OpenFile!H151)","v":""},{"$f":"IF(OpenFile!I151=\"\",\"\",OpenFile!I151)","v":""},{"$f":"IF(OpenFile!D151=\"\",\"\",OpenFile!D151)","v":""},{"$f":"IF(OpenFile!G151=\"\",\"\",OpenFile!G151)","v":""},{"$f":"IF(OpenFile!E151=\"\",\"\",OpenFile!E151)","v":""},null,null,null,null,null,0,0]
[150,{"$f":"IF(OpenFile!H152=\"\",\"\",OpenFile!H152)","v":""},{"$f":"IF(OpenFile!I152=\"\",\"\",OpenFile!I152)","v":""},{"$f":"IF(OpenFile!D152=\"\",\"\",OpenFile!D152)","v":""},{"$f":"IF(OpenFile!G152=\"\",\"\",OpenFile!G152)","v":""},{"$f":"IF(OpenFile!E152=\"\",\"\",OpenFile!E152)","v":""},null,null,null,null,null,0,0]
[151,{"$f":"IF(OpenFile!H153=\"\",\"\",OpenFile!H153)","v":""},{"$f":"IF(OpenFile!I153=\"\",\"\",OpenFile!I153)","v":""},{"$f":"IF(OpenFile!D153=\"\",\"\",OpenFile!D153)","v":""},{"$f":"IF(OpenFile!G153=\"\",\"\",OpenFile!G153)","v":""},{"$f":"IF(OpenFile!E153=\"\",\"\",OpenFile!E153)","v":""},null,null,null,null,null,0,0]
[152,{"$f":"IF(OpenFile!H154=\"\",\"\",OpenFile!H154)","v":""},{"$f":"IF(OpenFile!I154=\"\",\"\",OpenFile!I154)","v":""},{"$f":"IF(OpenFile!D154=\"\",\"\",OpenFile!D154)","v":""},{"$f":"IF(OpenFile!G154=\"\",\"\",OpenFile!G154)","v":""},{"$f":"IF(OpenFile!E154=\"\",\"\",OpenFile!E154)","v":""},null,null,null,null,null,0,0]
[153,{"$f":"IF(OpenFile!H155=\"\",\"\",OpenFile!H155)","v":""},{"$f":"IF(OpenFile!I155=\"\",\"\",OpenFile!I155)","v":""},{"$f":"IF(OpenFile!D155=\"\",\"\",OpenFile!D155)","v":""},{"$f":"IF(OpenFile!G155=\"\",\"\",OpenFile!G155)","v":""},{"$f":"IF(OpenFile!E155=\"\",\"\",OpenFile!E155)","v":""},null,null,null,null,null,0,0]
[154,{"$f":"IF(OpenFile!H156=\"\",\"\",OpenFile!H156)","v":""},{"$f":"IF(OpenFile!I156=\"\",\"\",OpenFile!I156)","v":""},{"$f":"IF(OpenFile!D156=\"\",\"\",OpenFile!D156)","v":""},{"$f":"IF(OpenFile!G156=\"\",\"\",OpenFile!G156)","v":""},{"$f":"IF(OpenFile!E156=\"\",\"\",OpenFile!E156)","v":""},null,null,null,null,null,0,0]
[155,{"$f":"IF(OpenFile!H157=\"\",\"\",OpenFile!H157)","v":""},{"$f":"IF(OpenFile!I157=\"\",\"\",OpenFile!I157)","v":""},{"$f":"IF(OpenFile!D157=\"\",\"\",OpenFile!D157)","v":""},{"$f":"IF(OpenFile!G157=\"\",\"\",OpenFile!G157)","v":""},{"$f":"IF(OpenFile!E157=\"\",\"\",OpenFile!E157)","v":""},null,null,null,null,null,0,0]
[156,{"$f":"IF(OpenFile!H158=\"\",\"\",OpenFile!H158)","v":""},{"$f":"IF(OpenFile!I158=\"\",\"\",OpenFile!I158)","v":""},{"$f":"IF(OpenFile!D158=\"\",\"\",OpenFile!D158)","v":""},{"$f":"IF(OpenFile!G158=\"\",\"\",OpenFile!G158)","v":""},{"$f":"IF(OpenFile!E158=\"\",\"\",OpenFile!E158)","v":""},null,null,null,null,null,0,0]
[157,{"$f":"IF(OpenFile!H159=\"\",\"\",OpenFile!H159)","v":""},{"$f":"IF(OpenFile!I159=\"\",\"\",OpenFile!I159)","v":""},{"$f":"IF(OpenFile!D159=\"\",\"\",OpenFile!D159)","v":""},{"$f":"IF(OpenFile!G159=\"\",\"\",OpenFile!G159)","v":""},{"$f":"IF(OpenFile!E159=\"\",\"\",OpenFile!E159)","v":""},null,null,null,null,null,0,0]
[158,{"$f":"IF(OpenFile!H160=\"\",\"\",OpenFile!H160)","v":""},{"$f":"IF(OpenFile!I160=\"\",\"\",OpenFile!I160)","v":""},{"$f":"IF(OpenFile!D160=\"\",\"\",OpenFile!D160)","v":""},{"$f":"IF(OpenFile!G160=\"\",\"\",OpenFile!G160)","v":""},{"$f":"IF(OpenFile!E160=\"\",\"\",OpenFile!E160)","v":""},null,null,null,null,null,0,0]
[159,{"$f":"IF(OpenFile!H161=\"\",\"\",OpenFile!H161)","v":""},{"$f":"IF(OpenFile!I161=\"\",\"\",OpenFile!I161)","v":""},{"$f":"IF(OpenFile!D161=\"\",\"\",OpenFile!D161)","v":""},{"$f":"IF(OpenFile!G161=\"\",\"\",OpenFile!G161)","v":""},{"$f":"IF(OpenFile!E161=\"\",\"\",OpenFile!E161)","v":""},null,null,null,null,null,0,0]
[160,{"$f":"IF(OpenFile!H162=\"\",\"\",OpenFile!H162)","v":""},{"$f":"IF(OpenFile!I162=\"\",\"\",OpenFile!I162)","v":""},{"$f":"IF(OpenFile!D162=\"\",\"\",OpenFile!D162)","v":""},{"$f":"IF(OpenFile!G162=\"\",\"\",OpenFile!G162)","v":""},{"$f":"IF(OpenFile!E162=\"\",\"\",OpenFile!E162)","v":""},null,null,null,null,null,0,0]
[161,{"$f":"IF(OpenFile!H163=\"\",\"\",OpenFile!H163)","v":""},{"$f":"IF(OpenFile!I163=\"\",\"\",OpenFile!I163)","v":""},{"$f":"IF(OpenFile!D163=\"\",\"\",OpenFile!D163)","v":""},{"$f":"IF(OpenFile!G163=\"\",\"\",OpenFile!G163)","v":""},{"$f":"IF(OpenFile!E163=\"\",\"\",OpenFile!E163)","v":""},null,null,null,null,null,0,0]
[162,{"$f":"IF(OpenFile!H164=\"\",\"\",OpenFile!H164)","v":""},{"$f":"IF(OpenFile!I164=\"\",\"\",OpenFile!I164)","v":""},{"$f":"IF(OpenFile!D164=\"\",\"\",OpenFile!D164)","v":""},{"$f":"IF(OpenFile!G164=\"\",\"\",OpenFile!G164)","v":""},{"$f":"IF(OpenFile!E164=\"\",\"\",OpenFile!E164)","v":""},null,null,null,null,null,0,0]
[163,{"$f":"IF(OpenFile!H165=\"\",\"\",OpenFile!H165)","v":""},{"$f":"IF(OpenFile!I165=\"\",\"\",OpenFile!I165)","v":""},{"$f":"IF(OpenFile!D165=\"\",\"\",OpenFile!D165)","v":""},{"$f":"IF(OpenFile!G165=\"\",\"\",OpenFile!G165)","v":""},{"$f":"IF(OpenFile!E165=\"\",\"\",OpenFile!E165)","v":""},null,null,null,null,null,0,0]
[164,{"$f":"IF(OpenFile!H166=\"\",\"\",OpenFile!H166)","v":""},{"$f":"IF(OpenFile!I166=\"\",\"\",OpenFile!I166)","v":""},{"$f":"IF(OpenFile!D166=\"\",\"\",OpenFile!D166)","v":""},{"$f":"IF(OpenFile!G166=\"\",\"\",OpenFile!G166)","v":""},{"$f":"IF(OpenFile!E166=\"\",\"\",OpenFile!E166)","v":""},null,null,null,null,null,0,0]
[165,{"$f":"IF(OpenFile!H167=\"\",\"\",OpenFile!H167)","v":""},{"$f":"IF(OpenFile!I167=\"\",\"\",OpenFile!I167)","v":""},{"$f":"IF(OpenFile!D167=\"\",\"\",OpenFile!D167)","v":""},{"$f":"IF(OpenFile!G167=\"\",\"\",OpenFile!G167)","v":""},{"$f":"IF(OpenFile!E167=\"\",\"\",OpenFile!E167)","v":""},null,null,null,null,null,0,0]
[166,{"$f":"IF(OpenFile!H168=\"\",\"\",OpenFile!H168)","v":""},{"$f":"IF(OpenFile!I168=\"\",\"\",OpenFile!I168)","v":""},{"$f":"IF(OpenFile!D168=\"\",\"\",OpenFile!D168)","v":""},{"$f":"IF(OpenFile!G168=\"\",\"\",OpenFile!G168)","v":""},{"$f":"IF(OpenFile!E168=\"\",\"\",OpenFile!E168)","v":""},null,null,null,null,null,0,0]
[167,{"$f":"IF(OpenFile!H169=\"\",\"\",OpenFile!H169)","v":""},{"$f":"IF(OpenFile!I169=\"\",\"\",OpenFile!I169)","v":""},{"$f":"IF(OpenFile!D169=\"\",\"\",OpenFile!D169)","v":""},{"$f":"IF(OpenFile!G169=\"\",\"\",OpenFile!G169)","v":""},{"$f":"IF(OpenFile!E169=\"\",\"\",OpenFile!E169)","v":""},null,null,null,null,null,0,0]
[168,{"$f":"IF(OpenFile!H170=\"\",\"\",OpenFile!H170)","v":""},{"$f":"IF(OpenFile!I170=\"\",\"\",OpenFile!I170)","v":""},{"$f":"IF(OpenFile!D170=\"\",\"\",OpenFile!D170)","v":""},{"$f":"IF(OpenFile!G170=\"\",\"\",OpenFile!G170)","v":""},{"$f":"IF(OpenFile!E170=\"\",\"\",OpenFile!E170)","v":""},null,null,null,null,null,0,0]
[169,{"$f":"IF(OpenFile!H171=\"\",\"\",OpenFile!H171)","v":""},{"$f":"IF(OpenFile!I171=\"\",\"\",OpenFile!I171)","v":""},{"$f":"IF(OpenFile!D171=\"\",\"\",OpenFile!D171)","v":""},{"$f":"IF(OpenFile!G171=\"\",\"\",OpenFile!G171)","v":""},{"$f":"IF(OpenFile!E171=\"\",\"\",OpenFile!E171)","v":""},null,null,null,null,null,0,0]
[170,{"$f":"IF(OpenFile!H172=\"\",\"\",OpenFile!H172)","v":""},{"$f":"IF(OpenFile!I172=\"\",\"\",OpenFile!I172)","v":""},{"$f":"IF(OpenFile!D172=\"\",\"\",OpenFile!D172)","v":""},{"$f":"IF(OpenFile!G172=\"\",\"\",OpenFile!G172)","v":""},{"$f":"IF(OpenFile!E172=\"\",\"\",OpenFile!E172)","v":""},null,null,null,null,null,{"$f":"ROUND(H183,0)","v":0},0]
[171,{"$f":"IF(OpenFile!H173=\"\",\"\",OpenFile!H173)","v":""},{"$f":"IF(OpenFile!I173=\"\",\"\",OpenFile!I173)","v":""},{"$f":"IF(OpenFile!D173=\"\",\"\",OpenFile!D173)","v":""},{"$f":"IF(OpenFile!G173=\"\",\"\",OpenFile!G173)","v":""},{"$f":"IF(OpenFile!E173=\"\",\"\",OpenFile!E173)","v":""},null,null,null,null,null,0,0]
[172,{"$f":"IF(OpenFile!H174=\"\",\"\",OpenFile!H174)","v":""},{"$f":"IF(OpenFile!I174=\"\",\"\",OpenFile!I174)","v":""},{"$f":"IF(OpenFile!D174=\"\",\"\",OpenFile!D174)","v":""},{"$f":"IF(OpenFile!G174=\"\",\"\",OpenFile!G174)","v":""},{"$f":"IF(OpenFile!E174=\"\",\"\",OpenFile!E174)","v":""},null,null,null,null,null,0,0]
[173,{"$f":"IF(OpenFile!H175=\"\",\"\",OpenFile!H175)","v":""},{"$f":"IF(OpenFile!I175=\"\",\"\",OpenFile!I175)","v":""},{"$f":"IF(OpenFile!D175=\"\",\"\",OpenFile!D175)","v":""},{"$f":"IF(OpenFile!G175=\"\",\"\",OpenFile!G175)","v":""},{"$f":"IF(OpenFile!E175=\"\",\"\",OpenFile!E175)","v":""},null,null,null,null,null,0,0]
[174,{"$f":"IF(OpenFile!H176=\"\",\"\",OpenFile!H176)","v":""},{"$f":"IF(OpenFile!I176=\"\",\"\",OpenFile!I176)","v":""},{"$f":"IF(OpenFile!D176=\"\",\"\",OpenFile!D176)","v":""},{"$f":"IF(OpenFile!G176=\"\",\"\",OpenFile!G176)","v":""},{"$f":"IF(OpenFile!E176=\"\",\"\",OpenFile!E176)","v":""},null,null,null,null,null,0,0]
[175,{"$f":"IF(OpenFile!H177=\"\",\"\",OpenFile!H177)","v":""},{"$f":"IF(OpenFile!I177=\"\",\"\",OpenFile!I177)","v":""},{"$f":"IF(OpenFile!D177=\"\",\"\",OpenFile!D177)","v":""},{"$f":"IF(OpenFile!G177=\"\",\"\",OpenFile!G177)","v":""},{"$f":"IF(OpenFile!E177=\"\",\"\",OpenFile!E177)","v":""},null,null,null,null,null,0,0]
[176,{"$f":"IF(OpenFile!H178=\"\",\"\",OpenFile!H178)","v":""},{"$f":"IF(OpenFile!I178=\"\",\"\",OpenFile!I178)","v":""},{"$f":"IF(OpenFile!D178=\"\",\"\",OpenFile!D178)","v":""},{"$f":"IF(OpenFile!G178=\"\",\"\",OpenFile!G178)","v":""},{"$f":"IF(OpenFile!E178=\"\",\"\",OpenFile!E178)","v":""},null,null,null,null,null,0,0]
[177,{"$f":"IF(OpenFile!H179=\"\",\"\",OpenFile!H179)","v":""},{"$f":"IF(OpenFile!I179=\"\",\"\",OpenFile!I179)","v":""},{"$f":"IF(OpenFile!D179=\"\",\"\",OpenFile!D179)","v":""},{"$f":"IF(OpenFile!G179=\"\",\"\",OpenFile!G179)","v":""},{"$f":"IF(OpenFile!E179=\"\",\"\",OpenFile!E179)","v":""},null,null,null,null,null,0,0]
[178,{"$f":"IF(OpenFile!H180=\"\",\"\",OpenFile!H180)","v":""},{"$f":"IF(OpenFile!I180=\"\",\"\",OpenFile!I180)","v":""},{"$f":"IF(OpenFile!D180=\"\",\"\",OpenFile!D180)","v":""},{"$f":"IF(OpenFile!G180=\"\",\"\",OpenFile!G180)","v":""},{"$f":"IF(OpenFile!E180=\"\",\"\",OpenFile!E180)","v":""},null,null,null,null,null,0,0]
[179,{"$f":"IF(OpenFile!H181=\"\",\"\",OpenFile!H181)","v":""},{"$f":"IF(OpenFile!I181=\"\",\"\",OpenFile!I181)","v":""},{"$f":"IF(OpenFile!D181=\"\",\"\",OpenFile!D181)","v":""},{"$f":"IF(OpenFile!G181=\"\",\"\",OpenFile!G181)","v":""},{"$f":"IF(OpenFile!E181=\"\",\"\",OpenFile!E181)","v":""},null,null,null,null,null,0,0]
[180,{"$f":"IF(OpenFile!H182=\"\",\"\",OpenFile!H182)","v":""},{"$f":"IF(OpenFile!I182=\"\",\"\",OpenFile!I182)","v":""},{"$f":"IF(OpenFile!D182=\"\",\"\",OpenFile!D182)","v":""},{"$f":"IF(OpenFile!G182=\"\",\"\",OpenFile!G182)","v":""},{"$f":"IF(OpenFile!E182=\"\",\"\",OpenFile!E182)","v":""},null,null,null,null,null,0,0]
[181,{"$f":"IF(OpenFile!H183=\"\",\"\",OpenFile!H183)","v":""},{"$f":"IF(OpenFile!I183=\"\",\"\",OpenFile!I183)","v":""},{"$f":"IF(OpenFile!D183=\"\",\"\",OpenFile!D183)","v":""},{"$f":"IF(OpenFile!G183=\"\",\"\",OpenFile!G183)","v":""},{"$f":"IF(OpenFile!E183=\"\",\"\",OpenFile!E183)","v":""},null,null,null,null,null,0,0]
[182,{"$f":"IF(OpenFile!H184=\"\",\"\",OpenFile!H184)","v":""},{"$f":"IF(OpenFile!I184=\"\",\"\",OpenFile!I184)","v":""},{"$f":"IF(OpenFile!D184=\"\",\"\",OpenFile!D184)","v":""},{"$f":"IF(OpenFile!G184=\"\",\"\",OpenFile!G184)","v":""},{"$f":"IF(OpenFile!E184=\"\",\"\",OpenFile!E184)","v":""},null,null,null,null,null,0,0]
[183,{"$f":"IF(OpenFile!H185=\"\",\"\",OpenFile!H185)","v":""},{"$f":"IF(OpenFile!I185=\"\",\"\",OpenFile!I185)","v":""},{"$f":"IF(OpenFile!D185=\"\",\"\",OpenFile!D185)","v":""},{"$f":"IF(OpenFile!G185=\"\",\"\",OpenFile!G185)","v":""},{"$f":"IF(OpenFile!E185=\"\",\"\",OpenFile!E185)","v":""},null,null,null,null,null,0,0]
[184,{"$f":"IF(OpenFile!H186=\"\",\"\",OpenFile!H186)","v":""},{"$f":"IF(OpenFile!I186=\"\",\"\",OpenFile!I186)","v":""},{"$f":"IF(OpenFile!D186=\"\",\"\",OpenFile!D186)","v":""},{"$f":"IF(OpenFile!G186=\"\",\"\",OpenFile!G186)","v":""},{"$f":"IF(OpenFile!E186=\"\",\"\",OpenFile!E186)","v":""},null,null,null,null,null,0,0]
[185,{"$f":"IF(OpenFile!H187=\"\",\"\",OpenFile!H187)","v":""},{"$f":"IF(OpenFile!I187=\"\",\"\",OpenFile!I187)","v":""},{"$f":"IF(OpenFile!D187=\"\",\"\",OpenFile!D187)","v":""},{"$f":"IF(OpenFile!G187=\"\",\"\",OpenFile!G187)","v":""},{"$f":"IF(OpenFile!E187=\"\",\"\",OpenFile!E187)","v":""},null,null,null,null,null,0,0]
[186,{"$f":"IF(OpenFile!H188=\"\",\"\",OpenFile!H188)","v":""},{"$f":"IF(OpenFile!I188=\"\",\"\",OpenFile!I188)","v":""},{"$f":"IF(OpenFile!D188=\"\",\"\",OpenFile!D188)","v":""},{"$f":"IF(OpenFile!G188=\"\",\"\",OpenFile!G188)","v":""},{"$f":"IF(OpenFile!E188=\"\",\"\",OpenFile!E188)","v":""},null,null,null,null,null,0,0]
[187,{"$f":"IF(OpenFile!H189=\"\",\"\",OpenFile!H189)","v":""},{"$f":"IF(OpenFile!I189=\"\",\"\",OpenFile!I189)","v":""},{"$f":"IF(OpenFile!D189=\"\",\"\",OpenFile!D189)","v":""},{"$f":"IF(OpenFile!G189=\"\",\"\",OpenFile!G189)","v":""},{"$f":"IF(OpenFile!E189=\"\",\"\",OpenFile!E189)","v":""},null,null,null,null,null,0,0]
[188,{"$f":"IF(OpenFile!H190=\"\",\"\",OpenFile!H190)","v":""},{"$f":"IF(OpenFile!I190=\"\",\"\",OpenFile!I190)","v":""},{"$f":"IF(OpenFile!D190=\"\",\"\",OpenFile!D190)","v":""},{"$f":"IF(OpenFile!G190=\"\",\"\",OpenFile!G190)","v":""},{"$f":"IF(OpenFile!E190=\"\",\"\",OpenFile!E190)","v":""},null,null,null,null,null,0,0]
[189,{"$f":"IF(OpenFile!H191=\"\",\"\",OpenFile!H191)","v":""},{"$f":"IF(OpenFile!I191=\"\",\"\",OpenFile!I191)","v":""},{"$f":"IF(OpenFile!D191=\"\",\"\",OpenFile!D191)","v":""},{"$f":"IF(OpenFile!G191=\"\",\"\",OpenFile!G191)","v":""},{"$f":"IF(OpenFile!E191=\"\",\"\",OpenFile!E191)","v":""},null,null,null,null,null,0,0]
[190,{"$f":"IF(OpenFile!H192=\"\",\"\",OpenFile!H192)","v":""},{"$f":"IF(OpenFile!I192=\"\",\"\",OpenFile!I192)","v":""},{"$f":"IF(OpenFile!D192=\"\",\"\",OpenFile!D192)","v":""},{"$f":"IF(OpenFile!G192=\"\",\"\",OpenFile!G192)","v":""},{"$f":"IF(OpenFile!E192=\"\",\"\",OpenFile!E192)","v":""},null,null,null,null,null,0,0]
[191,{"$f":"IF(OpenFile!H193=\"\",\"\",OpenFile!H193)","v":""},{"$f":"IF(OpenFile!I193=\"\",\"\",OpenFile!I193)","v":""},{"$f":"IF(OpenFile!D193=\"\",\"\",OpenFile!D193)","v":""},{"$f":"IF(OpenFile!G193=\"\",\"\",OpenFile!G193)","v":""},{"$f":"IF(OpenFile!E193=\"\",\"\",OpenFile!E193)","v":""},null,null,null,null,null,0,0]
[192,{"$f":"IF(OpenFile!H194=\"\",\"\",OpenFile!H194)","v":""},{"$f":"IF(OpenFile!I194=\"\",\"\",OpenFile!I194)","v":""},{"$f":"IF(OpenFile!D194=\"\",\"\",OpenFile!D194)","v":""},{"$f":"IF(OpenFile!G194=\"\",\"\",OpenFile!G194)","v":""},{"$f":"IF(OpenFile!E194=\"\",\"\",OpenFile!E194)","v":""},null,null,null,null,null,0,0]
[193,{"$f":"IF(OpenFile!H195=\"\",\"\",OpenFile!H195)","v":""},{"$f":"IF(OpenFile!I195=\"\",\"\",OpenFile!I195)","v":""},{"$f":"IF(OpenFile!D195=\"\",\"\",OpenFile!D195)","v":""},{"$f":"IF(OpenFile!G195=\"\",\"\",OpenFile!G195)","v":""},{"$f":"IF(OpenFile!E195=\"\",\"\",OpenFile!E195)","v":""},null,null,null,null,null,0,0]
[194,{"$f":"IF(OpenFile!H196=\"\",\"\",OpenFile!H196)","v":""},{"$f":"IF(OpenFile!I196=\"\",\"\",OpenFile!I196)","v":""},{"$f":"IF(OpenFile!D196=\"\",\"\",OpenFile!D196)","v":""},{"$f":"IF(OpenFile!G196=\"\",\"\",OpenFile!G196)","v":""},{"$f":"IF(OpenFile!E196=\"\",\"\",OpenFile!E196)","v":""},null,null,null,null,null,0,0]
[195,{"$f":"IF(OpenFile!H197=\"\",\"\",OpenFile!H197)","v":""},{"$f":"IF(OpenFile!I197=\"\",\"\",OpenFile!I197)","v":""},{"$f":"IF(OpenFile!D197=\"\",\"\",OpenFile!D197)","v":""},{"$f":"IF(OpenFile!G197=\"\",\"\",OpenFile!G197)","v":""},{"$f":"IF(OpenFile!E197=\"\",\"\",OpenFile!E197)","v":""},null,null,null,null,null,0,0]
[196,{"$f":"IF(OpenFile!H198=\"\",\"\",OpenFile!H198)","v":""},{"$f":"IF(OpenFile!I198=\"\",\"\",OpenFile!I198)","v":""},{"$f":"IF(OpenFile!D198=\"\",\"\",OpenFile!D198)","v":""},{"$f":"IF(OpenFile!G198=\"\",\"\",OpenFile!G198)","v":""},{"$f":"IF(OpenFile!E198=\"\",\"\",OpenFile!E198)","v":""},null,null,null,null,null,0,0]
[197,{"$f":"IF(OpenFile!H199=\"\",\"\",OpenFile!H199)","v":""},{"$f":"IF(OpenFile!I199=\"\",\"\",OpenFile!I199)","v":""},{"$f":"IF(OpenFile!D199=\"\",\"\",OpenFile!D199)","v":""},{"$f":"IF(OpenFile!G199=\"\",\"\",OpenFile!G199)","v":""},{"$f":"IF(OpenFile!E199=\"\",\"\",OpenFile!E199)","v":""},null,null,null,null,null,0,0]
[198,{"$f":"IF(OpenFile!H200=\"\",\"\",OpenFile!H200)","v":""},{"$f":"IF(OpenFile!I200=\"\",\"\",OpenFile!I200)","v":""},{"$f":"IF(OpenFile!D200=\"\",\"\",OpenFile!D200)","v":""},{"$f":"IF(OpenFile!G200=\"\",\"\",OpenFile!G200)","v":""},{"$f":"IF(OpenFile!E200=\"\",\"\",OpenFile!E200)","v":""},null,null,null,null,null,0,0]
[199,{"$f":"IF(OpenFile!H201=\"\",\"\",OpenFile!H201)","v":""},{"$f":"IF(OpenFile!I201=\"\",\"\",OpenFile!I201)","v":""},{"$f":"IF(OpenFile!D201=\"\",\"\",OpenFile!D201)","v":""},{"$f":"IF(OpenFile!G201=\"\",\"\",OpenFile!G201)","v":""},{"$f":"IF(OpenFile!E201=\"\",\"\",OpenFile!E201)","v":""},null,null,null,null,null,0,0]
[200,{"$f":"IF(OpenFile!H202=\"\",\"\",OpenFile!H202)","v":""},{"$f":"IF(OpenFile!I202=\"\",\"\",OpenFile!I202)","v":""},{"$f":"IF(OpenFile!D202=\"\",\"\",OpenFile!D202)","v":""},{"$f":"IF(OpenFile!G202=\"\",\"\",OpenFile!G202)","v":""},{"$f":"IF(OpenFile!E202=\"\",\"\",OpenFile!E202)","v":""},null,null,null,null,null,0,0]
[201,{"$f":"IF(OpenFile!H203=\"\",\"\",OpenFile!H203)","v":""},{"$f":"IF(OpenFile!I203=\"\",\"\",OpenFile!I203)","v":""},{"$f":"IF(OpenFile!D203=\"\",\"\",OpenFile!D203)","v":""},{"$f":"IF(OpenFile!G203=\"\",\"\",OpenFile!G203)","v":""},{"$f":"IF(OpenFile!E203=\"\",\"\",OpenFile!E203)","v":""},null,null,null,null,null,0,0]
[202,{"$f":"IF(OpenFile!H204=\"\",\"\",OpenFile!H204)","v":""},{"$f":"IF(OpenFile!I204=\"\",\"\",OpenFile!I204)","v":""},{"$f":"IF(OpenFile!D204=\"\",\"\",OpenFile!D204)","v":""},{"$f":"IF(OpenFile!G204=\"\",\"\",OpenFile!G204)","v":""},{"$f":"IF(OpenFile!E204=\"\",\"\",OpenFile!E204)","v":""},null,null,null,null,null,0,0]
[203,{"$f":"IF(OpenFile!H205=\"\",\"\",OpenFile!H205)","v":""},{"$f":"IF(OpenFile!I205=\"\",\"\",OpenFile!I205)","v":""},{"$f":"IF(OpenFile!D205=\"\",\"\",OpenFile!D205)","v":""},{"$f":"IF(OpenFile!G205=\"\",\"\",OpenFile!G205)","v":""},{"$f":"IF(OpenFile!E205=\"\",\"\",OpenFile!E205)","v":""},null,null,null,null,null,0,0]
[204,{"$f":"IF(OpenFile!H206=\"\",\"\",OpenFile!H206)","v":""},{"$f":"IF(OpenFile!I206=\"\",\"\",OpenFile!I206)","v":""},{"$f":"IF(OpenFile!D206=\"\",\"\",OpenFile!D206)","v":""},{"$f":"IF(OpenFile!G206=\"\",\"\",OpenFile!G206)","v":""},{"$f":"IF(OpenFile!E206=\"\",\"\",OpenFile!E206)","v":""},null,null,null,null,null,0,0]
[205,{"$f":"IF(OpenFile!H207=\"\",\"\",OpenFile!H207)","v":""},{"$f":"IF(OpenFile!I207=\"\",\"\",OpenFile!I207)","v":""},{"$f":"IF(OpenFile!D207=\"\",\"\",OpenFile!D207)","v":""},{"$f":"IF(OpenFile!G207=\"\",\"\",OpenFile!G207)","v":""},{"$f":"IF(OpenFile!E207=\"\",\"\",OpenFile!E207)","v":""},null,null,null,null,null,0,0]
[206,{"$f":"IF(OpenFile!H208=\"\",\"\",OpenFile!H208)","v":""},{"$f":"IF(OpenFile!I208=\"\",\"\",OpenFile!I208)","v":""},{"$f":"IF(OpenFile!D208=\"\",\"\",OpenFile!D208)","v":""},{"$f":"IF(OpenFile!G208=\"\",\"\",OpenFile!G208)","v":""},{"$f":"IF(OpenFile!E208=\"\",\"\",OpenFile!E208)","v":""},null,null,null,null,null,0,0]
[207,{"$f":"IF(OpenFile!H209=\"\",\"\",OpenFile!H209)","v":""},{"$f":"IF(OpenFile!I209=\"\",\"\",OpenFile!I209)","v":""},{"$f":"IF(OpenFile!D209=\"\",\"\",OpenFile!D209)","v":""},{"$f":"IF(OpenFile!G209=\"\",\"\",OpenFile!G209)","v":""},{"$f":"IF(OpenFile!E209=\"\",\"\",OpenFile!E209)","v":""},null,null,null,null,null,0,0]
[208,{"$f":"IF(OpenFile!H210=\"\",\"\",OpenFile!H210)","v":""},{"$f":"IF(OpenFile!I210=\"\",\"\",OpenFile!I210)","v":""},{"$f":"IF(OpenFile!D210=\"\",\"\",OpenFile!D210)","v":""},{"$f":"IF(OpenFile!G210=\"\",\"\",OpenFile!G210)","v":""},{"$f":"IF(OpenFile!E210=\"\",\"\",OpenFile!E210)","v":""},null,null,null,null,null,0,0]
[209,{"$f":"IF(OpenFile!H211=\"\",\"\",OpenFile!H211)","v":""},{"$f":"IF(OpenFile!I211=\"\",\"\",OpenFile!I211)","v":""},{"$f":"IF(OpenFile!D211=\"\",\"\",OpenFile!D211)","v":""},{"$f":"IF(OpenFile!G211=\"\",\"\",OpenFile!G211)","v":""},{"$f":"IF(OpenFile!E211=\"\",\"\",OpenFile!E211)","v":""},null,null,null,null,null,0,0]
[210,{"$f":"IF(OpenFile!H212=\"\",\"\",OpenFile!H212)","v":""},{"$f":"IF(OpenFile!I212=\"\",\"\",OpenFile!I212)","v":""},{"$f":"IF(OpenFile!D212=\"\",\"\",OpenFile!D212)","v":""},{"$f":"IF(OpenFile!G212=\"\",\"\",OpenFile!G212)","v":""},{"$f":"IF(OpenFile!E212=\"\",\"\",OpenFile!E212)","v":""},null,null,null,null,null,0,0]
[211,{"$f":"IF(OpenFile!H213=\"\",\"\",OpenFile!H213)","v":""},{"$f":"IF(OpenFile!I213=\"\",\"\",OpenFile!I213)","v":""},{"$f":"IF(OpenFile!D213=\"\",\"\",OpenFile!D213)","v":""},{"$f":"IF(OpenFile!G213=\"\",\"\",OpenFile!G213)","v":""},{"$f":"IF(OpenFile!E213=\"\",\"\",OpenFile!E213)","v":""},null,null,null,null,null,0,0]
[212,{"$f":"IF(OpenFile!H214=\"\",\"\",OpenFile!H214)","v":""},{"$f":"IF(OpenFile!I214=\"\",\"\",OpenFile!I214)","v":""},{"$f":"IF(OpenFile!D214=\"\",\"\",OpenFile!D214)","v":""},{"$f":"IF(OpenFile!G214=\"\",\"\",OpenFile!G214)","v":""},{"$f":"IF(OpenFile!E214=\"\",\"\",OpenFile!E214)","v":""},null,null,null,null,null,0,0]
[213,{"$f":"IF(OpenFile!H215=\"\",\"\",OpenFile!H215)","v":""},{"$f":"IF(OpenFile!I215=\"\",\"\",OpenFile!I215)","v":""},{"$f":"IF(OpenFile!D215=\"\",\"\",OpenFile!D215)","v":""},{"$f":"IF(OpenFile!G215=\"\",\"\",OpenFile!G215)","v":""},{"$f":"IF(OpenFile!E215=\"\",\"\",OpenFile!E215)","v":""},null,null,null,null,null,0,0]
[214,{"$f":"IF(OpenFile!H216=\"\",\"\",OpenFile!H216)","v":""},{"$f":"IF(OpenFile!I216=\"\",\"\",OpenFile!I216)","v":""},{"$f":"IF(OpenFile!D216=\"\",\"\",OpenFile!D216)","v":""},{"$f":"IF(OpenFile!G216=\"\",\"\",OpenFile!G216)","v":""},{"$f":"IF(OpenFile!E216=\"\",\"\",OpenFile!E216)","v":""},null,null,null,null,null,0,0]
[215,{"$f":"IF(OpenFile!H217=\"\",\"\",OpenFile!H217)","v":""},{"$f":"IF(OpenFile!I217=\"\",\"\",OpenFile!I217)","v":""},{"$f":"IF(OpenFile!D217=\"\",\"\",OpenFile!D217)","v":""},{"$f":"IF(OpenFile!G217=\"\",\"\",OpenFile!G217)","v":""},{"$f":"IF(OpenFile!E217=\"\",\"\",OpenFile!E217)","v":""},null,null,null,null,null,0,0]
[216,{"$f":"IF(OpenFile!H218=\"\",\"\",OpenFile!H218)","v":""},{"$f":"IF(OpenFile!I218=\"\",\"\",OpenFile!I218)","v":""},{"$f":"IF(OpenFile!D218=\"\",\"\",OpenFile!D218)","v":""},{"$f":"IF(OpenFile!G218=\"\",\"\",OpenFile!G218)","v":""},{"$f":"IF(OpenFile!E218=\"\",\"\",OpenFile!E218)","v":""},null,null,null,null,null,0,0]
[217,{"$f":"IF(OpenFile!H219=\"\",\"\",OpenFile!H219)","v":""},{"$f":"IF(OpenFile!I219=\"\",\"\",OpenFile!I219)","v":""},{"$f":"IF(OpenFile!D219=\"\",\"\",OpenFile!D219)","v":""},{"$f":"IF(OpenFile!G219=\"\",\"\",OpenFile!G219)","v":""},{"$f":"IF(OpenFile!E219=\"\",\"\",OpenFile!E219)","v":""},null,null,null,null,null,0,0]
[218,{"$f":"IF(OpenFile!H220=\"\",\"\",OpenFile!H220)","v":""},{"$f":"IF(OpenFile!I220=\"\",\"\",OpenFile!I220)","v":""},{"$f":"IF(OpenFile!D220=\"\",\"\",OpenFile!D220)","v":""},{"$f":"IF(OpenFile!G220=\"\",\"\",OpenFile!G220)","v":""},{"$f":"IF(OpenFile!E220=\"\",\"\",OpenFile!E220)","v":""},null,null,null,null,null,0,0]
[219,{"$f":"IF(OpenFile!H221=\"\",\"\",OpenFile!H221)","v":""},{"$f":"IF(OpenFile!I221=\"\",\"\",OpenFile!I221)","v":""},{"$f":"IF(OpenFile!D221=\"\",\"\",OpenFile!D221)","v":""},{"$f":"IF(OpenFile!G221=\"\",\"\",OpenFile!G221)","v":""},{"$f":"IF(OpenFile!E221=\"\",\"\",OpenFile!E221)","v":""},null,null,null,null,null,0,0]
[220,{"$f":"IF(OpenFile!H222=\"\",\"\",OpenFile!H222)","v":""},{"$f":"IF(OpenFile!I222=\"\",\"\",OpenFile!I222)","v":""},{"$f":"IF(OpenFile!D222=\"\",\"\",OpenFile!D222)","v":""},{"$f":"IF(OpenFile!G222=\"\",\"\",OpenFile!G222)","v":""},{"$f":"IF(OpenFile!E222=\"\",\"\",OpenFile!E222)","v":""},null,null,null,null,null,0,0]
[221,{"$f":"IF(OpenFile!H223=\"\",\"\",OpenFile!H223)","v":""},{"$f":"IF(OpenFile!I223=\"\",\"\",OpenFile!I223)","v":""},{"$f":"IF(OpenFile!D223=\"\",\"\",OpenFile!D223)","v":""},{"$f":"IF(OpenFile!G223=\"\",\"\",OpenFile!G223)","v":""},{"$f":"IF(OpenFile!E223=\"\",\"\",OpenFile!E223)","v":""},null,null,null,null,null,0,0]
[222,{"$f":"IF(OpenFile!H224=\"\",\"\",OpenFile!H224)","v":""},{"$f":"IF(OpenFile!I224=\"\",\"\",OpenFile!I224)","v":""},{"$f":"IF(OpenFile!D224=\"\",\"\",OpenFile!D224)","v":""},{"$f":"IF(OpenFile!G224=\"\",\"\",OpenFile!G224)","v":""},{"$f":"IF(OpenFile!E224=\"\",\"\",OpenFile!E224)","v":""},null,null,null,null,null,0,0]
[223,{"$f":"IF(OpenFile!H225=\"\",\"\",OpenFile!H225)","v":""},{"$f":"IF(OpenFile!I225=\"\",\"\",OpenFile!I225)","v":""},{"$f":"IF(OpenFile!D225=\"\",\"\",OpenFile!D225)","v":""},{"$f":"IF(OpenFile!G225=\"\",\"\",OpenFile!G225)","v":""},{"$f":"IF(OpenFile!E225=\"\",\"\",OpenFile!E225)","v":""},null,null,null,null,null,0,0]
[224,{"$f":"IF(OpenFile!H226=\"\",\"\",OpenFile!H226)","v":""},{"$f":"IF(OpenFile!I226=\"\",\"\",OpenFile!I226)","v":""},{"$f":"IF(OpenFile!D226=\"\",\"\",OpenFile!D226)","v":""},{"$f":"IF(OpenFile!G226=\"\",\"\",OpenFile!G226)","v":""},{"$f":"IF(OpenFile!E226=\"\",\"\",OpenFile!E226)","v":""},null,null,null,null,null,0,0]
[225,{"$f":"IF(OpenFile!H227=\"\",\"\",OpenFile!H227)","v":""},{"$f":"IF(OpenFile!I227=\"\",\"\",OpenFile!I227)","v":""},{"$f":"IF(OpenFile!D227=\"\",\"\",OpenFile!D227)","v":""},{"$f":"IF(OpenFile!G227=\"\",\"\",OpenFile!G227)","v":""},{"$f":"IF(OpenFile!E227=\"\",\"\",OpenFile!E227)","v":""},null,null,null,null,null,0,0]
[226,{"$f":"IF(OpenFile!H228=\"\",\"\",OpenFile!H228)","v":""},{"$f":"IF(OpenFile!I228=\"\",\"\",OpenFile!I228)","v":""},{"$f":"IF(OpenFile!D228=\"\",\"\",OpenFile!D228)","v":""},{"$f":"IF(OpenFile!G228=\"\",\"\",OpenFile!G228)","v":""},{"$f":"IF(OpenFile!E228=\"\",\"\",OpenFile!E228)","v":""},null,null,null,null,null,0,0]
[227,{"$f":"IF(OpenFile!H229=\"\",\"\",OpenFile!H229)","v":""},{"$f":"IF(OpenFile!I229=\"\",\"\",OpenFile!I229)","v":""},{"$f":"IF(OpenFile!D229=\"\",\"\",OpenFile!D229)","v":""},{"$f":"IF(OpenFile!G229=\"\",\"\",OpenFile!G229)","v":""},{"$f":"IF(OpenFile!E229=\"\",\"\",OpenFile!E229)","v":""},null,null,null,null,null,0,0]
[228,{"$f":"IF(OpenFile!H230=\"\",\"\",OpenFile!H230)","v":""},{"$f":"IF(OpenFile!I230=\"\",\"\",OpenFile!I230)","v":""},{"$f":"IF(OpenFile!D230=\"\",\"\",OpenFile!D230)","v":""},{"$f":"IF(OpenFile!G230=\"\",\"\",OpenFile!G230)","v":""},{"$f":"IF(OpenFile!E230=\"\",\"\",OpenFile!E230)","v":""},null,null,null,null,null,0,0]
[229,{"$f":"IF(OpenFile!H231=\"\",\"\",OpenFile!H231)","v":""},{"$f":"IF(OpenFile!I231=\"\",\"\",OpenFile!I231)","v":""},{"$f":"IF(OpenFile!D231=\"\",\"\",OpenFile!D231)","v":""},{"$f":"IF(OpenFile!G231=\"\",\"\",OpenFile!G231)","v":""},{"$f":"IF(OpenFile!E231=\"\",\"\",OpenFile!E231)","v":""},null,null,null,null,null,0,0]
[230,{"$f":"IF(OpenFile!H232=\"\",\"\",OpenFile!H232)","v":""},{"$f":"IF(OpenFile!I232=\"\",\"\",OpenFile!I232)","v":""},{"$f":"IF(OpenFile!D232=\"\",\"\",OpenFile!D232)","v":""},{"$f":"IF(OpenFile!G232=\"\",\"\",OpenFile!G232)","v":""},{"$f":"IF(OpenFile!E232=\"\",\"\",OpenFile!E232)","v":""},null,null,null,null,null,0,0]
[231,{"$f":"IF(OpenFile!H233=\"\",\"\",OpenFile!H233)","v":""},{"$f":"IF(OpenFile!I233=\"\",\"\",OpenFile!I233)","v":""},{"$f":"IF(OpenFile!D233=\"\",\"\",OpenFile!D233)","v":""},{"$f":"IF(OpenFile!G233=\"\",\"\",OpenFile!G233)","v":""},{"$f":"IF(OpenFile!E233=\"\",\"\",OpenFile!E233)","v":""},null,null,null,null,null,0,0]
[232,{"$f":"IF(OpenFile!H234=\"\",\"\",OpenFile!H234)","v":""},{"$f":"IF(OpenFile!I234=\"\",\"\",OpenFile!I234)","v":""},{"$f":"IF(OpenFile!D234=\"\",\"\",OpenFile!D234)","v":""},{"$f":"IF(OpenFile!G234=\"\",\"\",OpenFile!G234)","v":""},{"$f":"IF(OpenFile!E234=\"\",\"\",OpenFile!E234)","v":""},null,null,null,null,null,0,0]
[233,{"$f":"IF(OpenFile!H235=\"\",\"\",OpenFile!H235)","v":""},{"$f":"IF(OpenFile!I235=\"\",\"\",OpenFile!I235)","v":""},{"$f":"IF(OpenFile!D235=\"\",\"\",OpenFile!D235)","v":""},{"$f":"IF(OpenFile!G235=\"\",\"\",OpenFile!G235)","v":""},{"$f":"IF(OpenFile!E235=\"\",\"\",OpenFile!E235)","v":""},null,null,null,null,null,0,0]
[234,{"$f":"IF(OpenFile!H236=\"\",\"\",OpenFile!H236)","v":""},{"$f":"IF(OpenFile!I236=\"\",\"\",OpenFile!I236)","v":""},{"$f":"IF(OpenFile!D236=\"\",\"\",OpenFile!D236)","v":""},{"$f":"IF(OpenFile!G236=\"\",\"\",OpenFile!G236)","v":""},{"$f":"IF(OpenFile!E236=\"\",\"\",OpenFile!E236)","v":""},null,null,null,null,null,{"$f":"ROUND(H247,0)","v":0},0]
[235,{"$f":"IF(OpenFile!H237=\"\",\"\",OpenFile!H237)","v":""},{"$f":"IF(OpenFile!I237=\"\",\"\",OpenFile!I237)","v":""},{"$f":"IF(OpenFile!D237=\"\",\"\",OpenFile!D237)","v":""},{"$f":"IF(OpenFile!G237=\"\",\"\",OpenFile!G237)","v":""},{"$f":"IF(OpenFile!E237=\"\",\"\",OpenFile!E237)","v":""},null,null,null,null,null,0,0]
[236,{"$f":"IF(OpenFile!H238=\"\",\"\",OpenFile!H238)","v":""},{"$f":"IF(OpenFile!I238=\"\",\"\",OpenFile!I238)","v":""},{"$f":"IF(OpenFile!D238=\"\",\"\",OpenFile!D238)","v":""},{"$f":"IF(OpenFile!G238=\"\",\"\",OpenFile!G238)","v":""},{"$f":"IF(OpenFile!E238=\"\",\"\",OpenFile!E238)","v":""},null,null,null,null,null,0,0]
[237,{"$f":"IF(OpenFile!H239=\"\",\"\",OpenFile!H239)","v":""},{"$f":"IF(OpenFile!I239=\"\",\"\",OpenFile!I239)","v":""},{"$f":"IF(OpenFile!D239=\"\",\"\",OpenFile!D239)","v":""},{"$f":"IF(OpenFile!G239=\"\",\"\",OpenFile!G239)","v":""},{"$f":"IF(OpenFile!E239=\"\",\"\",OpenFile!E239)","v":""},null,null,null,null,null,0,0]
[238,{"$f":"IF(OpenFile!H240=\"\",\"\",OpenFile!H240)","v":""},{"$f":"IF(OpenFile!I240=\"\",\"\",OpenFile!I240)","v":""},{"$f":"IF(OpenFile!D240=\"\",\"\",OpenFile!D240)","v":""},{"$f":"IF(OpenFile!G240=\"\",\"\",OpenFile!G240)","v":""},{"$f":"IF(OpenFile!E240=\"\",\"\",OpenFile!E240)","v":""},null,null,null,null,null,0,0]
[239,{"$f":"IF(OpenFile!H241=\"\",\"\",OpenFile!H241)","v":""},{"$f":"IF(OpenFile!I241=\"\",\"\",OpenFile!I241)","v":""},{"$f":"IF(OpenFile!D241=\"\",\"\",OpenFile!D241)","v":""},{"$f":"IF(OpenFile!G241=\"\",\"\",OpenFile!G241)","v":""},{"$f":"IF(OpenFile!E241=\"\",\"\",OpenFile!E241)","v":""},null,null,null,null,null,0,0]
[240,{"$f":"IF(OpenFile!H242=\"\",\"\",OpenFile!H242)","v":""},{"$f":"IF(OpenFile!I242=\"\",\"\",OpenFile!I242)","v":""},{"$f":"IF(OpenFile!D242=\"\",\"\",OpenFile!D242)","v":""},{"$f":"IF(OpenFile!G242=\"\",\"\",OpenFile!G242)","v":""},{"$f":"IF(OpenFile!E242=\"\",\"\",OpenFile!E242)","v":""},null,null,null,null,null,0,0]
[241,{"$f":"IF(OpenFile!H243=\"\",\"\",OpenFile!H243)","v":""},{"$f":"IF(OpenFile!I243=\"\",\"\",OpenFile!I243)","v":""},{"$f":"IF(OpenFile!D243=\"\",\"\",OpenFile!D243)","v":""},{"$f":"IF(OpenFile!G243=\"\",\"\",OpenFile!G243)","v":""},{"$f":"IF(OpenFile!E243=\"\",\"\",OpenFile!E243)","v":""},null,null,null,null,null,0,0]
[242,{"$f":"IF(OpenFile!H244=\"\",\"\",OpenFile!H244)","v":""},{"$f":"IF(OpenFile!I244=\"\",\"\",OpenFile!I244)","v":""},{"$f":"IF(OpenFile!D244=\"\",\"\",OpenFile!D244)","v":""},{"$f":"IF(OpenFile!G244=\"\",\"\",OpenFile!G244)","v":""},{"$f":"IF(OpenFile!E244=\"\",\"\",OpenFile!E244)","v":""},null,null,null,null,null,0,0]
[243,{"$f":"IF(OpenFile!H245=\"\",\"\",OpenFile!H245)","v":""},{"$f":"IF(OpenFile!I245=\"\",\"\",OpenFile!I245)","v":""},{"$f":"IF(OpenFile!D245=\"\",\"\",OpenFile!D245)","v":""},{"$f":"IF(OpenFile!G245=\"\",\"\",OpenFile!G245)","v":""},{"$f":"IF(OpenFile!E245=\"\",\"\",OpenFile!E245)","v":""},null,null,null,null,null,0,0]
[244,{"$f":"IF(OpenFile!H246=\"\",\"\",OpenFile!H246)","v":""},{"$f":"IF(OpenFile!I246=\"\",\"\",OpenFile!I246)","v":""},{"$f":"IF(OpenFile!D246=\"\",\"\",OpenFile!D246)","v":""},{"$f":"IF(OpenFile!G246=\"\",\"\",OpenFile!G246)","v":""},{"$f":"IF(OpenFile!E246=\"\",\"\",OpenFile!E246)","v":""},null,null,null,null,null,0,0]
[245,{"$f":"IF(OpenFile!H247=\"\",\"\",OpenFile!H247)","v":""},{"$f":"IF(OpenFile!I247=\"\",\"\",OpenFile!I247)","v":""},{"$f":"IF(OpenFile!D247=\"\",\"\",OpenFile!D247)","v":""},{"$f":"IF(OpenFile!G247=\"\",\"\",OpenFile!G247)","v":""},{"$f":"IF(OpenFile!E247=\"\",\"\",OpenFile!E247)","v":""},null,null,null,null,null,0,0]
[246,{"$f":"IF(OpenFile!H248=\"\",\"\",OpenFile!H248)","v":""},{"$f":"IF(OpenFile!I248=\"\",\"\",OpenFile!I248)","v":""},{"$f":"IF(OpenFile!D248=\"\",\"\",OpenFile!D248)","v":""},{"$f":"IF(OpenFile!G248=\"\",\"\",OpenFile!G248)","v":""},{"$f":"IF(OpenFile!E248=\"\",\"\",OpenFile!E248)","v":""},null,null,null,null,null,0,0]
[247,{"$f":"IF(OpenFile!H249=\"\",\"\",OpenFile!H249)","v":""},{"$f":"IF(OpenFile!I249=\"\",\"\",OpenFile!I249)","v":""},{"$f":"IF(OpenFile!D249=\"\",\"\",OpenFile!D249)","v":""},{"$f":"IF(OpenFile!G249=\"\",\"\",OpenFile!G249)","v":""},{"$f":"IF(OpenFile!E249=\"\",\"\",OpenFile!E249)","v":""},null,null,null,null,null,0,0]
[248,{"$f":"IF(OpenFile!H250=\"\",\"\",OpenFile!H250)","v":""},{"$f":"IF(OpenFile!I250=\"\",\"\",OpenFile!I250)","v":""},{"$f":"IF(OpenFile!D250=\"\",\"\",OpenFile!D250)","v":""},{"$f":"IF(OpenFile!G250=\"\",\"\",OpenFile!G250)","v":""},{"$f":"IF(OpenFile!E250=\"\",\"\",OpenFile!E250)","v":""},null,null,null,null,null,0,0]
[249,{"$f":"IF(OpenFile!H251=\"\",\"\",OpenFile!H251)","v":""},{"$f":"IF(OpenFile!I251=\"\",\"\",OpenFile!I251)","v":""},{"$f":"IF(OpenFile!D251=\"\",\"\",OpenFile!D251)","v":""},{"$f":"IF(OpenFile!G251=\"\",\"\",OpenFile!G251)","v":""},{"$f":"IF(OpenFile!E251=\"\",\"\",OpenFile!E251)","v":""},null,null,null,null,null,0,0]
[250,{"$f":"IF(OpenFile!H252=\"\",\"\",OpenFile!H252)","v":""},{"$f":"IF(OpenFile!I252=\"\",\"\",OpenFile!I252)","v":""},{"$f":"IF(OpenFile!D252=\"\",\"\",OpenFile!D252)","v":""},{"$f":"IF(OpenFile!G252=\"\",\"\",OpenFile!G252)","v":""},{"$f":"IF(OpenFile!E252=\"\",\"\",OpenFile!E252)","v":""},null,null,null,null,null,0,0]

{"sheet":"WorkRest","index":3,"n_rows":59,"n_cols":30,"rows_kept":59,"cut":false,"hidden":false,"merged":[[1,1,1,4],[1,6,1,9],[0,1,0,4],[0,6,0,9],[15,28,15,29]]}
["1.時間分析","A",null,null,null,null,"B"]
[null,{"$f":"Timedata!J8","v":"0/0"},null,null,null,"vs",{"$f":"Timedata!J9","v":"0/0"}]
[null,null,null,{"$f":"OpenFile!A1","v":"Past Here!"},null,"1st Game",null,{"$f":"OpenFile!B1","v":0},null,null,{"$f":"TopSheet!L8","v":0}]
[null,null,null,{"$f":"OpenFile!C1","v":0},null,"2nd Game",null,{"$f":"OpenFile!D1","v":0}]
[null,null,null,{"$f":"OpenFile!E1","v":0},null,"3rd Game",null,{"$f":"OpenFile!F1","v":0}]
["Time Sequence",null,null,null,null,null,null,null,null,null,null,null,null,null,null,null,null,null,null,null,null,null,null,null,"ゲーム数",{"$f":"Timedata!U13","v":0}]
[]
[null,null,null,null,null,null,null,null,null,null,null,null,null,null,null,null,null,null,null,null,null,null,null,null,"インニング数",{"$f":"Timedata!B8","v":0}]
[]
[null,null,null,null,null,null,null,null,null,null,null,null,null,null,null,null,null,null,null,null,null,null,null,null,"Working P. 合計",{"$f":"Timedata!B10","v":0},"(s)","Working P. 平均",{"$f":"Timedata!B11","v":{"$error":"#DIV/0!"}},"(s)"]
[]
[null,null,null,null,null,null,null,null,null,null,null,null,null,null,null,null,null,null,null,null,null,null,null,null,"Resting P. 合計",{"$f":"Timedata!C10","v":0},"(s)","Resting P. 平均",{"$f":"Timedata!C11","v":{"$error":"#DIV/0!"}},"(s)"]
[]
[null,null,null,null,null,null,null,null,null,null,null,null,null,null,null,null,null,null,null,null,null,null,null,null,"WP/RP",{"$f":"AC10/AC12","v":{"$error":"#DIV/0!"}}]
[]
[null,null,null,null,null,null,null,null,null,null,null,null,null,null,null,null,null,null,null,null,null,null,null,null,"ストローク数合計",{"$f":"Timedata!E10","v":0},null,"ストローク数平均（1インニング）",{"$f":"Timedata!E11","v":{"$error":"#DIV/0!"}}]
[]
[null,null,null,null,null,null,null,null,null,null,null,null,null,null,null,null,null,null,null,null,null,null,null,null,"ストロークのテンポ",{"$f":"Z10/Z16","v":{"$error":"#DIV/0!"}}]
[]
[null,null,null,null,null,null,null,null,null,null,null,null,null,null,null,null,null,null,null,null,null,null,null,null,"WP/RP",null,null,"ストローク数平均（1インニング）"]
[null,null,null,null,null,null,null,null,null,null,null,null,null,null,null,null,null,null,null,null,null,null,null,null,{"$f":"AC10/AC12","v":{"$error":"#DIV/0!"}},null,null,{"$f":"AC16","v":{"$error":"#DIV/0!"}}]
[]
[]
[]
[]
["Frequency","Working Period & Winner"]
[]
[]
[]
[]
[]
[]
[]
[]
[]
[]
[]
[]
[]
[]
[]
[]
[]
[]
[]
[]
[]
[]
[]
[]
[]
[]
[]
[]
[]
[]
[]
[]
["Frequency","Resting Period"]

{"sheet":"Score","index":4,"n_rows":200,"n_cols":17,"rows_kept":200,"cut":false,"hidden":false,"merged":[[1,1,1,6]]}
[null,"Score",null,null,null,null,null,null,null,null,null,"1stGame End",{"$f":"VLOOKUP(0,I4:J200,2,FALSE())","v":{"$error":"#N/A"}},"2ndGame End",{"$f":"VLOOKUP(0,OFFSET($I$4,M1,0,COUNTA($I:$I)-1,2),2,FALSE())","v":{"$error":"#N/A"}},"FinalGame End",{"$f":"VLOOKUP(0,OFFSET($I$4,O1,0,COUNTA($I:$I)-1,2),2,FALSE())","v":{"$error":"#N/A"}}]
[null,"Score",null,null,null,null,null,null,null,null,null,"Running Score"]
[null,null,{"$f":"Timedata!J8","v":"0/0"},"Strokes","WP",{"$f":"Timedata!J9","v":"0/0"},null,"Results","RP"]
[1,null,{"$f":"OpenFile!B3","v":0},{"$f":"Timedata!E14","v":""},{"$f":"Timedata!B14","v":""},{"$f":"OpenFile!C3","v":0},null,{"$f":"Timedata!F14","v":""},{"$f":"Timedata!C14","v":""},1]
[2,null,{"$f":"OpenFile!B4","v":0},{"$f":"Timedata!E15","v":""},{"$f":"Timedata!B15","v":""},{"$f":"OpenFile!C4","v":0},null,{"$f":"Timedata!F15","v":""},{"$f":"Timedata!C15","v":""},2]
[3,null,{"$f":"OpenFile!B5","v":0},{"$f":"Timedata!E16","v":""},{"$f":"Timedata!B16","v":""},{"$f":"OpenFile!C5","v":0},null,{"$f":"Timedata!F16","v":""},{"$f":"Timedata!C16","v":""},3]
[4,null,{"$f":"OpenFile!B6","v":0},{"$f":"Timedata!E17","v":""},{"$f":"Timedata!B17","v":""},{"$f":"OpenFile!C6","v":0},null,{"$f":"Timedata!F17","v":""},{"$f":"Timedata!C17","v":""},4]
[5,null,{"$f":"OpenFile!B7","v":0},{"$f":"Timedata!E18","v":""},{"$f":"Timedata!B18","v":""},{"$f":"OpenFile!C7","v":0},null,{"$f":"Timedata!F18","v":""},{"$f":"Timedata!C18","v":""},5]
[6,null,{"$f":"OpenFile!B8","v":0},{"$f":"Timedata!E19","v":""},{"$f":"Timedata!B19","v":""},{"$f":"OpenFile!C8","v":0},null,{"$f":"Timedata!F19","v":""},{"$f":"Timedata!C19","v":""},6]
[7,null,{"$f":"OpenFile!B9","v":0},{"$f":"Timedata!E20","v":""},{"$f":"Timedata!B20","v":""},{"$f":"OpenFile!C9","v":0},null,{"$f":"Timedata!F20","v":""},{"$f":"Timedata!C20","v":""},7,"1G"]
[8,null,{"$f":"OpenFile!B10","v":0},{"$f":"Timedata!E21","v":""},{"$f":"Timedata!B21","v":""},{"$f":"OpenFile!C10","v":0},null,{"$f":"Timedata!F21","v":""},{"$f":"Timedata!C21","v":""},8]
[9,null,{"$f":"OpenFile!B11","v":0},{"$f":"Timedata!E22","v":""},{"$f":"Timedata!B22","v":""},{"$f":"OpenFile!C11","v":0},null,{"$f":"Timedata!F22","v":""},{"$f":"Timedata!C22","v":""},9]
[10,null,{"$f":"OpenFile!B12","v":0},{"$f":"Timedata!E23","v":""},{"$f":"Timedata!B23","v":""},{"$f":"OpenFile!C12","v":0},null,{"$f":"Timedata!F23","v":""},{"$f":"Timedata!C23","v":""},10]
[11,null,{"$f":"OpenFile!B13","v":0},{"$f":"Timedata!E24","v":""},{"$f":"Timedata!B24","v":""},{"$f":"OpenFile!C13","v":0},null,{"$f":"Timedata!F24","v":""},{"$f":"Timedata!C24","v":""},11]
[12,null,{"$f":"OpenFile!B14","v":0},{"$f":"Timedata!E25","v":""},{"$f":"Timedata!B25","v":""},{"$f":"OpenFile!C14","v":0},null,{"$f":"Timedata!F25","v":""},{"$f":"Timedata!C25","v":""},12]
[13,null,{"$f":"OpenFile!B15","v":0},{"$f":"Timedata!E26","v":""},{"$f":"Timedata!B26","v":""},{"$f":"OpenFile!C15","v":0},null,{"$f":"Timedata!F26","v":""},{"$f":"Timedata!C26","v":""},13]
[14,null,{"$f":"OpenFile!B16","v":0},{"$f":"Timedata!E27","v":""},{"$f":"Timedata!B27","v":""},{"$f":"OpenFile!C16","v":0},null,{"$f":"Timedata!F27","v":""},{"$f":"Timedata!C27","v":""},14]
[15,null,{"$f":"OpenFile!B17","v":0},{"$f":"Timedata!E28","v":""},{"$f":"Timedata!B28","v":""},{"$f":"OpenFile!C17","v":0},null,{"$f":"Timedata!F28","v":""},{"$f":"Timedata!C28","v":""},15]
[16,null,{"$f":"OpenFile!B18","v":0},{"$f":"Timedata!E29","v":""},{"$f":"Timedata!B29","v":""},{"$f":"OpenFile!C18","v":0},null,{"$f":"Timedata!F29","v":""},{"$f":"Timedata!C29","v":""},16]
[17,null,{"$f":"OpenFile!B19","v":0},{"$f":"Timedata!E30","v":""},{"$f":"Timedata!B30","v":""},{"$f":"OpenFile!C19","v":0},null,{"$f":"Timedata!F30","v":""},{"$f":"Timedata!C30","v":""},17]
[18,null,{"$f":"OpenFile!B20","v":0},{"$f":"Timedata!E31","v":""},{"$f":"Timedata!B31","v":""},{"$f":"OpenFile!C20","v":0},null,{"$f":"Timedata!F31","v":""},{"$f":"Timedata!C31","v":""},18]
[19,null,{"$f":"OpenFile!B21","v":0},{"$f":"Timedata!E32","v":""},{"$f":"Timedata!B32","v":""},{"$f":"OpenFile!C21","v":0},null,{"$f":"Timedata!F32","v":""},{"$f":"Timedata!C32","v":""},19]
[20,null,{"$f":"OpenFile!B22","v":0},{"$f":"Timedata!E33","v":""},{"$f":"Timedata!B33","v":""},{"$f":"OpenFile!C22","v":0},null,{"$f":"Timedata!F33","v":""},{"$f":"Timedata!C33","v":""},20]
[21,null,{"$f":"OpenFile!B23","v":0},{"$f":"Timedata!E34","v":""},{"$f":"Timedata!B34","v":""},{"$f":"OpenFile!C23","v":0},null,{"$f":"Timedata!F34","v":""},{"$f":"Timedata!C34","v":""},21]
[22,null,{"$f":"OpenFile!B24","v":0},{"$f":"Timedata!E35","v":""},{"$f":"Timedata!B35","v":""},{"$f":"OpenFile!C24","v":0},null,{"$f":"Timedata!F35","v":""},{"$f":"Timedata!C35","v":""},22]
[23,null,{"$f":"OpenFile!B25","v":0},{"$f":"Timedata!E36","v":""},{"$f":"Timedata!B36","v":""},{"$f":"OpenFile!C25","v":0},null,{"$f":"Timedata!F36","v":""},{"$f":"Timedata!C36","v":""},23]
[24,null,{"$f":"OpenFile!B26","v":0},{"$f":"Timedata!E37","v":""},{"$f":"Timedata!B37","v":""},{"$f":"OpenFile!C26","v":0},null,{"$f":"Timedata!F37","v":""},{"$f":"Timedata!C37","v":""},24]
[25,null,{"$f":"OpenFile!B27","v":0},{"$f":"Timedata!E38","v":""},{"$f":"Timedata!B38","v":""},{"$f":"OpenFile!C27","v":0},null,{"$f":"Timedata!F38","v":""},{"$f":"Timedata!C38","v":""},25]
[26,null,{"$f":"OpenFile!B28","v":0},{"$f":"Timedata!E39","v":""},{"$f":"Timedata!B39","v":""},{"$f":"OpenFile!C28","v":0},null,{"$f":"Timedata!F39","v":""},{"$f":"Timedata!C39","v":""},26]
[27,null,{"$f":"OpenFile!B29","v":0},{"$f":"Timedata!E40","v":""},{"$f":"Timedata!B40","v":""},{"$f":"OpenFile!C29","v":0},null,{"$f":"Timedata!F40","v":""},{"$f":"Timedata!C40","v":""},27]
[28,null,{"$f":"OpenFile!B30","v":0},{"$f":"Timedata!E41","v":""},{"$f":"Timedata!B41","v":""},{"$f":"OpenFile!C30","v":0},null,{"$f":"Timedata!F41","v":""},{"$f":"Timedata!C41","v":""},28]
[29,null,{"$f":"OpenFile!B31","v":0},{"$f":"Timedata!E42","v":""},{"$f":"Timedata!B42","v":""},{"$f":"OpenFile!C31","v":0},null,{"$f":"Timedata!F42","v":""},{"$f":"Timedata!C42","v":""},29]
[30,null,{"$f":"OpenFile!B32","v":0},{"$f":"Timedata!E43","v":""},{"$f":"Timedata!B43","v":""},{"$f":"OpenFile!C32","v":0},null,{"$f":"Timedata!F43","v":""},{"$f":"Timedata!C43","v":""},30]
[31,null,{"$f":"OpenFile!B33","v":0},{"$f":"Timedata!E44","v":""},{"$f":"Timedata!B44","v":""},{"$f":"OpenFile!C33","v":0},null,{"$f":"Timedata!F44","v":""},{"$f":"Timedata!C44","v":""},31,"2G"]
[32,null,{"$f":"OpenFile!B34","v":0},{"$f":"Timedata!E45","v":""},{"$f":"Timedata!B45","v":""},{"$f":"OpenFile!C34","v":0},null,{"$f":"Timedata!F45","v":""},{"$f":"Timedata!C45","v":""},32]
[33,null,{"$f":"OpenFile!B35","v":0},{"$f":"Timedata!E46","v":""},{"$f":"Timedata!B46","v":""},{"$f":"OpenFile!C35","v":0},null,{"$f":"Timedata!F46","v":""},{"$f":"Timedata!C46","v":""},33]
[34,null,{"$f":"OpenFile!B36","v":0},{"$f":"Timedata!E47","v":""},{"$f":"Timedata!B47","v":""},{"$f":"OpenFile!C36","v":0},null,{"$f":"Timedata!F47","v":""},{"$f":"Timedata!C47","v":""},34]
[35,null,{"$f":"OpenFile!B37","v":0},{"$f":"Timedata!E48","v":""},{"$f":"Timedata!B48","v":""},{"$f":"OpenFile!C37","v":0},null,{"$f":"Timedata!F48","v":""},{"$f":"Timedata!C48","v":""},35]
[36,null,{"$f":"OpenFile!B38","v":0},{"$f":"Timedata!E49","v":""},{"$f":"Timedata!B49","v":""},{"$f":"OpenFile!C38","v":0},null,{"$f":"Timedata!F49","v":""},{"$f":"Timedata!C49","v":""},36]
[37,null,{"$f":"OpenFile!B39","v":0},{"$f":"Timedata!E50","v":""},{"$f":"Timedata!B50","v":""},{"$f":"OpenFile!C39","v":0},null,{"$f":"Timedata!F50","v":""},{"$f":"Timedata!C50","v":""},37]
[38,null,{"$f":"OpenFile!B40","v":0},{"$f":"Timedata!E51","v":""},{"$f":"Timedata!B51","v":""},{"$f":"OpenFile!C40","v":0},null,{"$f":"Timedata!F51","v":""},{"$f":"Timedata!C51","v":""},38]
[39,null,{"$f":"OpenFile!B41","v":0},{"$f":"Timedata!E52","v":""},{"$f":"Timedata!B52","v":""},{"$f":"OpenFile!C41","v":0},null,{"$f":"Timedata!F52","v":""},{"$f":"Timedata!C52","v":""},39]
[40,null,{"$f":"OpenFile!B42","v":0},{"$f":"Timedata!E53","v":""},{"$f":"Timedata!B53","v":""},{"$f":"OpenFile!C42","v":0},null,{"$f":"Timedata!F53","v":""},{"$f":"Timedata!C53","v":""},40]
[41,null,{"$f":"OpenFile!B43","v":0},{"$f":"Timedata!E54","v":""},{"$f":"Timedata!B54","v":""},{"$f":"OpenFile!C43","v":0},null,{"$f":"Timedata!F54","v":""},{"$f":"Timedata!C54","v":""},41]
[42,null,{"$f":"OpenFile!B44","v":0},{"$f":"Timedata!E55","v":""},{"$f":"Timedata!B55","v":""},{"$f":"OpenFile!C44","v":0},null,{"$f":"Timedata!F55","v":""},{"$f":"Timedata!C55","v":""},42]
[43,null,{"$f":"OpenFile!B45","v":0},{"$f":"Timedata!E56","v":""},{"$f":"Timedata!B56","v":""},{"$f":"OpenFile!C45","v":0},null,{"$f":"Timedata!F56","v":""},{"$f":"Timedata!C56","v":""},43]
[44,null,{"$f":"OpenFile!B46","v":0},{"$f":"Timedata!E57","v":""},{"$f":"Timedata!B57","v":""},{"$f":"OpenFile!C46","v":0},null,{"$f":"Timedata!F57","v":""},{"$f":"Timedata!C57","v":""},44]
[45,null,{"$f":"OpenFile!B47","v":0},{"$f":"Timedata!E58","v":""},{"$f":"Timedata!B58","v":""},{"$f":"OpenFile!C47","v":0},null,{"$f":"Timedata!F58","v":""},{"$f":"Timedata!C58","v":""},45]
[46,null,{"$f":"OpenFile!B48","v":0},{"$f":"Timedata!E59","v":""},{"$f":"Timedata!B59","v":""},{"$f":"OpenFile!C48","v":0},null,{"$f":"Timedata!F59","v":""},{"$f":"Timedata!C59","v":""},46]
[47,null,{"$f":"OpenFile!B49","v":0},{"$f":"Timedata!E60","v":""},{"$f":"Timedata!B60","v":""},{"$f":"OpenFile!C49","v":0},null,{"$f":"Timedata!F60","v":""},{"$f":"Timedata!C60","v":""},47]
[48,null,{"$f":"OpenFile!B50","v":0},{"$f":"Timedata!E61","v":""},{"$f":"Timedata!B61","v":""},{"$f":"OpenFile!C50","v":0},null,{"$f":"Timedata!F61","v":""},{"$f":"Timedata!C61","v":""},48]
[49,null,{"$f":"OpenFile!B51","v":0},{"$f":"Timedata!E62","v":""},{"$f":"Timedata!B62","v":""},{"$f":"OpenFile!C51","v":0},null,{"$f":"Timedata!F62","v":""},{"$f":"Timedata!C62","v":""},49]
[50,null,{"$f":"OpenFile!B52","v":0},{"$f":"Timedata!E63","v":""},{"$f":"Timedata!B63","v":""},{"$f":"OpenFile!C52","v":0},null,{"$f":"Timedata!F63","v":""},{"$f":"Timedata!C63","v":""},50]
[51,null,{"$f":"OpenFile!B53","v":0},{"$f":"Timedata!E64","v":""},{"$f":"Timedata!B64","v":""},{"$f":"OpenFile!C53","v":0},null,{"$f":"Timedata!F64","v":""},{"$f":"Timedata!C64","v":""},51]
[52,null,{"$f":"OpenFile!B54","v":0},{"$f":"Timedata!E65","v":""},{"$f":"Timedata!B65","v":""},{"$f":"OpenFile!C54","v":0},null,{"$f":"Timedata!F65","v":""},{"$f":"Timedata!C65","v":""},52]
[53,null,{"$f":"OpenFile!B55","v":0},{"$f":"Timedata!E66","v":""},{"$f":"Timedata!B66","v":""},{"$f":"OpenFile!C55","v":0},null,{"$f":"Timedata!F66","v":""},{"$f":"Timedata!C66","v":""},53]
[54,null,{"$f":"OpenFile!B56","v":0},{"$f":"Timedata!E67","v":""},{"$f":"Timedata!B67","v":""},{"$f":"OpenFile!C56","v":0},null,{"$f":"Timedata!F67","v":""},{"$f":"Timedata!C67","v":""},54]
[55,null,{"$f":"OpenFile!B57","v":0},{"$f":"Timedata!E68","v":""},{"$f":"Timedata!B68","v":""},{"$f":"OpenFile!C57","v":0},null,{"$f":"Timedata!F68","v":""},{"$f":"Timedata!C68","v":""},55]
[56,null,{"$f":"OpenFile!B58","v":0},{"$f":"Timedata!E69","v":""},{"$f":"Timedata!B69","v":""},{"$f":"OpenFile!C58","v":0},null,{"$f":"Timedata!F69","v":""},{"$f":"Timedata!C69","v":""},56]
[57,null,{"$f":"OpenFile!B59","v":0},{"$f":"Timedata!E70","v":""},{"$f":"Timedata!B70","v":""},{"$f":"OpenFile!C59","v":0},null,{"$f":"Timedata!F70","v":""},{"$f":"Timedata!C70","v":""},57]
[58,null,{"$f":"OpenFile!B60","v":0},{"$f":"Timedata!E71","v":""},{"$f":"Timedata!B71","v":""},{"$f":"OpenFile!C60","v":0},null,{"$f":"Timedata!F71","v":""},{"$f":"Timedata!C71","v":""},58]
[59,null,{"$f":"OpenFile!B61","v":0},{"$f":"Timedata!E72","v":""},{"$f":"Timedata!B72","v":""},{"$f":"OpenFile!C61","v":0},null,{"$f":"Timedata!F72","v":""},{"$f":"Timedata!C72","v":""},59,"3G"]
[60,null,{"$f":"OpenFile!B62","v":0},{"$f":"Timedata!E73","v":""},{"$f":"Timedata!B73","v":""},{"$f":"OpenFile!C62","v":0},null,{"$f":"Timedata!F73","v":""},{"$f":"Timedata!C73","v":""},60]
[61,null,{"$f":"OpenFile!B63","v":0},{"$f":"Timedata!E74","v":""},{"$f":"Timedata!B74","v":""},{"$f":"OpenFile!C63","v":0},null,{"$f":"Timedata!F74","v":""},{"$f":"Timedata!C74","v":""},61]
[62,null,{"$f":"OpenFile!B64","v":0},{"$f":"Timedata!E75","v":""},{"$f":"Timedata!B75","v":""},{"$f":"OpenFile!C64","v":0},null,{"$f":"Timedata!F75","v":""},{"$f":"Timedata!C75","v":""},62]
[63,null,{"$f":"OpenFile!B65","v":0},{"$f":"Timedata!E76","v":""},{"$f":"Timedata!B76","v":""},{"$f":"OpenFile!C65","v":0},null,{"$f":"Timedata!F76","v":""},{"$f":"Timedata!C76","v":""},63]
[64,null,{"$f":"OpenFile!B66","v":0},{"$f":"Timedata!E77","v":""},{"$f":"Timedata!B77","v":""},{"$f":"OpenFile!C66","v":0},null,{"$f":"Timedata!F77","v":""},{"$f":"Timedata!C77","v":""},64]
[65,null,{"$f":"OpenFile!B67","v":0},{"$f":"Timedata!E78","v":""},{"$f":"Timedata!B78","v":""},{"$f":"OpenFile!C67","v":0},null,{"$f":"Timedata!F78","v":""},{"$f":"Timedata!C78","v":""},65]
[66,null,{"$f":"OpenFile!B68","v":0},{"$f":"Timedata!E79","v":""},{"$f":"Timedata!B79","v":""},{"$f":"OpenFile!C68","v":0},null,{"$f":"Timedata!F79","v":""},{"$f":"Timedata!C79","v":""},66]
[67,null,{"$f":"OpenFile!B69","v":0},{"$f":"Timedata!E80","v":""},{"$f":"Timedata!B80","v":""},{"$f":"OpenFile!C69","v":0},null,{"$f":"Timedata!F80","v":""},{"$f":"Timedata!C80","v":""},67]
[68,null,{"$f":"OpenFile!B70","v":0},{"$f":"Timedata!E81","v":""},{"$f":"Timedata!B81","v":""},{"$f":"OpenFile!C70","v":0},null,{"$f":"Timedata!F81","v":""},{"$f":"Timedata!C81","v":""},68]
[69,null,{"$f":"OpenFile!B71","v":0},{"$f":"Timedata!E82","v":""},{"$f":"Timedata!B82","v":""},{"$f":"OpenFile!C71","v":0},null,{"$f":"Timedata!F82","v":""},{"$f":"Timedata!C82","v":""},69]
[70,null,{"$f":"OpenFile!B72","v":0},{"$f":"Timedata!E83","v":""},{"$f":"Timedata!B83","v":""},{"$f":"OpenFile!C72","v":0},null,{"$f":"Timedata!F83","v":""},{"$f":"Timedata!C83","v":""},70]
[71,null,{"$f":"OpenFile!B73","v":0},{"$f":"Timedata!E84","v":""},{"$f":"Timedata!B84","v":""},{"$f":"OpenFile!C73","v":0},null,{"$f":"Timedata!F84","v":""},{"$f":"Timedata!C84","v":""},71]
[72,null,{"$f":"OpenFile!B74","v":0},{"$f":"Timedata!E85","v":""},{"$f":"Timedata!B85","v":""},{"$f":"OpenFile!C74","v":0},null,{"$f":"Timedata!F85","v":""},{"$f":"Timedata!C85","v":""},72]
[73,null,{"$f":"OpenFile!B75","v":0},{"$f":"Timedata!E86","v":""},{"$f":"Timedata!B86","v":""},{"$f":"OpenFile!C75","v":0},null,{"$f":"Timedata!F86","v":""},{"$f":"Timedata!C86","v":""},73]
[74,null,{"$f":"OpenFile!B76","v":0},{"$f":"Timedata!E87","v":""},{"$f":"Timedata!B87","v":""},{"$f":"OpenFile!C76","v":0},null,{"$f":"Timedata!F87","v":""},{"$f":"Timedata!C87","v":""},74]
[75,null,{"$f":"OpenFile!B77","v":0},{"$f":"Timedata!E88","v":""},{"$f":"Timedata!B88","v":""},{"$f":"OpenFile!C77","v":0},null,{"$f":"Timedata!F88","v":""},{"$f":"Timedata!C88","v":""},75]
[76,null,{"$f":"OpenFile!B78","v":0},{"$f":"Timedata!E89","v":""},{"$f":"Timedata!B89","v":""},{"$f":"OpenFile!C78","v":0},null,{"$f":"Timedata!F89","v":""},{"$f":"Timedata!C89","v":""},76]
[77,null,{"$f":"OpenFile!B79","v":0},{"$f":"Timedata!E90","v":""},{"$f":"Timedata!B90","v":""},{"$f":"OpenFile!C79","v":0},null,{"$f":"Timedata!F90","v":""},{"$f":"Timedata!C90","v":""},77]
[78,null,{"$f":"OpenFile!B80","v":0},{"$f":"Timedata!E91","v":""},{"$f":"Timedata!B91","v":""},{"$f":"OpenFile!C80","v":0},null,{"$f":"Timedata!F91","v":""},{"$f":"Timedata!C91","v":""},78]
[79,null,{"$f":"OpenFile!B81","v":0},{"$f":"Timedata!E92","v":""},{"$f":"Timedata!B92","v":""},{"$f":"OpenFile!C81","v":0},null,{"$f":"Timedata!F92","v":""},{"$f":"Timedata!C92","v":""},79]
[80,null,{"$f":"OpenFile!B82","v":0},{"$f":"Timedata!E93","v":""},{"$f":"Timedata!B93","v":""},{"$f":"OpenFile!C82","v":0},null,{"$f":"Timedata!F93","v":""},{"$f":"Timedata!C93","v":""},80]
[81,null,{"$f":"OpenFile!B83","v":0},{"$f":"Timedata!E94","v":""},{"$f":"Timedata!B94","v":""},{"$f":"OpenFile!C83","v":0},null,{"$f":"Timedata!F94","v":""},{"$f":"Timedata!C94","v":""},81]
[82,null,{"$f":"OpenFile!B84","v":0},{"$f":"Timedata!E95","v":""},{"$f":"Timedata!B95","v":""},{"$f":"OpenFile!C84","v":0},null,{"$f":"Timedata!F95","v":""},{"$f":"Timedata!C95","v":""},82]
[83,null,{"$f":"OpenFile!B85","v":0},{"$f":"Timedata!E96","v":""},{"$f":"Timedata!B96","v":""},{"$f":"OpenFile!C85","v":0},null,{"$f":"Timedata!F96","v":""},{"$f":"Timedata!C96","v":""},83]
[84,null,{"$f":"OpenFile!B86","v":0},{"$f":"Timedata!E97","v":""},{"$f":"Timedata!B97","v":""},{"$f":"OpenFile!C86","v":0},null,{"$f":"Timedata!F97","v":""},{"$f":"Timedata!C97","v":""},84]
[85,null,{"$f":"OpenFile!B87","v":0},{"$f":"Timedata!E98","v":""},{"$f":"Timedata!B98","v":""},{"$f":"OpenFile!C87","v":0},null,{"$f":"Timedata!F98","v":""},{"$f":"Timedata!C98","v":""},85]
[86,null,{"$f":"OpenFile!B88","v":0},{"$f":"Timedata!E99","v":""},{"$f":"Timedata!B99","v":""},{"$f":"OpenFile!C88","v":0},null,{"$f":"Timedata!F99","v":""},{"$f":"Timedata!C99","v":""},86]
[87,null,{"$f":"OpenFile!B89","v":0},{"$f":"Timedata!E100","v":""},{"$f":"Timedata!B100","v":""},{"$f":"OpenFile!C89","v":0},null,{"$f":"Timedata!F100","v":""},{"$f":"Timedata!C100","v":""},87]
[88,null,{"$f":"OpenFile!B90","v":0},{"$f":"Timedata!E101","v":""},{"$f":"Timedata!B101","v":""},{"$f":"OpenFile!C90","v":0},null,{"$f":"Timedata!F101","v":""},{"$f":"Timedata!C101","v":""},88]
[89,null,{"$f":"OpenFile!B91","v":0},{"$f":"Timedata!E102","v":""},{"$f":"Timedata!B102","v":""},{"$f":"OpenFile!C91","v":0},null,{"$f":"Timedata!F102","v":""},{"$f":"Timedata!C102","v":""},89]
[90,null,{"$f":"OpenFile!B92","v":0},{"$f":"Timedata!E103","v":""},{"$f":"Timedata!B103","v":""},{"$f":"OpenFile!C92","v":0},null,{"$f":"Timedata!F103","v":""},{"$f":"Timedata!C103","v":""},90]
[91,null,{"$f":"OpenFile!B93","v":0},{"$f":"Timedata!E104","v":""},{"$f":"Timedata!B104","v":""},{"$f":"OpenFile!C93","v":0},null,{"$f":"Timedata!F104","v":""},{"$f":"Timedata!C104","v":""},91]
[92,null,{"$f":"OpenFile!B94","v":0},{"$f":"Timedata!E105","v":""},{"$f":"Timedata!B105","v":""},{"$f":"OpenFile!C94","v":0},null,{"$f":"Timedata!F105","v":""},{"$f":"Timedata!C105","v":""},92]
[93,null,{"$f":"OpenFile!B95","v":0},{"$f":"Timedata!E106","v":""},{"$f":"Timedata!B106","v":""},{"$f":"OpenFile!C95","v":0},null,{"$f":"Timedata!F106","v":""},{"$f":"Timedata!C106","v":""},93]
[94,null,{"$f":"OpenFile!B96","v":0},{"$f":"Timedata!E107","v":""},{"$f":"Timedata!B107","v":""},{"$f":"OpenFile!C96","v":0},null,{"$f":"Timedata!F107","v":""},{"$f":"Timedata!C107","v":""},94]
[95,null,{"$f":"OpenFile!B97","v":0},{"$f":"Timedata!E108","v":""},{"$f":"Timedata!B108","v":""},{"$f":"OpenFile!C97","v":0},null,{"$f":"Timedata!F108","v":""},{"$f":"Timedata!C108","v":""},95]
[96,null,{"$f":"OpenFile!B98","v":0},{"$f":"Timedata!E109","v":""},{"$f":"Timedata!B109","v":""},{"$f":"OpenFile!C98","v":0},null,{"$f":"Timedata!F109","v":""},{"$f":"Timedata!C109","v":""},96]
[97,null,{"$f":"OpenFile!B99","v":0},{"$f":"Timedata!E110","v":""},{"$f":"Timedata!B110","v":""},{"$f":"OpenFile!C99","v":0},null,{"$f":"Timedata!F110","v":""},{"$f":"Timedata!C110","v":""},97]
[98,null,{"$f":"OpenFile!B100","v":0},{"$f":"Timedata!E111","v":""},{"$f":"Timedata!B111","v":""},{"$f":"OpenFile!C100","v":0},null,{"$f":"Timedata!F111","v":""},{"$f":"Timedata!C111","v":""},98]
[99,null,{"$f":"OpenFile!B101","v":0},{"$f":"Timedata!E112","v":""},{"$f":"Timedata!B112","v":""},{"$f":"OpenFile!C101","v":0},null,{"$f":"Timedata!F112","v":""},{"$f":"Timedata!C112","v":""},99]
[100,null,{"$f":"OpenFile!B102","v":0},{"$f":"Timedata!E113","v":""},{"$f":"Timedata!B113","v":""},{"$f":"OpenFile!C102","v":0},null,{"$f":"Timedata!F113","v":""},{"$f":"Timedata!C113","v":""},100]
[101,null,{"$f":"OpenFile!B103","v":0},{"$f":"Timedata!E114","v":""},{"$f":"Timedata!B114","v":""},{"$f":"OpenFile!C103","v":0},null,{"$f":"Timedata!F114","v":""},{"$f":"Timedata!C114","v":""},101]
[102,null,{"$f":"OpenFile!B104","v":0},{"$f":"Timedata!E115","v":""},{"$f":"Timedata!B115","v":""},{"$f":"OpenFile!C104","v":0},null,{"$f":"Timedata!F115","v":""},{"$f":"Timedata!C115","v":""},102]
[103,null,{"$f":"OpenFile!B105","v":0},{"$f":"Timedata!E116","v":""},{"$f":"Timedata!B116","v":""},{"$f":"OpenFile!C105","v":0},null,{"$f":"Timedata!F116","v":""},{"$f":"Timedata!C116","v":""},103]
[104,null,{"$f":"OpenFile!B106","v":0},{"$f":"Timedata!E117","v":""},{"$f":"Timedata!B117","v":""},{"$f":"OpenFile!C106","v":0},null,{"$f":"Timedata!F117","v":""},{"$f":"Timedata!C117","v":""},104]
[105,null,{"$f":"OpenFile!B107","v":0},{"$f":"Timedata!E118","v":""},{"$f":"Timedata!B118","v":""},{"$f":"OpenFile!C107","v":0},null,{"$f":"Timedata!F118","v":""},{"$f":"Timedata!C118","v":""},105]
[106,null,{"$f":"OpenFile!B108","v":0},{"$f":"Timedata!E119","v":""},{"$f":"Timedata!B119","v":""},{"$f":"OpenFile!C108","v":0},null,{"$f":"Timedata!F119","v":""},{"$f":"Timedata!C119","v":""},106]
[107,null,{"$f":"OpenFile!B109","v":0},{"$f":"Timedata!E120","v":""},{"$f":"Timedata!B120","v":""},{"$f":"OpenFile!C109","v":0},null,{"$f":"Timedata!F120","v":""},{"$f":"Timedata!C120","v":""},107]
[108,null,{"$f":"OpenFile!B110","v":0},{"$f":"Timedata!E121","v":""},{"$f":"Timedata!B121","v":""},{"$f":"OpenFile!C110","v":0},null,{"$f":"Timedata!F121","v":""},{"$f":"Timedata!C121","v":""},108]
[109,null,{"$f":"OpenFile!B111","v":0},{"$f":"Timedata!E122","v":""},{"$f":"Timedata!B122","v":""},{"$f":"OpenFile!C111","v":0},null,{"$f":"Timedata!F122","v":""},{"$f":"Timedata!C122","v":""},109]
[110,null,{"$f":"OpenFile!B112","v":0},{"$f":"Timedata!E123","v":""},{"$f":"Timedata!B123","v":""},{"$f":"OpenFile!C112","v":0},null,{"$f":"Timedata!F123","v":""},{"$f":"Timedata!C123","v":""},110]
[111,null,{"$f":"OpenFile!B113","v":0},{"$f":"Timedata!E124","v":""},{"$f":"Timedata!B124","v":""},{"$f":"OpenFile!C113","v":0},null,{"$f":"Timedata!F124","v":""},{"$f":"Timedata!C124","v":""},111]
[112,null,{"$f":"OpenFile!B114","v":0},{"$f":"Timedata!E125","v":""},{"$f":"Timedata!B125","v":""},{"$f":"OpenFile!C114","v":0},null,{"$f":"Timedata!F125","v":""},{"$f":"Timedata!C125","v":""},112]
[113,null,{"$f":"OpenFile!B115","v":0},{"$f":"Timedata!E126","v":""},{"$f":"Timedata!B126","v":""},{"$f":"OpenFile!C115","v":0},null,{"$f":"Timedata!F126","v":""},{"$f":"Timedata!C126","v":""},113]
[114,null,{"$f":"OpenFile!B116","v":0},{"$f":"Timedata!E127","v":""},{"$f":"Timedata!B127","v":""},{"$f":"OpenFile!C116","v":0},null,{"$f":"Timedata!F127","v":""},{"$f":"Timedata!C127","v":""},114]
[115,null,{"$f":"OpenFile!B117","v":0},{"$f":"Timedata!E128","v":""},{"$f":"Timedata!B128","v":""},{"$f":"OpenFile!C117","v":0},null,{"$f":"Timedata!F128","v":""},{"$f":"Timedata!C128","v":""},115]
[116,null,{"$f":"OpenFile!B118","v":0},{"$f":"Timedata!E129","v":""},{"$f":"Timedata!B129","v":""},{"$f":"OpenFile!C118","v":0},null,{"$f":"Timedata!F129","v":""},{"$f":"Timedata!C129","v":""},116]
[117,null,{"$f":"OpenFile!B119","v":0},{"$f":"Timedata!E130","v":""},{"$f":"Timedata!B130","v":""},{"$f":"OpenFile!C119","v":0},null,{"$f":"Timedata!F130","v":""},{"$f":"Timedata!C130","v":""},117]
[118,null,{"$f":"OpenFile!B120","v":0},{"$f":"Timedata!E131","v":""},{"$f":"Timedata!B131","v":""},{"$f":"OpenFile!C120","v":0},null,{"$f":"Timedata!F131","v":""},{"$f":"Timedata!C131","v":""},118]
[119,null,{"$f":"OpenFile!B121","v":0},{"$f":"Timedata!E132","v":""},{"$f":"Timedata!B132","v":""},{"$f":"OpenFile!C121","v":0},null,{"$f":"Timedata!F132","v":""},{"$f":"Timedata!C132","v":""},119]
[120,null,{"$f":"OpenFile!B122","v":0},{"$f":"Timedata!E133","v":""},{"$f":"Timedata!B133","v":""},{"$f":"OpenFile!C122","v":0},null,{"$f":"Timedata!F133","v":""},{"$f":"Timedata!C133","v":""},120]
[121,null,{"$f":"OpenFile!B123","v":0},{"$f":"Timedata!E134","v":""},{"$f":"Timedata!B134","v":""},{"$f":"OpenFile!C123","v":0},null,{"$f":"Timedata!F134","v":""},{"$f":"Timedata!C134","v":""},121]
[122,null,{"$f":"OpenFile!B124","v":0},{"$f":"Timedata!E135","v":""},{"$f":"Timedata!B135","v":""},{"$f":"OpenFile!C124","v":0},null,{"$f":"Timedata!F135","v":""},{"$f":"Timedata!C135","v":""},122]
[123,null,{"$f":"OpenFile!B125","v":0},{"$f":"Timedata!E136","v":""},{"$f":"Timedata!B136","v":""},{"$f":"OpenFile!C125","v":0},null,{"$f":"Timedata!F136","v":""},{"$f":"Timedata!C136","v":""},123]
[124,null,{"$f":"OpenFile!B126","v":0},{"$f":"Timedata!E137","v":""},{"$f":"Timedata!B137","v":""},{"$f":"OpenFile!C126","v":0},null,{"$f":"Timedata!F137","v":""},{"$f":"Timedata!C137","v":""},124]
[125,null,{"$f":"OpenFile!B127","v":0},{"$f":"Timedata!E138","v":""},{"$f":"Timedata!B138","v":""},{"$f":"OpenFile!C127","v":0},null,{"$f":"Timedata!F138","v":""},{"$f":"Timedata!C138","v":""},125]
[126,null,{"$f":"OpenFile!B128","v":0},{"$f":"Timedata!E139","v":""},{"$f":"Timedata!B139","v":""},{"$f":"OpenFile!C128","v":0},null,{"$f":"Timedata!F139","v":""},{"$f":"Timedata!C139","v":""},126]
[127,null,{"$f":"OpenFile!B129","v":0},{"$f":"Timedata!E140","v":""},{"$f":"Timedata!B140","v":""},{"$f":"OpenFile!C129","v":0},null,{"$f":"Timedata!F140","v":""},{"$f":"Timedata!C140","v":""},127]
[128,null,{"$f":"OpenFile!B130","v":0},{"$f":"Timedata!E141","v":""},{"$f":"Timedata!B141","v":""},{"$f":"OpenFile!C130","v":0},null,{"$f":"Timedata!F141","v":""},{"$f":"Timedata!C141","v":""},128]
[129,null,{"$f":"OpenFile!B131","v":0},{"$f":"Timedata!E142","v":""},{"$f":"Timedata!B142","v":""},{"$f":"OpenFile!C131","v":0},null,{"$f":"Timedata!F142","v":""},{"$f":"Timedata!C142","v":""},129]
[130,null,{"$f":"OpenFile!B132","v":0},{"$f":"Timedata!E143","v":""},{"$f":"Timedata!B143","v":""},{"$f":"OpenFile!C132","v":0},null,{"$f":"Timedata!F143","v":""},{"$f":"Timedata!C143","v":""},130]
[131,null,{"$f":"OpenFile!B133","v":0},{"$f":"Timedata!E144","v":""},{"$f":"Timedata!B144","v":""},{"$f":"OpenFile!C133","v":0},null,{"$f":"Timedata!F144","v":""},{"$f":"Timedata!C144","v":""},131]
[132,null,{"$f":"OpenFile!B134","v":0},{"$f":"Timedata!E145","v":""},{"$f":"Timedata!B145","v":""},{"$f":"OpenFile!C134","v":0},null,{"$f":"Timedata!F145","v":""},{"$f":"Timedata!C145","v":""},132]
[133,null,{"$f":"OpenFile!B135","v":0},{"$f":"Timedata!E146","v":""},{"$f":"Timedata!B146","v":""},{"$f":"OpenFile!C135","v":0},null,{"$f":"Timedata!F146","v":""},{"$f":"Timedata!C146","v":""},133]
[134,null,{"$f":"OpenFile!B136","v":0},{"$f":"Timedata!E147","v":""},{"$f":"Timedata!B147","v":""},{"$f":"OpenFile!C136","v":0},null,{"$f":"Timedata!F147","v":""},{"$f":"Timedata!C147","v":""},134]
[135,null,{"$f":"OpenFile!B137","v":0},{"$f":"Timedata!E148","v":""},{"$f":"Timedata!B148","v":""},{"$f":"OpenFile!C137","v":0},null,{"$f":"Timedata!F148","v":""},{"$f":"Timedata!C148","v":""},135]
[136,null,{"$f":"OpenFile!B138","v":0},{"$f":"Timedata!E149","v":""},{"$f":"Timedata!B149","v":""},{"$f":"OpenFile!C138","v":0},null,{"$f":"Timedata!F149","v":""},{"$f":"Timedata!C149","v":""},136]
[137,null,{"$f":"OpenFile!B139","v":0},{"$f":"Timedata!E150","v":""},{"$f":"Timedata!B150","v":""},{"$f":"OpenFile!C139","v":0},null,{"$f":"Timedata!F150","v":""},{"$f":"Timedata!C150","v":""},137]
[138,null,{"$f":"OpenFile!B140","v":0},{"$f":"Timedata!E151","v":""},{"$f":"Timedata!B151","v":""},{"$f":"OpenFile!C140","v":0},null,{"$f":"Timedata!F151","v":""},{"$f":"Timedata!C151","v":""},138]
[139,null,{"$f":"OpenFile!B141","v":0},{"$f":"Timedata!E152","v":""},{"$f":"Timedata!B152","v":""},{"$f":"OpenFile!C141","v":0},null,{"$f":"Timedata!F152","v":""},{"$f":"Timedata!C152","v":""},139]
[140,null,{"$f":"OpenFile!B142","v":0},{"$f":"Timedata!E153","v":""},{"$f":"Timedata!B153","v":""},{"$f":"OpenFile!C142","v":0},null,{"$f":"Timedata!F153","v":""},{"$f":"Timedata!C153","v":""},140]
[141,null,{"$f":"OpenFile!B143","v":0},{"$f":"Timedata!E154","v":""},{"$f":"Timedata!B154","v":""},{"$f":"OpenFile!C143","v":0},null,{"$f":"Timedata!F154","v":""},{"$f":"Timedata!C154","v":""},141]
[142,null,{"$f":"OpenFile!B144","v":0},{"$f":"Timedata!E155","v":""},{"$f":"Timedata!B155","v":""},{"$f":"OpenFile!C144","v":0},null,{"$f":"Timedata!F155","v":""},{"$f":"Timedata!C155","v":""},142]
[143,null,{"$f":"OpenFile!B145","v":0},{"$f":"Timedata!E156","v":""},{"$f":"Timedata!B156","v":""},{"$f":"OpenFile!C145","v":0},null,{"$f":"Timedata!F156","v":""},{"$f":"Timedata!C156","v":""},143]
[144,null,{"$f":"OpenFile!B146","v":0},{"$f":"Timedata!E157","v":""},{"$f":"Timedata!B157","v":""},{"$f":"OpenFile!C146","v":0},null,{"$f":"Timedata!F157","v":""},{"$f":"Timedata!C157","v":""},144]
[145,null,{"$f":"OpenFile!B147","v":0},{"$f":"Timedata!E158","v":""},{"$f":"Timedata!B158","v":""},{"$f":"OpenFile!C147","v":0},null,{"$f":"Timedata!F158","v":""},{"$f":"Timedata!C158","v":""},145]
[146,null,{"$f":"OpenFile!B148","v":0},{"$f":"Timedata!E159","v":""},{"$f":"Timedata!B159","v":""},{"$f":"OpenFile!C148","v":0},null,{"$f":"Timedata!F159","v":""},{"$f":"Timedata!C159","v":""},146]
[147,null,{"$f":"OpenFile!B149","v":0},{"$f":"Timedata!E160","v":""},{"$f":"Timedata!B160","v":""},{"$f":"OpenFile!C149","v":0},null,{"$f":"Timedata!F160","v":""},{"$f":"Timedata!C160","v":""},147]
[148,null,{"$f":"OpenFile!B150","v":0},{"$f":"Timedata!E161","v":""},{"$f":"Timedata!B161","v":""},{"$f":"OpenFile!C150","v":0},null,{"$f":"Timedata!F161","v":""},{"$f":"Timedata!C161","v":""},148]
[149,null,{"$f":"OpenFile!B151","v":0},{"$f":"Timedata!E162","v":""},{"$f":"Timedata!B162","v":""},{"$f":"OpenFile!C151","v":0},null,{"$f":"Timedata!F162","v":""},{"$f":"Timedata!C162","v":""},149]
[150,null,{"$f":"OpenFile!B152","v":0},{"$f":"Timedata!E163","v":""},{"$f":"Timedata!B163","v":""},{"$f":"OpenFile!C152","v":0},null,{"$f":"Timedata!F163","v":""},{"$f":"Timedata!C163","v":""},150]
[151,null,{"$f":"OpenFile!B153","v":0},{"$f":"Timedata!E164","v":""},{"$f":"Timedata!B164","v":""},{"$f":"OpenFile!C153","v":0},null,{"$f":"Timedata!F164","v":""},{"$f":"Timedata!C164","v":""},151]
[152,null,{"$f":"OpenFile!B154","v":0},{"$f":"Timedata!E165","v":""},{"$f":"Timedata!B165","v":""},{"$f":"OpenFile!C154","v":0},null,{"$f":"Timedata!F165","v":""},{"$f":"Timedata!C165","v":""},152]
[153,null,{"$f":"OpenFile!B155","v":0},{"$f":"Timedata!E166","v":""},{"$f":"Timedata!B166","v":""},{"$f":"OpenFile!C155","v":0},null,{"$f":"Timedata!F166","v":""},{"$f":"Timedata!C166","v":""},153]
[154,null,{"$f":"OpenFile!B156","v":0},{"$f":"Timedata!E167","v":""},{"$f":"Timedata!B167","v":""},{"$f":"OpenFile!C156","v":0},null,{"$f":"Timedata!F167","v":""},{"$f":"Timedata!C167","v":""},154]
[155,null,{"$f":"OpenFile!B157","v":0},{"$f":"Timedata!E168","v":""},{"$f":"Timedata!B168","v":""},{"$f":"OpenFile!C157","v":0},null,{"$f":"Timedata!F168","v":""},{"$f":"Timedata!C168","v":""},155]
[156,null,{"$f":"OpenFile!B158","v":0},{"$f":"Timedata!E169","v":""},{"$f":"Timedata!B169","v":""},{"$f":"OpenFile!C158","v":0},null,{"$f":"Timedata!F169","v":""},{"$f":"Timedata!C169","v":""},156]
[157,null,{"$f":"OpenFile!B159","v":0},{"$f":"Timedata!E170","v":""},{"$f":"Timedata!B170","v":""},{"$f":"OpenFile!C159","v":0},null,{"$f":"Timedata!F170","v":""},{"$f":"Timedata!C170","v":""},157]
[158,null,{"$f":"OpenFile!B160","v":0},{"$f":"Timedata!E171","v":""},{"$f":"Timedata!B171","v":""},{"$f":"OpenFile!C160","v":0},null,{"$f":"Timedata!F171","v":""},{"$f":"Timedata!C171","v":""},158]
[159,null,{"$f":"OpenFile!B161","v":0},{"$f":"Timedata!E172","v":""},{"$f":"Timedata!B172","v":""},{"$f":"OpenFile!C161","v":0},null,{"$f":"Timedata!F172","v":""},{"$f":"Timedata!C172","v":""},159]
[160,null,{"$f":"OpenFile!B162","v":0},{"$f":"Timedata!E173","v":""},{"$f":"Timedata!B173","v":""},{"$f":"OpenFile!C162","v":0},null,{"$f":"Timedata!F173","v":""},{"$f":"Timedata!C173","v":""},160]
[161,null,{"$f":"OpenFile!B163","v":0},{"$f":"Timedata!E174","v":""},{"$f":"Timedata!B174","v":""},{"$f":"OpenFile!C163","v":0},null,{"$f":"Timedata!F174","v":""},{"$f":"Timedata!C174","v":""},161]
[162,null,{"$f":"OpenFile!B164","v":0},{"$f":"Timedata!E175","v":""},{"$f":"Timedata!B175","v":""},{"$f":"OpenFile!C164","v":0},null,{"$f":"Timedata!F175","v":""},{"$f":"Timedata!C175","v":""},162]
[163,null,{"$f":"OpenFile!B165","v":0},{"$f":"Timedata!E176","v":""},{"$f":"Timedata!B176","v":""},{"$f":"OpenFile!C165","v":0},null,{"$f":"Timedata!F176","v":""},{"$f":"Timedata!C176","v":""},163]
[164,null,{"$f":"OpenFile!B166","v":0},{"$f":"Timedata!E177","v":""},{"$f":"Timedata!B177","v":""},{"$f":"OpenFile!C166","v":0},null,{"$f":"Timedata!F177","v":""},{"$f":"Timedata!C177","v":""},164]
[165,null,{"$f":"OpenFile!B167","v":0},{"$f":"Timedata!E178","v":""},{"$f":"Timedata!B178","v":""},{"$f":"OpenFile!C167","v":0},null,{"$f":"Timedata!F178","v":""},{"$f":"Timedata!C178","v":""},165]
[166,null,{"$f":"OpenFile!B168","v":0},{"$f":"Timedata!E179","v":""},{"$f":"Timedata!B179","v":""},{"$f":"OpenFile!C168","v":0},null,{"$f":"Timedata!F179","v":""},{"$f":"Timedata!C179","v":""},166]
[167,null,{"$f":"OpenFile!B169","v":0},{"$f":"Timedata!E180","v":""},{"$f":"Timedata!B180","v":""},{"$f":"OpenFile!C169","v":0},null,{"$f":"Timedata!F180","v":""},{"$f":"Timedata!C180","v":""},167]
[168,null,{"$f":"OpenFile!B170","v":0},{"$f":"Timedata!E181","v":""},{"$f":"Timedata!B181","v":""},{"$f":"OpenFile!C170","v":0},null,{"$f":"Timedata!F181","v":""},{"$f":"Timedata!C181","v":""},168]
[169,null,{"$f":"OpenFile!B171","v":0},{"$f":"Timedata!E182","v":""},{"$f":"Timedata!B182","v":""},{"$f":"OpenFile!C171","v":0},null,{"$f":"Timedata!F182","v":""},{"$f":"Timedata!C182","v":""},169]
[170,null,{"$f":"OpenFile!B172","v":0},{"$f":"Timedata!E183","v":""},{"$f":"Timedata!B183","v":""},{"$f":"OpenFile!C172","v":0},null,{"$f":"Timedata!F183","v":""},{"$f":"Timedata!C183","v":""},170]
[171,null,{"$f":"OpenFile!B173","v":0},{"$f":"Timedata!E184","v":""},{"$f":"Timedata!B184","v":""},{"$f":"OpenFile!C173","v":0},null,{"$f":"Timedata!F184","v":""},{"$f":"Timedata!C184","v":""},171]
[172,null,{"$f":"OpenFile!B174","v":0},{"$f":"Timedata!E185","v":""},{"$f":"Timedata!B185","v":""},{"$f":"OpenFile!C174","v":0},null,{"$f":"Timedata!F185","v":""},{"$f":"Timedata!C185","v":""},172]
[173,null,{"$f":"OpenFile!B175","v":0},{"$f":"Timedata!E186","v":""},{"$f":"Timedata!B186","v":""},{"$f":"OpenFile!C175","v":0},null,{"$f":"Timedata!F186","v":""},{"$f":"Timedata!C186","v":""},173]
[174,null,{"$f":"OpenFile!B176","v":0},{"$f":"Timedata!E187","v":""},{"$f":"Timedata!B187","v":""},{"$f":"OpenFile!C176","v":0},null,{"$f":"Timedata!F187","v":""},{"$f":"Timedata!C187","v":""},174]
[175,null,{"$f":"OpenFile!B177","v":0},{"$f":"Timedata!E188","v":""},{"$f":"Timedata!B188","v":""},{"$f":"OpenFile!C177","v":0},null,{"$f":"Timedata!F188","v":""},{"$f":"Timedata!C188","v":""},175]
[176,null,{"$f":"OpenFile!B178","v":0},{"$f":"Timedata!E189","v":""},{"$f":"Timedata!B189","v":""},{"$f":"OpenFile!C178","v":0},null,{"$f":"Timedata!F189","v":""},{"$f":"Timedata!C189","v":""},176]
[177,null,{"$f":"OpenFile!B179","v":0},{"$f":"Timedata!E190","v":""},{"$f":"Timedata!B190","v":""},{"$f":"OpenFile!C179","v":0},null,{"$f":"Timedata!F190","v":""},{"$f":"Timedata!C190","v":""},177]
[178,null,{"$f":"OpenFile!B180","v":0},{"$f":"Timedata!E191","v":""},{"$f":"Timedata!B191","v":""},{"$f":"OpenFile!C180","v":0},null,{"$f":"Timedata!F191","v":""},{"$f":"Timedata!C191","v":""},178]
[179,null,{"$f":"OpenFile!B181","v":0},{"$f":"Timedata!E192","v":""},{"$f":"Timedata!B192","v":""},{"$f":"OpenFile!C181","v":0},null,{"$f":"Timedata!F192","v":""},{"$f":"Timedata!C192","v":""},179]
[180,null,{"$f":"OpenFile!B182","v":0},{"$f":"Timedata!E193","v":""},{"$f":"Timedata!B193","v":""},{"$f":"OpenFile!C182","v":0},null,{"$f":"Timedata!F193","v":""},{"$f":"Timedata!C193","v":""},180]
[181,null,{"$f":"OpenFile!B183","v":0},{"$f":"Timedata!E194","v":""},{"$f":"Timedata!B194","v":""},{"$f":"OpenFile!C183","v":0},null,{"$f":"Timedata!F194","v":""},{"$f":"Timedata!C194","v":""},181]
[182,null,{"$f":"OpenFile!B184","v":0},{"$f":"Timedata!E195","v":""},{"$f":"Timedata!B195","v":""},{"$f":"OpenFile!C184","v":0},null,{"$f":"Timedata!F195","v":""},{"$f":"Timedata!C195","v":""},182]
[183,null,{"$f":"OpenFile!B185","v":0},{"$f":"Timedata!E196","v":""},{"$f":"Timedata!B196","v":""},{"$f":"OpenFile!C185","v":0},null,{"$f":"Timedata!F196","v":""},{"$f":"Timedata!C196","v":""},183]
[184,null,{"$f":"OpenFile!B186","v":0},{"$f":"Timedata!E197","v":""},{"$f":"Timedata!B197","v":""},{"$f":"OpenFile!C186","v":0},null,{"$f":"Timedata!F197","v":""},{"$f":"Timedata!C197","v":""},184]
[185,null,{"$f":"OpenFile!B187","v":0},{"$f":"Timedata!E198","v":""},{"$f":"Timedata!B198","v":""},{"$f":"OpenFile!C187","v":0},null,{"$f":"Timedata!F198","v":""},{"$f":"Timedata!C198","v":""},185]
[186,null,{"$f":"OpenFile!B188","v":0},{"$f":"Timedata!E199","v":""},{"$f":"Timedata!B199","v":""},{"$f":"OpenFile!C188","v":0},null,{"$f":"Timedata!F199","v":""},{"$f":"Timedata!C199","v":""},186]
[187,null,{"$f":"OpenFile!B189","v":0},{"$f":"Timedata!E200","v":""},{"$f":"Timedata!B200","v":""},{"$f":"OpenFile!C189","v":0},null,{"$f":"Timedata!F200","v":""},{"$f":"Timedata!C200","v":""},187]
[188,null,{"$f":"OpenFile!B190","v":0},{"$f":"Timedata!E201","v":""},{"$f":"Timedata!B201","v":""},{"$f":"OpenFile!C190","v":0},null,{"$f":"Timedata!F201","v":""},{"$f":"Timedata!C201","v":""},188]
[189,null,{"$f":"OpenFile!B191","v":0},{"$f":"Timedata!E202","v":""},{"$f":"Timedata!B202","v":""},{"$f":"OpenFile!C191","v":0},null,{"$f":"Timedata!F202","v":""},{"$f":"Timedata!C202","v":""},189]
[190,null,{"$f":"OpenFile!B192","v":0},{"$f":"Timedata!E203","v":""},{"$f":"Timedata!B203","v":""},{"$f":"OpenFile!C192","v":0},null,{"$f":"Timedata!F203","v":""},{"$f":"Timedata!C203","v":""},190]
[191,null,{"$f":"OpenFile!B193","v":0},{"$f":"Timedata!E204","v":""},{"$f":"Timedata!B204","v":""},{"$f":"OpenFile!C193","v":0},null,{"$f":"Timedata!F204","v":""},{"$f":"Timedata!C204","v":""},191]
[192,null,{"$f":"OpenFile!B194","v":0},{"$f":"Timedata!E205","v":""},{"$f":"Timedata!B205","v":""},{"$f":"OpenFile!C194","v":0},null,{"$f":"Timedata!F205","v":""},{"$f":"Timedata!C205","v":""},192]
[193,null,{"$f":"OpenFile!B195","v":0},{"$f":"Timedata!E206","v":""},{"$f":"Timedata!B206","v":""},{"$f":"OpenFile!C195","v":0},null,{"$f":"Timedata!F206","v":""},{"$f":"Timedata!C206","v":""},193]
[194,null,{"$f":"OpenFile!B196","v":0},{"$f":"Timedata!E207","v":""},{"$f":"Timedata!B207","v":""},{"$f":"OpenFile!C196","v":0},null,{"$f":"Timedata!F207","v":""},{"$f":"Timedata!C207","v":""},194]
[195,null,{"$f":"OpenFile!B197","v":0},{"$f":"Timedata!E208","v":""},{"$f":"Timedata!B208","v":""},{"$f":"OpenFile!C197","v":0},null,{"$f":"Timedata!F208","v":""},{"$f":"Timedata!C208","v":""},195]
[196,null,{"$f":"OpenFile!B198","v":0},{"$f":"Timedata!E209","v":""},{"$f":"Timedata!B209","v":""},{"$f":"OpenFile!C198","v":0},null,{"$f":"Timedata!F209","v":""},{"$f":"Timedata!C209","v":""},196]
[197,null,{"$f":"OpenFile!B199","v":0},{"$f":"Timedata!E210","v":""},{"$f":"Timedata!B210","v":""},{"$f":"OpenFile!C199","v":0},null,{"$f":"Timedata!F210","v":""},{"$f":"Timedata!C210","v":""},197]

{"sheet":"WRforGraph","index":5,"n_rows":55,"n_cols":28,"rows_kept":55,"cut":false,"hidden":true,"merged":[]}
["ScoringSystem","Strokes/inning","WP/RP","Tempo","Kinds","コメント","player","ScoringSystem","Strokes/inning","WP/RP","Tempo","Kinds","コメント","player","ScoringSystem","Strokes/inning","WP/RP","Tempo","Kinds","コメント","player","ScoringSystem","Strokes/inning","WP/RP","Tempo","Kinds","コメント","player"]
["new",7.791666666666667,0.24913240823500626,0.69481116310160429,"MD",2009,"L'bourn / Juhl-Widianto / Natsir","new",10.709677419354838,0.39331238338407148,0.94246517319277112,"MS","2008北京オリンピック","リーチョンウェイ(MLS)-リンダン(CNH)","new",10.219298245614034,0.32374773911207727,0.7610112660944206,"WD",2009,"Chen Shu/Zhao(CHN)-Zhang Yawen/Zhao Tingting(CHN)","new",11.019417475728156,0.47662139946457277,1.0796255506607928,"WS","2008北京オリンピック","Zhang Ning(CHN)-Xie Xing Fang(CHN)"]
["new",9.8000000000000007,0.38780147602925863,0.72630494505494503,"MD","2007Sudirman Cup","TAN / KOO(MYS)-FU/KAI(CHN)","new",10.707692307692307,0.44812406539308097,0.89813442887931039,"MS",2009,"ﾀｳﾌｯｸ　ﾋﾀﾞﾔｯﾄ (IDN)-チェンジン(CHN)","new",10.211764705882352,0.32259279578785321,0.70917338709677424,"WD",2008,"フー　カイ (CHN)-イ・ヨンデ　ジェ・サンジン (KOR)","new",8.6835443037974684,0.42647009352082355,1.1549972667638484,"WS","Uber Cup 2008","Maria Kristin(IDN)-Xu Huaiwen(GER)"]
["new",6.2898550724637685,0.33167996549493206,0.88594470046082952,"MD",2007,"K.K.Koo / B.H.Tan(MYS)-L.Hadiyanto / A.Y.Candra(IDN)","new",9.8125,0.46284587830853186,0.95805135350318471,"MS",2009,"santoso(IDN)-Tago(JPN)","new",11.764150943396226,0.41949131451893884,0.79202586206896552,"WD","All England 2008","DU/YU(CHN)-LEE/LEE(KOR)","new",7.4363636363636365,0.43641955992459341,1.0922409841075795,"WS",2009,"Xie (CHN)-Lu Lan(CHN)"]
["new score",7.9294117647058826,0.28140241273248184,0.68082344213649848,"MD","THOMAS Cup Semifinal CHINA vs INDONESIA","HADIANT/ARUBEN-KAI/FU","new",10.902777777777779,0.5641272148007378,1.0044585987261145,"MS","2008北京オリンピック","chen jn(CHN)-LinDan(CHN)","new score",8.8416666666666668,0.26022943815658689,0.69785285108388306,"WD","2006Thomas Cup semi final","Lundgard HANSEN Martin/ERIKSEN Jens-KOO Kien Keat/CHAN Chong Ming","new",10.285714285714286,0.46116094177480715,1.0114366319444443,"WS","2008北京オリンピック","xie xingfang(CHN)-hwang hye youn(KOR)"]
["new score",10.456790123456789,0.39028314358033672,0.70257157615112165,"MD","YOJ2006 MD10 R1","スッケー・プラカモル/パタボン・クンシークス-坂元修一/池田信太郎","new",9.8219178082191778,0.48649421861962094,0.88938284518828459,"MS",2008,"shouji sato(JPN)-Anup SRIDHAR(IND)","new score",9.745454545454546,0.71718464351005484,0.80051888992537312,"WD","2006Uber CupSemi Final","ヤン・ウエイ/チャン・シェウエ-ミシャラ・ファイファー/サンドラ・マリネロ","new",8.929577464788732,0.52678691484661633,1.013801261829653,"WS",2009,"Zhou Mi(CHN)-Ai Goto(JPN)"]
["new score",8.2380952380952372,0.37147598193513071,0.65375120423892108,"MD","YOJ2006 MD20 R2","パークス/ラスムセン-チャンドラ/トニー","new score",8.1228070175438596,0.43928559324905952,0.87486501079913614,"MS","2006Thomas Cup semi final","ケネス・ヨナセン-ハフィス・ハシム","new score",9.8857142857142861,0.57312345640416418,0.82787662572254339,"WD","YOJ2006 WD2 R1","ニロキス/マント-Ogura Kumiko/Shiota Reiko","new score",8.8348623853211006,0.50833305018517894,0.97097287123572162,"WS","2006Uber CupQuarter Finals","Eriko HIROSE-Judith MEULENDUKS"]
["new score",7.3432835820895521,0.44460868361060335,0.67536995275233824,"MD","YONEX OPEN JAPAN2006MD Final","KOO Kien Keat/TAN Boon Heong-WIJAYA Candra/GUNAWAN Tony","new score",11.227272727272727,0.48497063854358463,0.93863866396761142,"MS","2006Thomas Cup semi final","Lin Dan-Taufic Hidayat","new score",10.960526315789474,0.51942795466810576,0.83048844537815114,"WD","YOJ2006 WD20 R2","LEE Kyung Won/Jung Youn Kyung-Wong Pei Tty/CHIN Eei Hui","new score",6.6410256410256414,0.54312178491152374,1.0859978281853282,"WS","2006Uber Cup semi final","Cheng S C-Mia Audina"]
["old score",11.657657657657658,0.3481477403486789,0.67769965948608957,"MD","2004 Athens Olympic Game final","LEE/YOO-KIM/HA","new score",7.8227848101265822,0.36315822104654044,0.88857706310679618,"MS","2006Thomas Cup  Semi-Final","Lee Chong Wei-Gade Peter","new score",10.678571428571429,0.46478033213533276,0.78392819816053505,"WD","YOJ2006 WD25 R3","LEE Kyung Won/Jung Youn Kyung-DU Jing/YU Yang","new score",8.4568965517241388,0.51208295562581529,1.1066991590214068,"WS","2006Uber Cup Q final","Aidina Mia-Mori Kaori"]
["old score",7.1418918918918921,0.27929457140742908,0.6834754907757804,"MD","2004 Olympic Game","FU/CAI-ERIKSEN/LUNDGAARD","new score",7.3698630136986303,0.41098800236019145,0.91031598513011158,"MS","2006Thomas Cup  Semi-Final","Person Joachim-Kuan Beng Hong","new score",10.364864864864865,0.50184225911272451,0.75193529986962193,"WD","YOJ2006 WD26 R3","チェン・ユーチン/チェン・ウェンシン-ガオ・リン/ファン・スイ","new score",6.7249999999999996,0.52397186996276912,1.0667983271375465,"WS","2006Uber Cup Semi Final","CHEN Y C-Judis Mulendeaks"]
[null,null,null,null,null,null,null,"new score",8.9387755102040813,0.49422664062046689,0.91156535388127857,"MS","YONEX OPEN JAPAN2006 MS Final","LIN Dan-HIDAYATE Taufic","new score",9.0579710144927539,0.48522869674185465,0.77442500000000003,"WD","YOJ2006 WD27 R3","ウエイー・イーリー/ツァン・ヤウエィ-サラリー/サーティニ","new score",7.1643835616438354,0.47375105842506349,1.0697896749521989,"WS","2006Uber CupSemi Final","Zhang Ning-XU"]
[null,null,null,null,null,null,null,"new score",8.735294117647058,0.48630422565850301,0.94086700336700346,"MS","YONEX JAPAN 2004 MS37 R3","スシロ-佐々木翔","new score",13.235294117647058,0.77453340961002759,0.85463555230034738,"WD","YOJ2006 WD28 R3","ヤン/ツァン-赤尾/松田","new score",6.6168224299065423,0.44952818532111771,1.0839292019774009,"WS","2006Uber CupSemi Final","Pai M J-De Wit"]
[null,null,null,null,null,null,null,"new score",11.026315789473685,0.48892597087378642,0.99156287291169432,"MS",2009,"チェンジン(CHN)-リンダン(CHN)","new score",13.418918918918919,0.57622076792824128,0.79248489425981872,"WD","YONEX OPEN JAPAN2006 WD Final","YANG Wei/ZHANG Jiewen-GAO Ling/HUANG Sui","new score",7.88,0.45588887246933646,0.97874365482233505,"WS","2006Uber CupSemi Final","XIE Xienfan-SCNENK"]
[null,null,null,null,null,null,null,"old score",5.5,0.4464285714285714,null,"MS","ＹＯＪ1980s","Japan","old score",14.306122448979592,0.47890803694036888,0.75190320561400381,"WD","Athens Olympic Games","Zhang Jiewen/Yang Wei-Huang Sui/Gao Ling","new score",7.8407079646017701,0.37953588272207955,1.0346007336343115,"WS","2006Uber Cup Q Final","DE Wit-Kanako Yonekura"]
[null,null,null,null,null,null,null,"old score",5.4,0.625,null,"MS","ＹＯＪ1980s","Japan","old score",16.773809523809526,0.5244209003012501,0.81779312122959535,"WD","2004 Athens Semi Final","Zhang/Yang-RA/LEE","new score",10.796875,0.57353435473718306,1.0610528219971056,"WS","YOJ2006 WS46 R6 Final","シェー・シェンファ-ツァン・ニン"]
[null,null,null,null,null,null,null,"old score",5.74,0.66666666666666663,null,"MS","ＹＯＪ1980s","Japan",null,null,null,null,null,null,null,"new score",11.701492537313433,0.56217724010571601,1.013198541135204,"WS","2011世界選手権","CHENG Shao Chieh(TPE)-WANG Yihan(CHN) "]
[null,null,null,null,null,null,null,"old score",6.27,0.72992700729927007,null,"MS","ＹＯＪ1980s","Japan",null,null,null,null,null,null,null,"old score",5.9333333333333336,0.55062917647852261,1.0750307233146068,"WS","YONEX JAPAN 2004 final","ZHANG-GONG"]
[null,null,null,null,null,null,null,"old score",5.93,0.74626865671641784,null,"MS","ＹＯＪ1980s","Japan",null,null,null,null,null,null,null,"new score",null,null,null,"WS","YOJ2006 WS1 R1","米倉加奈子-ソラジャ・チャンスクマコット"]
[null,null,null,null,null,null,null,"old score",6.33,0.61349693251533743,null,"MS","ＹＯＪ1980s","Japan",null,null,null,null,null,null,null,"new score",null,null,null,"WS","YOJ2006 WS21 R1","平山　優-ウォン・ミューチュー"]
[null,null,null,null,null,null,null,"old score",6.67,0.71942446043165476,null,"MS","ＹＯＪ1980s","Japan",null,null,null,null,null,null,null,"new score",null,null,null,"WS","YOJ2006 WS22 R2","廣瀬栄理子-ズー・リン"]
[null,null,null,null,null,null,null,"old score",8.1,0.71399999999999997,null,"MS","ＹＯＪ1980s","Japan",null,null,null,null,null,null,null,"new score",null,null,null,"WS","YOJ2006 WS37 R3","Wang Chen-HOLHENS Susan"]
[null,null,null,null,null,null,null,"old score",7.4,0.66666666666666663,null,"MS","ＹＯＪ1980s","Japan",null,null,null,null,null,null,null,"new score",null,null,null,"WS","YOJ2006 WS44 R5","Zhan Ning-Zoo Lin"]
[null,null,null,null,null,null,null,"old score",9.1,0.74626865671641784,null,"MS","ＹＯＪ1980s","Japan"]
[null,null,null,null,null,null,null,"old score",6.7,0.3859545264864736,null,"MS","ＹＯＪ1980s","Japan"]
[null,null,null,null,null,null,null,"old score",5.87,0.58823529411764697,null,"MS","ＹＯＪ1980s","外国選手"]
[null,null,null,null,null,null,null,"old score",6.73,0.70422535211267612,null,"MS","ＹＯＪ1980s","外国選手"]
[null,null,null,null,null,null,null,"old score",7.7,0.57471264367816088,null,"MS","ＹＯＪ1980s","外国選手"]
[null,null,null,null,null,null,null,"old score",7.7,0.7142857142857143,null,"MS","ＹＯＪ1980s","外国選手"]
[null,null,null,null,null,null,null,"old score",8.1999999999999993,0.83333333333333337,null,"MS","ＹＯＪ1980s","外国選手"]
[null,null,null,null,null,null,null,"old score",7.7,1.1111111111111112,null,"MS","ＹＯＪ1980s","外国選手"]
[null,null,null,null,null,null,null,"old score",8.6,0.88495575221238942,null,"MS","ＹＯＪ1980s","外国選手"]
[null,null,null,null,null,null,null,"old score",9.1,0.625,null,"MS","ＹＯＪ1980s","外国選手"]
[null,null,null,null,null,null,null,"old score",9.4,0.66666666666666663,null,"MS","ＹＯＪ1980s","外国選手"]
[null,null,null,null,null,null,null,"old score",10.1,0.76923076923076916,null,"MS","ＹＯＪ1980s","外国選手"]
[null,null,null,null,null,null,null,"old score",10,0.90909090909090906,null,"MS","ＹＯＪ1980s","外国選手"]
[null,null,null,null,null,null,null,"old score",10.3,0.970873786407767,null,"MS","ＹＯＪ1980s","外国選手"]
[null,null,null,null,null,null,null,"old score",9.3000000000000007,1.1111111111111112,null,"MS","ＹＯＪ1980s","外国選手"]
[null,null,null,null,null,null,null,"old score",9.6999999999999993,1.1111111111111112,null,"MS","ＹＯＪ1980s","外国選手"]
[null,null,null,null,null,null,null,"old score",7.2,0.75757575757575757,null,"MS","ＹＯＪ1980s","外国選手"]
[null,null,null,null,null,null,null,"old score",7.8163265306122449,0.35191715708699106,null,"MS","ＹＯＪ1980s","外国選手"]
[null,null,null,null,null,null,null,"old score",8.1975308641975317,0.31979965618678041,null,"MS","ＹＯＪ1980s","外国選手"]
[null,null,null,null,null,null,null,"old score",8.8461538461538467,0.3837037112358922,null,"MS","ＹＯＪ1980s","外国選手"]
[null,null,null,null,null,null,null,"old score",8.4125874125874134,0.33610860518336816,null,"MS","ＹＯＪ1980s","外国選手"]
[null,null,null,null,null,null,null,"old score",9.15,0.46643519230247515,null,"MS","ＹＯＪ1980s","外国選手"]
[null,null,null,null,null,null,null,"old score",9.4659090909090917,0.47748513891474043,null,"MS","Taufic","外国選手"]
[null,null,null,null,null,null,null,"old score",8.2234042553191493,0.34672468840905329,0.92606423835705043,"MS","2004  Thomas Cup in Indonasia","Santoso Simon-Rasmussen Jonas"]
[null,null,null,null,null,null,null,"old score",9.408163265306122,0.44376575658424072,0.94637326718411074,"MS","2004 Olympic Game","Ponsana-Taufik"]
[null,null,null,null,null,null,null,"old score",8.4660194174757279,0.33899288026546098,0.8988037109375,"MS","Quarter Fainal Athees2004","Taufik Hidayat-Peter Gade"]
[null,null,null,null,null,null,null,"old score",7.2586206896551726,0.29543754970582065,0.88679334916864594,"MS","Sudirman Cup 2001in Seville,Spain","Gade-Chen"]
[null,null,null,null,null,null,null,"old score",7.8163265306122449,0.35924876452630339,0.86894174281984338,"MS","All England Championships 2000","Taufik Hidayat-Xia Xuanze"]
[null,null,null,null,null,null,null,"old score",8.8461538461538467,0.39232626654456398,0.99577348602484461,"MS","YOJ2004 3rd round","Peter Gade Christensen-Xia Xuanze"]
[null,null,null,null,null,null,null,"old score",8.4125874125874134,0.34331093243729749,0.92893092788861165,"MS","YonexOpen Japan 2004 Quarter Finals","Lin Dan-Peter Gade Christensen"]
[null,null,null,null,null,null,null,"old score",9.15,0.47595427785966848,0.89876195355191257,"MS","YOJ2004 Final","BAO Chunlai-SUSILO"]
[null,null,null,null,null,null,null,"old score",9.4659090909090917,0.48858944447089714,1.0104995123049219,"MS","YOJ2004 Quarte Finals","BAO Chunlai-HASHIM Roslin"]
[null,null,null,null,null,null,null,"old score",8.1975308641975317,0.32583361196388949,0.94593608810240948,"MS","YOJ2004 Quarter Final","CHEN Hong-PARK Tae Sang"]